BEGIN:VCALENDAR
VERSION:2.0
PRODID:-//The British Beauty Council - ECPv6.14.2//NONSGML v1.0//EN
CALSCALE:GREGORIAN
METHOD:PUBLISH
X-ORIGINAL-URL:https://britishbeautycouncil.com
X-WR-CALDESC:Events for The British Beauty Council
REFRESH-INTERVAL;VALUE=DURATION:PT1H
X-Robots-Tag:noindex
X-PUBLISHED-TTL:PT1H
BEGIN:VTIMEZONE
TZID:Europe/London
BEGIN:DAYLIGHT
TZOFFSETFROM:+0000
TZOFFSETTO:+0100
TZNAME:BST
DTSTART:20250330T010000
END:DAYLIGHT
BEGIN:STANDARD
TZOFFSETFROM:+0100
TZOFFSETTO:+0000
TZNAME:GMT
DTSTART:20251026T010000
END:STANDARD
END:VTIMEZONE
BEGIN:VEVENT
DTSTART;TZID=Europe/London:20250723T080000
DTEND;TZID=Europe/London:20250928T170000
DTSTAMP:20260423T174340
CREATED:20250613T140716Z
LAST-MODIFIED:20250613T140716Z
UID:10000487-1753257600-1759078800@britishbeautycouncil.com
SUMMARY:Virtual Beauty at Somerset House
DESCRIPTION:Featuring over 20 international artists\, Virtual Beauty will delve into the influence of artificial intelligence\, social media\, and virtual identities on self-image. \nThe exhibition will feature interactive installations and pioneering works that challenge traditional beauty standards. Highlights include ORLAN’s Omniprésence (1993)\, a groundbreaking performance in which the artist live-streamed her own facial aesthetic surgery to critique Western beauty ideals\, and Amalia Ulman’s Excellences & Perfections\, a powerful commentary on the authenticity of social media personas. Artificial intelligence’s perception of beauty will be examined through AI-generated portraits by Minnie Atairu\, Ben Cullen Williams\, and Isamaya Ffrench\, while Harriet Davey\, Frederik Heyman\, and Andrew Thomas Huang explore digital self-expression and the creation of avatars beyond human boundaries. \nDates: 23rd July – 28th September 2025.  \nFind out more
URL:https://britishbeautycouncil.com/event-details/virtual-beauty-at-somerset-house/
LOCATION:Somerset House\, London\, WC2R 1LA
ATTACH;FMTTYPE=image/png:https://britishbeautycouncil.com/wp-content/uploads/2025/06/Event-page-header-2025-06-13T150603.972.png
END:VEVENT
BEGIN:VEVENT
DTSTART;TZID=Europe/London:20250724T120000
DTEND;TZID=Europe/London:20250826T110000
DTSTAMP:20260423T174340
CREATED:20250703T134516Z
LAST-MODIFIED:20250703T134814Z
UID:10000492-1753358400-1756206000@britishbeautycouncil.com
SUMMARY:Fuel your business growth: Start your business
DESCRIPTION:Are you ready to transform your passion into a thriving business? This six-part series will explore the fundamentals businesses need to consider\, and equip them with the tools and knowledge to kick-start their entrepreneurial journey. \n\n  \nEvents in this series\nThis six-part series will provide budding entrepreneurs with the basics of how to successfully start a business. \n  \n\n\n\n1. Ideas to reality: Understanding the viability of your business: 24 July at 12PM \n2. Introduction to financial terminology: Some definitions to grasp! 29 July at 2:00pm \n3. Customer profiling: Customers and competitors: 5 August at 2:00pm \n4. Planning for success: How to action plan by adopting SMART objectives: 13 August at 12:00pm \n5. Four steps to kick-start your venture: 19 August at 11:00am \n6. From the kitchen table to the world: 26 August at 10:00am \n\n\n\n  \n  \nRegister here
URL:https://britishbeautycouncil.com/event-details/fuel-your-business-growth-start-your-business/
ATTACH;FMTTYPE=image/png:https://britishbeautycouncil.com/wp-content/uploads/2025/07/Event-page-header.png
ORGANIZER;CN="British Beauty Council":MAILTO:joinus@britishbeautycouncil.com
END:VEVENT
BEGIN:VEVENT
DTSTART;TZID=Europe/London:20250804T100000
DTEND;TZID=Europe/London:20250804T110000
DTSTAMP:20260423T174340
CREATED:20250725T151134Z
LAST-MODIFIED:20250725T151134Z
UID:10000504-1754301600-1754305200@britishbeautycouncil.com
SUMMARY:Driving traffic with Search Engine Optimisation (SEO)
DESCRIPTION:Globally\, a third of customers discover new brands and suppliers using search engines\, demonstrating the importance of making sure your brand is at the top of the list when customers are browsing on search engines. Search Engine Optimisation is more powerful than Social Media\, TV\, and print advertising\, for yielding the visibility businesses need to grow their brand\, so maximising the SEO potential of your website should be at the top of your to-do list. \nIn this session you will: \n\nUnderstand key elements of SEO for business growth\nHow to identify and capitalise on opportunities\nHow to avoid risks and half measures of SEO\n\n  \nRegister here
URL:https://britishbeautycouncil.com/event-details/driving-traffic-with-search-engine-optimisation-seo/
ATTACH;FMTTYPE=image/png:https://britishbeautycouncil.com/wp-content/uploads/2025/07/Event-page-header-2-1.png
ORGANIZER;CN="British Beauty Council":MAILTO:joinus@britishbeautycouncil.com
END:VEVENT
BEGIN:VEVENT
DTSTART;TZID=Europe/London:20250806T100000
DTEND;TZID=Europe/London:20250806T110000
DTSTAMP:20260423T174340
CREATED:20250728T110812Z
LAST-MODIFIED:20250728T110848Z
UID:10000505-1754474400-1754478000@britishbeautycouncil.com
SUMMARY:Effective Instagram to fuel your business growth
DESCRIPTION:Did you know that Instagram has over 2 billion monthly active users? \nMore than 200 million businesses are using Instagram to connect with customers\, showcasing its importance and helping it to become one of the most important commercial tools for brands. \nIn this webinar they will give you tips and advice on how you can maximise your reach\, increase engagement and drive conversions\, by ensuring that you have the confidence and the know-how to embed Instagram into your marketing strategy. \nIn this session you will: \n– Understand how to maximise your reach using Instagram\n– Learn best practices for creating and sharing content\n– Explore techniques for optimising Instagram campaigns \n  \nRegister here\n 
URL:https://britishbeautycouncil.com/event-details/effective-instagram-to-fuel-your-business-growth/
ATTACH;FMTTYPE=image/png:https://britishbeautycouncil.com/wp-content/uploads/2025/07/Event-page-header-3-1.png
ORGANIZER;CN="British Beauty Council":MAILTO:joinus@britishbeautycouncil.com
END:VEVENT
BEGIN:VEVENT
DTSTART;TZID=Europe/London:20250812T100000
DTEND;TZID=Europe/London:20250812T110000
DTSTAMP:20260423T174340
CREATED:20250728T111551Z
LAST-MODIFIED:20250728T111551Z
UID:10000506-1754992800-1754996400@britishbeautycouncil.com
SUMMARY:A beginner's guide to digital payment solutions when selling overseas
DESCRIPTION:This webinar is part of the Strategic Horizons in Export: Expanding the female digital frontier series\, helping women entrepreneurs and leaders of small businesses in the digital economy learn how to scale digital businesses globally. It is delivered in partnership with the Department for Business and Trade’s Digital Commerce Team. \nIn the digital economy\, digital payments play a crucial role in facilitating cross-border sales and scaling businesses internationally. In this session\, the UK Export Academy will explore the various digital payment solutions available and how they can be utilised to enhance business operations and customer experiences. \nWhether you’re looking to expand your business globally or optimise your existing payment processes\, this session will provide valuable insights and practical strategies. \nIn this session you will: \n\nLearn about the different digital payment methods and platforms available for international transactions\nDiscover how digital payments can improve customer satisfaction and streamline business operations\nUnderstand how to use exchange rates to take payments\, minimise payment for commission and paying suppliers in their currency\n\nRegister here
URL:https://britishbeautycouncil.com/event-details/a-beginners-guide-to-digital-payment-solutions-when-selling-overseas/
CATEGORIES:business,Insight webinar
ATTACH;FMTTYPE=image/png:https://britishbeautycouncil.com/wp-content/uploads/2025/07/Event-page-header-5.png
ORGANIZER;CN="British Beauty Council":MAILTO:joinus@britishbeautycouncil.com
END:VEVENT
BEGIN:VEVENT
DTSTART;TZID=Europe/London:20250814T120000
DTEND;TZID=Europe/London:20250814T130000
DTSTAMP:20260423T174340
CREATED:20250728T112529Z
LAST-MODIFIED:20250728T112602Z
UID:10000507-1755172800-1755176400@britishbeautycouncil.com
SUMMARY:B2B eCommerce: how to choose your technology stack
DESCRIPTION:Do you know which tech stack to use for your eCommerce sales? If not\, why not join UK Export Academy to discover the key things you need to consider to help inform your decision. \nWhat you’ll learn: \n\nUnderstand the critical factors influencing technology stack decisions\, including scalability\, integration capability\, security\, and user experience\nIdentify core technologies essential for effective B2B eCommerce\, such as CRM systems\, PIM solutions\, ERP integrations\, and analytics platforms\nLearn best practices for ensuring your tech stack supports long-term business goals\, including customer retention\, operational efficiency\, and market competitiveness\n\n  \nWant to know how to make the most of the technology available\, or looking to make decisions on which tech option is best for your eCommerce operations? This webinar will provide you with strategic insights into how to build robust digital eCommerce capabilities that enhance customer experience\, streamline operations\, and ensure scalability for future growth. \n\nRegister here
URL:https://britishbeautycouncil.com/event-details/b2b-ecommerce-how-to-choose-your-technology-stack/
CATEGORIES:business,Insight webinar
ATTACH;FMTTYPE=image/png:https://britishbeautycouncil.com/wp-content/uploads/2025/07/Event-page-header-1-4.png
ORGANIZER;CN="British Beauty Council":MAILTO:joinus@britishbeautycouncil.com
END:VEVENT
BEGIN:VEVENT
DTSTART;TZID=Europe/London:20250828T080000
DTEND;TZID=Europe/London:20250928T170000
DTSTAMP:20260423T174340
CREATED:20250826T092434Z
LAST-MODIFIED:20250826T092434Z
UID:10000512-1756368000-1759078800@britishbeautycouncil.com
SUMMARY:Charlotte Tilbury x John Lewis & Partners: Find Your Flawless Match
DESCRIPTION:To mark the launch of Charlotte Tilbury’s new Airbrush Flawless Foundation\, they’re teaming up with John Lewis & Partners to help you discover your perfect shade. \nJoin the team at three key locations – Oxford Street\, Cheadle\, and Nottingham – for an exclusive pop-up experience featuring their shade-match photo booth and a foundation vending machine where you can take home your ideal match for free. \nStep inside\, snap a photo\, get matched\, and leave with a complimentary foundation sample.And for an added surprise\, look out for a Golden Ticket at each location for the chance to win extra Charlotte Tilbury treats. \nTour DatesOxford Street: 28–30 AugustCheadle: 5–6 SeptemberNottingham: 27–28 September
URL:https://britishbeautycouncil.com/event-details/charlotte-tilbury-x-john-lewis-partners-find-your-flawless-match/
ATTACH;FMTTYPE=image/png:https://britishbeautycouncil.com/wp-content/uploads/2025/08/Event-page-header-1-1-scaled.png
ORGANIZER;CN="British Beauty Council":MAILTO:joinus@britishbeautycouncil.com
END:VEVENT
BEGIN:VEVENT
DTSTART;TZID=Europe/London:20250828T110000
DTEND;TZID=Europe/London:20251223T200000
DTSTAMP:20260423T174340
CREATED:20250820T110336Z
LAST-MODIFIED:20250820T110509Z
UID:10000509-1756378800-1766520000@britishbeautycouncil.com
SUMMARY:VIEVE Glasgow Store
DESCRIPTION:The VIEVE Glasgow Store is back for a fifth year running – but this year\, it’s even bigger than ever and open for almost four months! \nSituated in the heart of Glasgow’s city centre\, located on the Buchanan Street entrance of Buchanan Galleries\, the store will showcase the brand’s complete collection of cosmetics – including bestsellers such as Skin Nova\, Modern Mascara\, Sunset Blush Balm\, and Lip Dew. \nVisitors can also expect an immersive\, community-focused space\, with an evolving programme of events and interactive experiences\, including exclusive masterclasses with founder Jamie Genevieve\, can’t-get-them-anywhere products\, and special collaborations and gifts from friends of VIEVE and local businesses. \nMarking its fifth consecutive year in Glasgow\, VIEVE’s latest pop-up at Buchanan Galleries. will officially open on 28th August until 23rd December 2025. \n  \n\nLOCATION\n220 Buchanan Street\nGlasgow\nG1 2GF \nOPENING TIMES\nMonday: 11am – 6pm\nTuesday: 11am – 6pm\nWednesday: 11am – 6pm\nThursday: 11am – 8pm\nFriday: 11am – 7pm\nSaturday: 11am – 7pm\nSunday: 12pm – 5pm \n\n  \nJAMIE’S MASTERCLASSES: DETAILS DROPPING SOON…
URL:https://britishbeautycouncil.com/event-details/vieve-glasgow-store/
LOCATION:G1 2GF\, 220 Buchanan Street\, Glasgow\, G1 2GF
ATTACH;FMTTYPE=image/png:https://britishbeautycouncil.com/wp-content/uploads/2025/08/Event-page-header-1-scaled.png
ORGANIZER;CN="British Beauty Council":MAILTO:joinus@britishbeautycouncil.com
END:VEVENT
END:VCALENDAR