BEGIN:VCALENDAR
VERSION:2.0
PRODID:-//The British Beauty Council - ECPv6.14.2//NONSGML v1.0//EN
CALSCALE:GREGORIAN
METHOD:PUBLISH
X-WR-CALNAME:The British Beauty Council
X-ORIGINAL-URL:https://britishbeautycouncil.com
X-WR-CALDESC:Events for The British Beauty Council
REFRESH-INTERVAL;VALUE=DURATION:PT1H
X-Robots-Tag:noindex
X-PUBLISHED-TTL:PT1H
BEGIN:VTIMEZONE
TZID:Europe/London
BEGIN:DAYLIGHT
TZOFFSETFROM:+0000
TZOFFSETTO:+0100
TZNAME:BST
DTSTART:20250330T010000
END:DAYLIGHT
BEGIN:STANDARD
TZOFFSETFROM:+0100
TZOFFSETTO:+0000
TZNAME:GMT
DTSTART:20251026T010000
END:STANDARD
END:VTIMEZONE
BEGIN:VEVENT
DTSTART;TZID=Europe/London:20250402T140000
DTEND;TZID=Europe/London:20250514T150000
DTSTAMP:20260422T173601
CREATED:20250425T120444Z
LAST-MODIFIED:20250425T120746Z
UID:10000476-1743602400-1747234800@britishbeautycouncil.com
SUMMARY:Gateway USA: Your Gateway to US Market Success
DESCRIPTION:Gateway USA is a UK Export Academy webinar series designed to help businesses gain the knowledge and tools to succeed in the US market. Whether expanding for the first time or looking to optimise US operations\, Gateway USA provides expert insights. \nAccess the full series here: Gateway USA  \n \n  \nCurious about US Tariffs? \nJoin them on Monday 28 April\, at 2pm for a focused session designed to help businesses understand and navigate the evolving landscape of US tariffs – and what it means for trading with the United States. \nIn this session\, they’ll cover: \n\nThe latest developments in US tariff policies\nHow these changes could affect UK businesses\nThe impact of Rules of Origin on tariff rates and compliance\n\nSign up here: US Tariffs
URL:https://britishbeautycouncil.com/event-details/gateway-usa-your-gateway-to-us-market-success/
ATTACH;FMTTYPE=image/png:https://britishbeautycouncil.com/wp-content/uploads/2025/04/6.png
ORGANIZER;CN="British Beauty Council":MAILTO:joinus@britishbeautycouncil.com
END:VEVENT
BEGIN:VEVENT
DTSTART;VALUE=DATE:20250428
DTEND;VALUE=DATE:20250505
DTSTAMP:20260422T173601
CREATED:20241204T105905Z
LAST-MODIFIED:20241204T105905Z
UID:10000422-1745798400-1746403199@britishbeautycouncil.com
SUMMARY:CEW Tech Summit 2025
DESCRIPTION:Each session will feature industry experts presenting and discussing topics to support the growth and innovation of your business. With sessions tailored to address the challenges and opportunities shaping the beauty industry\, the CEW Beauty Tech Summit promises to showcase the latest in beauty innovation\, expertise and technology. \nFrom navigating the cookie-less future of customer communication to harnessing the potential of AI in beauty businesses\, and building successful brands in the creator economy\, our expert speakers and panellists will guide you through the latest trends and innovations. \nDate to be confirmed. \n  \nFind out more
URL:https://britishbeautycouncil.com/event-details/cew-tech-summit-2025/
ATTACH;FMTTYPE=image/png:https://britishbeautycouncil.com/wp-content/uploads/2024/12/event-page-header-94.png
ORGANIZER;CN="British Beauty Council":MAILTO:joinus@britishbeautycouncil.com
END:VEVENT
BEGIN:VEVENT
DTSTART;TZID=Europe/London:20250504T190000
DTEND;TZID=Europe/London:20250504T200000
DTSTAMP:20260422T173601
CREATED:20250422T094011Z
LAST-MODIFIED:20250422T094527Z
UID:10000474-1746385200-1746388800@britishbeautycouncil.com
SUMMARY:V-METICS Art Class
DESCRIPTION:Exclusive First Play: V-METICS Livestream Art Class with Dr. Alex Box \nBe among the first to experience V-METICS — cutting-edge virtual cosmetics software that lets you design and share makeup looks on digital avatars using real-world products and techniques. \nJoin for a live\, interactive art class led by the legendary Dr. Alex Box\, alongside the V-METICS creative community. This is your chance to explore the software hands-on\, provide your feedback\, and help shape the future of virtual beauty. \nDate: Sunday\, 4 MayTime: 7PM GMT / 3PM EST / 12PM PSTRequirements: Laptop\, PC\, or MacBookSeats: 100 availableRegistration Fee: £10 / $13 \n\n\n\n👉 Reserve your spot here.
URL:https://britishbeautycouncil.com/event-details/v-metics-art-class/
ATTACH;FMTTYPE=image/png:https://britishbeautycouncil.com/wp-content/uploads/2025/04/Event-page-header-1-1.png
ORGANIZER;CN="British Beauty Council":MAILTO:joinus@britishbeautycouncil.com
END:VEVENT
BEGIN:VEVENT
DTSTART;TZID=Europe/London:20250508T123000
DTEND;TZID=Europe/London:20250508T170000
DTSTAMP:20260422T173601
CREATED:20250417T142206Z
LAST-MODIFIED:20250417T142401Z
UID:10000473-1746707400-1746723600@britishbeautycouncil.com
SUMMARY:Pure Beauty Global Awards 2025
DESCRIPTION:The Pure Beauty Global Awards are back for 2025—bigger\, bolder\, and more inclusive than ever before. As a globally recognised fixture in the beauty industry calendar\, the awards shine a spotlight on the most innovative and outstanding products from around the world\, welcoming entries from both emerging and established brands. \nWith nearly 500 product submissions this year\, the competition has reached new heights. From next-gen ingredients and groundbreaking formulations to sustainable packaging and visionary branding\, this year’s entries reflect the unstoppable creativity and evolution of the beauty world \nThey are beyond excited to unveil the 2025 finalists—a lineup that represents the very best across the beauty spectrum. Audiences are invited to discover this year’s trailblazers ahead of the winners being crowned at the prestigious ceremony on 8 May. \nWinners are chosen by the Pure Beauty editorial team alongside a panel of industry experts\, ensuring every decision reflects true beauty innovation and consumer relevance. \n\n  \nView the finalists here and get your ticket here.
URL:https://britishbeautycouncil.com/event-details/pure-beauty-global-awards-2025/
LOCATION:The Waldorf\, Aldwych\, London
ATTACH;FMTTYPE=image/png:https://britishbeautycouncil.com/wp-content/uploads/2025/04/Event-page-header-3.png
ORGANIZER;CN="British Beauty Council":MAILTO:joinus@britishbeautycouncil.com
END:VEVENT
BEGIN:VEVENT
DTSTART;TZID=Europe/London:20250508T180000
DTEND;TZID=Europe/London:20250508T223000
DTSTAMP:20260422T173601
CREATED:20241205T092117Z
LAST-MODIFIED:20241205T092117Z
UID:10000442-1746727200-1746743400@britishbeautycouncil.com
SUMMARY:The Fragrance Foundation UK Awards
DESCRIPTION:Established in the UK in 1992 The Fragrance Foundation UK Awards recognise excellence within the Fragrance arena and are known as the Oscars of the Fragrance Industry. The Awards Ceremony is held annually at The Brewery in the City of London and is attended by over 550 industry guests and celebrities including: Arlene Phillips\, Julien Macdonald\, Kim Kardashian\, Natasha Kaplinsky\, Paris Hilton and Richard E Grant.With live performances from Alesha Dixon\, Blue\, Boyzlife and Sophie Ellis-Bextor. Coverage of the awards is supported by the whole fragrance industry including press and retailer outlets engaging with consumers through advertising and promotional sites in store. \n  \n  \nFind out more
URL:https://britishbeautycouncil.com/event-details/the-fragrance-foundation-uk-awards/
LOCATION:The Brewery\, 52 Chiswell Street\, EC1Y 4SA\, United Kingdom
ATTACH;FMTTYPE=image/png:https://britishbeautycouncil.com/wp-content/uploads/2024/12/event-page-header-2024-12-05t092037.108.png
ORGANIZER;CN="British Beauty Council":MAILTO:joinus@britishbeautycouncil.com
END:VEVENT
BEGIN:VEVENT
DTSTART;VALUE=DATE:20250512
DTEND;VALUE=DATE:20250514
DTSTAMP:20260422T173601
CREATED:20241204T110348Z
LAST-MODIFIED:20241204T110348Z
UID:10000423-1747008000-1747180799@britishbeautycouncil.com
SUMMARY:Natural & Organic Products Expo
DESCRIPTION:Since 1997\, NOPEX has been your unmissable event for everything natural and organic\, spanning food & drink\, living\, health\, nutrition\, beauty\, and beyond. \nA hub for discovery\, NOPEX attracts buyers from retail\, hospitality\, manufacturing\, import & export\, distribution and wholesale sectors. \nIf you’re seeking fresh product inspiration or want to stay ahead of the latest trends and gain insights from industry leaders\, you’ll find everything you’re looking for at NOPEX. \n  \nFind out more
URL:https://britishbeautycouncil.com/event-details/natural-organic-products-expo/
LOCATION:ExCel London\, 1 Western Gateway\, Royal Victoria Dock\, London\, E16 1XL
ATTACH;FMTTYPE=image/png:https://britishbeautycouncil.com/wp-content/uploads/2024/12/event-page-header-95.png
ORGANIZER;CN="British Beauty Council":MAILTO:joinus@britishbeautycouncil.com
END:VEVENT
BEGIN:VEVENT
DTSTART;TZID=Europe/London:20250512T090000
DTEND;TZID=Europe/London:20250512T120000
DTSTAMP:20260422T173601
CREATED:20241204T102132Z
LAST-MODIFIED:20250402T100623Z
UID:10000418-1747040400-1747051200@britishbeautycouncil.com
SUMMARY:By Invitation Only: THINK TANK 2025
DESCRIPTION:As the Council launches its three year roadmap\, the British Beauty Council welcomes its stakeholders to collaborate on its upcoming activity. \nFollowing a presentation from leading data insight organisations\, we invite our stakeholders to collaborate and share expertise to propel the Council’s future initiatives. \nBy Invitation Only
URL:https://britishbeautycouncil.com/event-details/think-tank-2025/
ATTACH;FMTTYPE=image/png:https://britishbeautycouncil.com/wp-content/uploads/2024/12/event-page-header-2024-12-04t173537.946.png
ORGANIZER;CN="British Beauty Council":MAILTO:joinus@britishbeautycouncil.com
END:VEVENT
BEGIN:VEVENT
DTSTART;TZID=Europe/London:20250513T110000
DTEND;TZID=Europe/London:20250513T120000
DTSTAMP:20260422T173601
CREATED:20250408T100403Z
LAST-MODIFIED:20250408T100403Z
UID:10000470-1747134000-1747137600@britishbeautycouncil.com
SUMMARY:Top tips on how to sell your beauty products to the world
DESCRIPTION:The demand for beauty products across the world is growing. Selling your beauty products to overseas customers can help you increase your profits and also grow your brand on a global platform. \nFaye Speedie\, Founder of Beauty Bulb\, will take you through how her team have become experts in sales growth\, sales strategy\, new business development and international expansion. \nAlongside Faye\, will be Alethea Warburton\, International Trade Adviser\, and Vincenzo Gallone\, International Trade Adviser\, leading on the Consumer and Retail Sector\, who will provide their insights on how the Department for Business and Trade can help you increase your sales\, growth and stability when trading overseas. \nWhat you’ll learn \n\nIncrease your knowledge and awareness of exporting beauty products\nHow to access key contacts that may be able to help you\nThe growth opportunities for your beauty business in overseas markets\n\n  \nSign up here
URL:https://britishbeautycouncil.com/event-details/top-tips-on-how-to-sell-your-beauty-products-to-the-world/
CATEGORIES:business
ATTACH;FMTTYPE=image/png:https://britishbeautycouncil.com/wp-content/uploads/2025/04/Event-page-header.png
ORGANIZER;CN="British Beauty Council":MAILTO:joinus@britishbeautycouncil.com
END:VEVENT
BEGIN:VEVENT
DTSTART;TZID=Europe/London:20250515T140000
DTEND;TZID=Europe/London:20250515T150000
DTSTAMP:20260422T173601
CREATED:20250425T114808Z
LAST-MODIFIED:20250425T115143Z
UID:10000475-1747317600-1747321200@britishbeautycouncil.com
SUMMARY:Managing agents and distributors: identifying and appointing effective overseas partners
DESCRIPTION:This webinar is aimed to help companies understand how to source international contracts\, learn the different routes to markets\, establish overseas contacts\, and explore the benefits of working with agents and distributors. \nLed by International Trade Adviser Simon Bedford\, this session will guide you through the key steps of expanding your business abroad. Simon will share practical insights on how to negotiate terms and effectively manage relationships with new agents or distributors. \nWhat you’ll learn: \n\nHow to find useful contacts overseas\nThe benefits of working with a local partner\nHow to choose your ideal agent or distributor and when to appoint them\nWhat role does a partner have in improving your international business\nHow to keep your partners focused and motivated on your objectives\n\n\nSign up here\n  \nSimon will also be running a second session on managing agents and distributors on Thursday 22 May at 2:00PM. In this session\, he’ll explore how to build a long term relationship with overseas partners.
URL:https://britishbeautycouncil.com/event-details/managing-agents-and-distributors-identifying-and-appointing-effective-overseas-partners/
ATTACH;FMTTYPE=image/png:https://britishbeautycouncil.com/wp-content/uploads/2025/04/5.png
ORGANIZER;CN="British Beauty Council":MAILTO:joinus@britishbeautycouncil.com
END:VEVENT
BEGIN:VEVENT
DTSTART;TZID=Europe/London:20250517T093000
DTEND;TZID=Europe/London:20250517T170000
DTSTAMP:20260422T173601
CREATED:20250414T115106Z
LAST-MODIFIED:20250414T115653Z
UID:10000471-1747474200-1747501200@britishbeautycouncil.com
SUMMARY:Barnes Fragrance Fair 2025
DESCRIPTION:Saturday\, 17th May | Barnes Green Centre | Free Entry \nStep into a world of scent at the Barnes Fragrance Fair 2025\, returning this May with a celebration of the UK’s finest independent fragrance brands. Explore over 24 unique perfumers and artisans\, each offering their signature creations—from perfumes to candles\, skincare to home scents. \nWander through a space filled with immersive scent experiences\, discover new favourites\, and meet the makers behind the brands. The fair also features a line-up of inspiring talks\, hands-on workshops\, and guided scent walks\, all designed to deepen your appreciation of fragrance and its role in our daily lives. \nEntry is free\, with tickets for Talks\, Walks\, and Workshops available to book now — Tickets Available HERE.
URL:https://britishbeautycouncil.com/event-details/barnes-fragrance-fair-2025/
LOCATION:Barnes\, London\, SW13 9HE
ATTACH;FMTTYPE=image/png:https://britishbeautycouncil.com/wp-content/uploads/2025/04/Event-page-header-1.png
END:VEVENT
BEGIN:VEVENT
DTSTART;TZID=Europe/London:20250518T100000
DTEND;TZID=Europe/London:20250519T163000
DTSTAMP:20260422T173601
CREATED:20250217T113029Z
LAST-MODIFIED:20250217T113029Z
UID:10000456-1747562400-1747672200@britishbeautycouncil.com
SUMMARY:Colour World Genius Awards 2025
DESCRIPTION:Colour World UK is a 2-day gathering for colourists in the hairdressing industry. Come to immerse yourself in colour as a professional working in a salon or independently. There will be plenty of independent colourists to present demos live and deliver seminars. \n  \nFind out more and buy tickets
URL:https://britishbeautycouncil.com/event-details/colour-world-genius-awards-2025/
ATTACH;FMTTYPE=image/png:https://britishbeautycouncil.com/wp-content/uploads/2025/02/Event-page-header-2.png
ORGANIZER;CN="British Beauty Council":MAILTO:joinus@britishbeautycouncil.com
END:VEVENT
BEGIN:VEVENT
DTSTART;TZID=Europe/London:20250521T090000
DTEND;TZID=Europe/London:20250521T180000
DTSTAMP:20260422T173601
CREATED:20250416T085742Z
LAST-MODIFIED:20250416T085742Z
UID:10000472-1747818000-1747850400@britishbeautycouncil.com
SUMMARY:The Future Face of Beauty: Science\, Innovation\, Identity\, Ethics
DESCRIPTION:Explore the evolving role of beauty in society at The Future Face of Beauty\, a one-of-a-kind symposium hosted at London College of Fashion’s innovative new space in East Bank\, Stratford. Designed for collaboration\, creativity\, and future-thinking\, this event will spotlight how beauty intersects with science\, technology\, ethics\, and identity. \nThis unique event brings together key voices from across academia and industry\, including Professor Philippa Diedrich\, Professor Paul Matts\, and Sharmadean Reid MBE\, who will frame the day with keynote addresses that shape the conversations to follow. \nThey’ll delve into timely topics such as The Social Purpose of Beauty\, Age Well\, and Digital Self. With insights from industry-led campaigns\, emerging student work and collaborative projects\, the symposium aims to reflect the future of beauty at the intersection of academia and real-world practice. \nThis event is open to students\, academics\, industry professionals\, and businesses. \nDate: Wednesday\, May 21\, 2025\nTime: 9:00 AM – 6:00 PM\nLocation: London College of Fashion\, East Bank\, Stratford \nReserve your spot here.\n 
URL:https://britishbeautycouncil.com/event-details/the-future-face-of-beauty-science-innovation-identity-ethics/
LOCATION:London College of Fashion\, East Bank\, Stratford
ATTACH;FMTTYPE=image/png:https://britishbeautycouncil.com/wp-content/uploads/2025/04/Event-page-header-2.png
ORGANIZER;CN="British Beauty Council":MAILTO:joinus@britishbeautycouncil.com
END:VEVENT
END:VCALENDAR