BEGIN:VCALENDAR
VERSION:2.0
PRODID:-//The British Beauty Council - ECPv6.14.2//NONSGML v1.0//EN
CALSCALE:GREGORIAN
METHOD:PUBLISH
X-ORIGINAL-URL:https://britishbeautycouncil.com
X-WR-CALDESC:Events for The British Beauty Council
REFRESH-INTERVAL;VALUE=DURATION:PT1H
X-Robots-Tag:noindex
X-PUBLISHED-TTL:PT1H
BEGIN:VTIMEZONE
TZID:Europe/London
BEGIN:DAYLIGHT
TZOFFSETFROM:+0000
TZOFFSETTO:+0100
TZNAME:BST
DTSTART:20250330T010000
END:DAYLIGHT
BEGIN:STANDARD
TZOFFSETFROM:+0100
TZOFFSETTO:+0000
TZNAME:GMT
DTSTART:20251026T010000
END:STANDARD
END:VTIMEZONE
BEGIN:VEVENT
DTSTART;TZID=Europe/London:20250401T090000
DTEND;TZID=Europe/London:20250401T100000
DTSTAMP:20260422T204745
CREATED:20250328T162837Z
LAST-MODIFIED:20250328T163042Z
UID:10000469-1743498000-1743501600@britishbeautycouncil.com
SUMMARY:British Beauty Council X WGSN: Beauty Personas 2027
DESCRIPTION:Join WGSN’s Senior Beauty Strategist\, Pia Fisher\, and VP of Content\, Clare Varga\, as they unveil the four pivotal beauty personas anticipated to shape the beauty industry in 2027 and beyond. Attend this exclusive webinar to gain insights into how to tailor your strategies to meet the specific needs\, values\, and behaviours of future beauty consumers\, ensuring your relevance in a constantly evolving industry. \n  \nSign Up Here
URL:https://britishbeautycouncil.com/event-details/british-beauty-council-x-wgsn-beauty-personas-2027/
ATTACH;FMTTYPE=image/png:https://britishbeautycouncil.com/wp-content/uploads/2023/09/Event-page-header-1.png
END:VEVENT
BEGIN:VEVENT
DTSTART;TZID=Europe/London:20250402T140000
DTEND;TZID=Europe/London:20250514T150000
DTSTAMP:20260422T204745
CREATED:20250425T120444Z
LAST-MODIFIED:20250425T120746Z
UID:10000476-1743602400-1747234800@britishbeautycouncil.com
SUMMARY:Gateway USA: Your Gateway to US Market Success
DESCRIPTION:Gateway USA is a UK Export Academy webinar series designed to help businesses gain the knowledge and tools to succeed in the US market. Whether expanding for the first time or looking to optimise US operations\, Gateway USA provides expert insights. \nAccess the full series here: Gateway USA  \n \n  \nCurious about US Tariffs? \nJoin them on Monday 28 April\, at 2pm for a focused session designed to help businesses understand and navigate the evolving landscape of US tariffs – and what it means for trading with the United States. \nIn this session\, they’ll cover: \n\nThe latest developments in US tariff policies\nHow these changes could affect UK businesses\nThe impact of Rules of Origin on tariff rates and compliance\n\nSign up here: US Tariffs
URL:https://britishbeautycouncil.com/event-details/gateway-usa-your-gateway-to-us-market-success/
ATTACH;FMTTYPE=image/png:https://britishbeautycouncil.com/wp-content/uploads/2025/04/6.png
ORGANIZER;CN="British Beauty Council":MAILTO:joinus@britishbeautycouncil.com
END:VEVENT
BEGIN:VEVENT
DTSTART;TZID=Europe/London:20250402T180000
DTEND;TZID=Europe/London:20250402T223000
DTSTAMP:20260422T204745
CREATED:20241204T160237Z
LAST-MODIFIED:20241204T161454Z
UID:10000439-1743616800-1743633000@britishbeautycouncil.com
SUMMARY:BeautyMatter FUTURE50 Dinner
DESCRIPTION:An intimate evening limited to a select guest list of brands\, investors\, and leaders curated by the BeautyMatter team\, The F50 Dinner is a time for one-on-one conversation and thoughtful introductions on the evening prior to the day of the event. It will feature a lively cocktail hour and seated dinner with special menus commissioned to create a memorable evening filled with culinary experiences and excellent conversation. \nThe dinner is a separate ticketed event and not included as part of the main event ticket. \n  \n  \nFind out more
URL:https://britishbeautycouncil.com/event-details/beautymatter-future50-dinner/
ATTACH;FMTTYPE=image/png:https://britishbeautycouncil.com/wp-content/uploads/2024/12/event-page-header-92.png
ORGANIZER;CN="British Beauty Council":MAILTO:joinus@britishbeautycouncil.com
END:VEVENT
BEGIN:VEVENT
DTSTART;VALUE=DATE:20250403
DTEND;VALUE=DATE:20250404
DTSTAMP:20260422T204745
CREATED:20241204T104511Z
LAST-MODIFIED:20241204T160410Z
UID:10000420-1743638400-1743724799@britishbeautycouncil.com
SUMMARY:BeautyMatter FUTURE50 Summit
DESCRIPTION:FUTURE50 brings together a high-promise collection of the brands to know and watch as they define the beauty landscape today and tomorrow. Selected by the insights and editorial team at BeautyMatter\, FUTURE50 brands are the new trailblazers shaping the future of beauty. \nFUTURE50 connects these brands with smart money\, outstanding technologies and platforms\, state-of-the-art suppliers\, and strategic partners with the goal of opening pathways to next stage expansion. \nWith a thoughtful blend of intimate networking opportunities\, content critical to understanding the marketplace today\, and direct connections designed to take brands and stakeholders to the next level\, FUTURE50 will be a dynamic gathering and catalyst that imagines what is to come and concretizes the future. \n  \nFind out more
URL:https://britishbeautycouncil.com/event-details/beautymatter-future50-summit/
LOCATION:New York
ATTACH;FMTTYPE=image/png:https://britishbeautycouncil.com/wp-content/uploads/2024/12/event-page-header-2024-12-04t160227.012.png
ORGANIZER;CN="British Beauty Council":MAILTO:joinus@britishbeautycouncil.com
END:VEVENT
BEGIN:VEVENT
DTSTART;VALUE=DATE:20250408
DTEND;VALUE=DATE:20250411
DTSTAMP:20260422T204745
CREATED:20241204T105020Z
LAST-MODIFIED:20241204T143411Z
UID:10000421-1744070400-1744329599@britishbeautycouncil.com
SUMMARY:Cosmetics Global: Cosmetic Ingredients Trade Show
DESCRIPTION:in-cosmetics Global unites the global cosmetics industry to connect\, inspire\, share insights\, and spark new collaborations. \nAs the world’s premier launchpad for new ingredient innovations\, in-cosmetics Global brings together beauty creators from around the globe to drive the personal care industry forward with products that captivate consumers. Celebrating excellence in ingredient innovation\, the event offers top-tier education on cutting-edge science and trends. \nWhether you’re a personal care creator or an exhibiting supplier of ingredients\, fragrances\, lab equipment\, testing\, or regulatory solutions\, in-cosmetics Global has something for everyone. Join us to discover fresh ideas and developments\, unlocking new consumer experiences in an ever-evolving world. \n\n  \nFind out more
URL:https://britishbeautycouncil.com/event-details/cosmetics-global-cosmetic-ingredients-trade-show/
LOCATION:RAI Amsterdam\, Europaplein 24\, Amsterdam\, 1078 GZ\, Netherlands
ATTACH;FMTTYPE=image/png:https://britishbeautycouncil.com/wp-content/uploads/2024/12/event-page-header-93.png
ORGANIZER;CN="British Beauty Council":MAILTO:joinus@britishbeautycouncil.com
END:VEVENT
BEGIN:VEVENT
DTSTART;TZID=Europe/London:20250410T140000
DTEND;TZID=Europe/London:20250410T143000
DTSTAMP:20260422T204745
CREATED:20250213T101720Z
LAST-MODIFIED:20250213T101720Z
UID:10000455-1744293600-1744295400@britishbeautycouncil.com
SUMMARY:Sustainable Compliance Powered by AI
DESCRIPTION:This presentation explores how AI is revolutionizing sustainable compliance in the beauty industry. We’ll delve into key benefits like real-time regulatory monitoring\, AI-powered ingredient risk assessment\, and enhanced supply chain transparency. \n  \nFind out more
URL:https://britishbeautycouncil.com/event-details/sustainable-compliance-powered-by-ai/
LOCATION:Testing and Regulatory Sessions: Sustainability Forum Theatre\, Hall 11\, 11C30
ATTACH;FMTTYPE=image/png:https://britishbeautycouncil.com/wp-content/uploads/2025/02/Event-page-header-1-1.png
ORGANIZER;CN="British Beauty Council":MAILTO:joinus@britishbeautycouncil.com
END:VEVENT
BEGIN:VEVENT
DTSTART;VALUE=DATE:20250428
DTEND;VALUE=DATE:20250505
DTSTAMP:20260422T204745
CREATED:20241204T105905Z
LAST-MODIFIED:20241204T105905Z
UID:10000422-1745798400-1746403199@britishbeautycouncil.com
SUMMARY:CEW Tech Summit 2025
DESCRIPTION:Each session will feature industry experts presenting and discussing topics to support the growth and innovation of your business. With sessions tailored to address the challenges and opportunities shaping the beauty industry\, the CEW Beauty Tech Summit promises to showcase the latest in beauty innovation\, expertise and technology. \nFrom navigating the cookie-less future of customer communication to harnessing the potential of AI in beauty businesses\, and building successful brands in the creator economy\, our expert speakers and panellists will guide you through the latest trends and innovations. \nDate to be confirmed. \n  \nFind out more
URL:https://britishbeautycouncil.com/event-details/cew-tech-summit-2025/
ATTACH;FMTTYPE=image/png:https://britishbeautycouncil.com/wp-content/uploads/2024/12/event-page-header-94.png
ORGANIZER;CN="British Beauty Council":MAILTO:joinus@britishbeautycouncil.com
END:VEVENT
END:VCALENDAR