BEGIN:VCALENDAR
VERSION:2.0
PRODID:-//The British Beauty Council - ECPv6.14.2//NONSGML v1.0//EN
CALSCALE:GREGORIAN
METHOD:PUBLISH
X-ORIGINAL-URL:https://britishbeautycouncil.com
X-WR-CALDESC:Events for The British Beauty Council
REFRESH-INTERVAL;VALUE=DURATION:PT1H
X-Robots-Tag:noindex
X-PUBLISHED-TTL:PT1H
BEGIN:VTIMEZONE
TZID:Europe/London
BEGIN:DAYLIGHT
TZOFFSETFROM:+0000
TZOFFSETTO:+0100
TZNAME:BST
DTSTART:20240331T010000
END:DAYLIGHT
BEGIN:STANDARD
TZOFFSETFROM:+0100
TZOFFSETTO:+0000
TZNAME:GMT
DTSTART:20241027T010000
END:STANDARD
END:VTIMEZONE
BEGIN:VEVENT
DTSTART;VALUE=DATE:20241105
DTEND;VALUE=DATE:20241106
DTSTAMP:20260424T053006
CREATED:20240710T150125Z
LAST-MODIFIED:20240710T150549Z
UID:10000400-1730764800-1730851199@britishbeautycouncil.com
SUMMARY:The 2024 Inclusion In Awards
DESCRIPTION:These are the most prestigious awards of this kind. Fully dedicated to highlighting the best examples of inclusive practices\, policies and programmes and the individuals whose drive\, passion and commitment contribute to the establishment of inclusive workplaces and make a difference to the millions of people working in the Hospitality\, Travel\, Leisure and Retail industry. \n  \nEvent Details:  \nDate: 5th November 2024 \nLocation: Indigo at the O2\, London
URL:https://britishbeautycouncil.com/event-details/the-2024-inclusion-in-awards/
ATTACH;FMTTYPE=image/png:https://britishbeautycouncil.com/wp-content/uploads/2024/07/capture-decran-le-2024-07-10-a-16.05.05.png
END:VEVENT
BEGIN:VEVENT
DTSTART;VALUE=DATE:20241111
DTEND;VALUE=DATE:20241125
DTSTAMP:20260424T053006
CREATED:20231215T103440Z
LAST-MODIFIED:20240219T154542Z
UID:10000350-1731283200-1732492799@britishbeautycouncil.com
SUMMARY:COP29 (2024 UN Climate Change Conference)
DESCRIPTION:Cop29 will take place in November 2024\, bringing together international delegates and stakeholders from across the globe. The 2024 summit will take place in Azerbaijan\, following Cop28 in Dubai\, with the aim to resolve how nations can attain their environmental targets in line with the Paris agreement. \nEvent Details:  \nDate: 11th-24th November 2024 (tentative)  \nLocation: Azerbaijan \n 
URL:https://britishbeautycouncil.com/event-details/cop29-2024-un-climate-change-conference/
ATTACH;FMTTYPE=image/png:https://britishbeautycouncil.com/wp-content/uploads/2023/12/Event-page-header-2024-01-09T133437.378.png
END:VEVENT
BEGIN:VEVENT
DTSTART;TZID=Europe/London:20241112T140000
DTEND;TZID=Europe/London:20241112T150000
DTSTAMP:20260424T053006
CREATED:20240715T104542Z
LAST-MODIFIED:20240715T104542Z
UID:10000401-1731420000-1731423600@britishbeautycouncil.com
SUMMARY:Department for Business and Trade: Mastering Cosmetic Compliance in India
DESCRIPTION:In this online event from the Department for Business and Trade\, British Beauty Council Patrons GCRA will give you a competitive edge in the booming Indian cosmetics market. \nValued at $8.1 billion in 2023 and is expected to reach $18.4 billion by 2032 (Custom Market Insights)\, the Indian cosmetics industry offers immense opportunities. However\, navigating its complex regulatory framework\, with strict requirements for safety and labelling\, can be challenging. \nThis webinar will be your one-stop guide to navigating the cosmetic compliance in India. Perfect for aspiring market entrants\, this session will provide you with the essential knowledge and resources to avoid costly compliance mistakes and successfully launch your brand in India. \n\nFind out more and sign up here
URL:https://britishbeautycouncil.com/event-details/dbt-compliance-in-india/
CATEGORIES:trade
ATTACH;FMTTYPE=image/png:https://britishbeautycouncil.com/wp-content/uploads/2024/07/event-page-header-78.png
END:VEVENT
BEGIN:VEVENT
DTSTART;TZID=Europe/London:20241112T140000
DTEND;TZID=Europe/London:20241112T150000
DTSTAMP:20260424T053006
CREATED:20241001T164339Z
LAST-MODIFIED:20241031T130604Z
UID:10000406-1731420000-1731423600@britishbeautycouncil.com
SUMMARY:Future Beauty Cohorts 2025/27
DESCRIPTION:How will you capture the attention of the beauty consumer of the future? Join Lisa Payne\, head of Beauty trends at global trends intelligence and consumer insights experts Stylus\, as she unveils the most influential emerging macro- and micro-beauty cohorts. Lisa will pair this insight with commercial opportunities for your business to engage with each consumer cohort via branding\, packaging and marketing strategies. \nEvent details: \nTuesday 12 November\, 2 PM GMT \n  \nRegister here.
URL:https://britishbeautycouncil.com/event-details/future-beauty-cohorts-2025-27/
ATTACH;FMTTYPE=image/jpeg:https://britishbeautycouncil.com/wp-content/uploads/2024/10/stylus_future-beauty-cohorts_webinar-1.jpg
ORGANIZER;CN="British Beauty Council":MAILTO:joinus@britishbeautycouncil.com
END:VEVENT
BEGIN:VEVENT
DTSTART;VALUE=DATE:20241118
DTEND;VALUE=DATE:20241120
DTSTAMP:20260424T053006
CREATED:20240709T142222Z
LAST-MODIFIED:20240709T142417Z
UID:10000398-1731888000-1732060799@britishbeautycouncil.com
SUMMARY:G20 Summit
DESCRIPTION:Brazil will host the G20 leaders’ Summit in Rio de Janeiro. The G20 is formed by the African Union\, the European Union and 19 countries: Argentina\, Australia\, Brazil\, Canada\, China\, Germany\, France\, India\, Indonesia\, Italy\, Japan\, the Republic of Korea\, Mexico\, the Russian Federation\, Saudi Arabia\, South Africa\, Turkey\, the UK\, and the US. \nThe main agenda is discussing ways of dealing with global challenges\, such as finance\, sustainable infrastructure\, and climate change. \n  \nEvent Details:  \nDate: 18-19 November 2024 \nLocation: Brazil\, Rio de Janeiro
URL:https://britishbeautycouncil.com/event-details/g20-leaders-summit/
ATTACH;FMTTYPE=image/png:https://britishbeautycouncil.com/wp-content/uploads/2024/07/g20_brazil.2e16d0ba.fill-1440x900-1.png
END:VEVENT
BEGIN:VEVENT
DTSTART;TZID=Europe/London:20241118T180000
DTEND;TZID=Europe/London:20241118T203000
DTSTAMP:20260424T053006
CREATED:20240903T102837Z
LAST-MODIFIED:20240903T103034Z
UID:10000402-1731952800-1731961800@britishbeautycouncil.com
SUMMARY:Medieval Get Ready with Me
DESCRIPTION:A fun and innovative panel event exploring the history of cosmetics\, fragrances and treatments\, along with some medieval beauty tips and trials. The journalist Anita Bhagwandas will be taking part with Professor Jill Burke and curator Amber Butchart. \nThis event accompanies the British Library exhibition Medieval Women: In Their Own Words (25 October – 2 March 2025) \nEvent Details:\nMonday 18 November 2024\nDoors Open: 18:00\nStarts: 19:00: 20:30 \nLocation: British Library Knowledge Centre Pigott Theatre\, NW1 2DB \n\n  \nGet Tickets Here
URL:https://britishbeautycouncil.com/event-details/medieval-get-ready-with-me/
ATTACH;FMTTYPE=image/png:https://britishbeautycouncil.com/wp-content/uploads/2024/09/event-page-header.png
ORGANIZER;CN="British Beauty Council":MAILTO:joinus@britishbeautycouncil.com
END:VEVENT
BEGIN:VEVENT
DTSTART;TZID=Europe/London:20241119T083000
DTEND;TZID=Europe/London:20241119T103000
DTSTAMP:20260424T053006
CREATED:20240529T104937Z
LAST-MODIFIED:20241112T110226Z
UID:10000392-1732005000-1732012200@britishbeautycouncil.com
SUMMARY:WGSN X British Beauty Council: Strategies for Leaders in 2027
DESCRIPTION:Whilst you’re raring up for the festive period\, we want to ensure you’re armed with the knowledge you need to propel business and cater to your community not next year\, but the one after. At this breakfast event\, experts from across the beauty team at WGSN will uncover their predictions for 2027 so that you can hit the ground running will planning in the new year. \nDetails:Date: November 19th 2024Time: 08:30 – 10:30amLocation: The Hoxton\, 199-206 High Holborn\, London WC1V 7BD \n\nThis event is open to British Beauty Council Stakeholders and Events Plus Members.  \n\n			\n			\n				\n				\n				\n				\n			\n				\n				\n			\n				\n				\n				\n				\n				\n				\n				\n				\n				\n				\n				\n				\n				\n				\n				\n				\n				\n				We are pleased to offer Patrons\, Events Plus Members and stakeholders of the British Beauty Council a 10% discount for tickets to this event. Sign in to access. \n				\n				\n					\n						\n							Username\n							\n						 \n						\n							Password\n							\n						 \n						Forgot your password? \n						\n							Login
URL:https://britishbeautycouncil.com/event-details/wgsn-x-british-beauty-council-top-trends-for-2027/
LOCATION:The Hoxton\, Holborn\, C1V 7BD
ATTACH;FMTTYPE=image/png:https://britishbeautycouncil.com/wp-content/uploads/2024/05/event-page-header-83.png
ORGANIZER;CN="British Beauty Council":MAILTO:joinus@britishbeautycouncil.com
END:VEVENT
BEGIN:VEVENT
DTSTART;VALUE=DATE:20241123
DTEND;VALUE=DATE:20241130
DTSTAMP:20260424T053006
CREATED:20240910T132816Z
LAST-MODIFIED:20240910T133034Z
UID:10000403-1732320000-1732924799@britishbeautycouncil.com
SUMMARY:Natural Cosmetics Week
DESCRIPTION:NATRUE is pleased to announce the first-ever Natural Cosmetics Week\, running from  23-29 November 2024\, this global initiative is set to raise awareness about the benefits of natural cosmetics – for both people and planet – and encourage a deeper commitment to sustainability within the beauty industry.  \nThis year’s theme ‘Embrace Nature\, Empower Your Skin’ underscores the significance of natural and organic ingredients in beauty products and the role of sustainability in our industry. NATRUE invite brands\, retailers\, beauty professionals and consumers to join them in celebrating the power of nature in beauty and to participate in creating innovative campaigns around this theme. \nThe various activities and campaigns that will take place during Natural Cosmetics Week 2024 will be promoted on a dedicated page on the NATRUE website – available here. \nHere are some ways everyone can get will be getting involved: \n\nBrand Campaigns: Brands will showcase their commitment to natural cosmetics through bespoke promotional activities.\nRetailers: Retailers will create colourful promotional displays at point of sale.\nWorkshops & Webinars: Educational workshops and webinars will be held\, focusing on the benefits of natural ingredients and sustainable beauty practices.\nBehind-the-Scenes Access: Some participants will offer exclusive tours of their fields or production areas\, highlighting their sustainable practices.\nOnline Engagement: Digital discussions and webinars will explore the latest trends in natural cosmetics and sustainability.
URL:https://britishbeautycouncil.com/event-details/natural-cosmetics-week/
ATTACH;FMTTYPE=image/png:https://britishbeautycouncil.com/wp-content/uploads/2024/09/event-page-header-1.png
ORGANIZER;CN="British Beauty Council":MAILTO:joinus@britishbeautycouncil.com
END:VEVENT
BEGIN:VEVENT
DTSTART;VALUE=DATE:20241128
DTEND;VALUE=DATE:20241129
DTSTAMP:20260424T053006
CREATED:20241128T165415Z
LAST-MODIFIED:20241204T103951Z
UID:10000417-1732752000-1732838399@britishbeautycouncil.com
SUMMARY:Cosmoprof Worldwide Bologna\, UK Pavilion
DESCRIPTION:The UK cosmetics industry has always been a familiar presence at Cosmoprof Worldwide Bologna and it’s a dynamic and fast-evolving market characterized by thousands of highly specialized small and medium-sized companies. \nFrom March 21 to 23\, within the UK Country Pavilion in Hall 19\, Cosmoprof Worldwide Bologna brings more than 45 UK companies\, 30 percent of which are at their first attendance. A pathway that takes visitors all around the United Kingdom and showcases a proposal that best represents all beauty sectors and answers a variety of needs every day.  \n\n  \nFind out more
URL:https://britishbeautycouncil.com/event-details/cosmoprof-worldwide-bologna-uk-pavilion/
ATTACH;FMTTYPE=image/png:https://britishbeautycouncil.com/wp-content/uploads/2024/11/event-page-header-90.png
ORGANIZER;CN="British Beauty Council":MAILTO:joinus@britishbeautycouncil.com
END:VEVENT
BEGIN:VEVENT
DTSTART;TZID=Europe/London:20241128T103000
DTEND;TZID=Europe/London:20241128T113000
DTSTAMP:20260424T053006
CREATED:20241126T151941Z
LAST-MODIFIED:20241126T151941Z
UID:10000410-1732789800-1732793400@britishbeautycouncil.com
SUMMARY:The Green Guide: Trends in Natural Ingredients
DESCRIPTION:As part of Natural Cosmetics Week\, running from 23rd to 29th November 2024\, NATRUE invites Press and beauty industry professionals to attend and cover an exclusive\, free webinar entitled “The Green Guide: Trends in Natural Ingredients”. Scheduled for 28th November at 10:30 AM\, this interactive panel discussion will provide an in-depth look at the rising impact of natural and sustainable ingredients in the beauty industry. \nWith the demand for transparency and sustainability in cosmetics steadily growing\, this webinar will address essential topics such as the authenticity of natural ingredients\, innovation in sourcing\, and regulatory standards shaping the future of natural beauty. Dr Mark Smith\, NATRUE’s Director General\, will moderate this unique session\, featuring a distinguished panel of industry experts ready to share key insights. \nSign up for the webinar
URL:https://britishbeautycouncil.com/event-details/the-green-guide-trends-in-natural-ingredients/
ATTACH;FMTTYPE=image/png:https://britishbeautycouncil.com/wp-content/uploads/2024/11/event-page-header-86.png
END:VEVENT
BEGIN:VEVENT
DTSTART;TZID=Europe/London:20241128T190000
DTEND;TZID=Europe/London:20241128T200000
DTSTAMP:20260424T053006
CREATED:20241111T141634Z
LAST-MODIFIED:20241111T142442Z
UID:10000407-1732820400-1732824000@britishbeautycouncil.com
SUMMARY:The Wellbeing Revolution: Practical Tools to Manage Burnout
DESCRIPTION:The Glow Consultancy is thrilled to announce a transformative\, interactive workshop designed specifically for today’s high-stress work environments. In a world where demands are rising and time feels more limited than ever\, it’s critical to prioritise our mental wellbeing. \nJoin the team on 28th November for a hands-on session filled with practical strategies that will help you recognise the early signs of burnout\, manage stress effectively\, and build resilience. This workshop is perfect for managers\, leaders\, HR professionals\, and anyone in a fast-paced role who wants to learn how to thrive without compromising their mental health. \nDate: 28th November \nTime: 19:00 – 20:00\nLocation: Online \nWho Should Attend? \n– Managers and leaders looking to set a healthy example for their teams\n– HR professionals aiming to support mental health initiatives in the workplace\n– Anyone feeling the impact of a high-stress job who wants to build resilience and prevent burnout \nWhat Will You Walk Away With? \n– Personalised strategies to manage stress\n– Techniques for resilience and maintaining mental wellbeing\n– Access to a 1:1 executive coaching session to dive deeper into your own journey \nDon’t miss this opportunity to prioritise yourself and gain tools that will help you and your team thrive! \n  \nSign up today
URL:https://britishbeautycouncil.com/event-details/the-wellbeing-revolution-practical-tools-to-manage-burnout/
ATTACH;FMTTYPE=image/png:https://britishbeautycouncil.com/wp-content/uploads/2024/11/event-page-header-84.png
END:VEVENT
END:VCALENDAR