BEGIN:VCALENDAR
VERSION:2.0
PRODID:-//The British Beauty Council - ECPv6.14.2//NONSGML v1.0//EN
CALSCALE:GREGORIAN
METHOD:PUBLISH
X-ORIGINAL-URL:https://britishbeautycouncil.com
X-WR-CALDESC:Events for The British Beauty Council
REFRESH-INTERVAL;VALUE=DURATION:PT1H
X-Robots-Tag:noindex
X-PUBLISHED-TTL:PT1H
BEGIN:VTIMEZONE
TZID:Europe/London
BEGIN:DAYLIGHT
TZOFFSETFROM:+0000
TZOFFSETTO:+0100
TZNAME:BST
DTSTART:20240331T010000
END:DAYLIGHT
BEGIN:STANDARD
TZOFFSETFROM:+0100
TZOFFSETTO:+0000
TZNAME:GMT
DTSTART:20241027T010000
END:STANDARD
END:VTIMEZONE
BEGIN:VEVENT
DTSTART;TZID=Europe/London:20241008T150000
DTEND;TZID=Europe/London:20241008T160000
DTSTAMP:20260424T121810
CREATED:20240916T082327Z
LAST-MODIFIED:20240916T083913Z
UID:10000404-1728399600-1728403200@britishbeautycouncil.com
SUMMARY:Unlocking 2025: Social Media Benchmarks for the Beauty Industry
DESCRIPTION:Beauty accounts saw a +317.5K increase in followers on TikTok last year. But\, how can you sustain growth on the platform into 2025 and beyond? \nJoin Dash Hudson for an exclusive\, data-driven webinar\, where Mary Murphy\, Senior Director of Performance Marketing\, will reveal the latest benchmarks shaping social media success in the beauty industry. \nAt this session\, you will: \n\nExplore exclusive insights from Dash Hudson’s Social Media Benchmarks for the UK Beauty Industry to stay ahead of the competition.\nGain actionable strategies to elevate your brand’s social marketing performance across major platforms.\nLearn from real-world case studies showcasing how top beauty brands have mastered their social content for growth and engagement.\n\n  \nSign up for the webinar
URL:https://britishbeautycouncil.com/event-details/unlocking-2025-social-media-benchmarks-for-the-beauty-industry/
ATTACH;FMTTYPE=image/png:https://britishbeautycouncil.com/wp-content/uploads/2024/09/dash-hudson-x-bbco-asset.png
END:VEVENT
BEGIN:VEVENT
DTSTART;VALUE=DATE:20241012
DTEND;VALUE=DATE:20241015
DTSTAMP:20260424T121810
CREATED:20231214T173655Z
LAST-MODIFIED:20231214T173655Z
UID:10000349-1728691200-1728950399@britishbeautycouncil.com
SUMMARY:Salon International 2024
DESCRIPTION:Salon International returns to London in October 2024\, bringing together professionals across the hairdressing industry. The aim of the exhibition is to discover new and upcoming trends\, share industry knowledge\, and network amongst the experts. All professionals in the industry are encouraged to join; senior buyers\, salon owners\, hairstylists\, barbers\, students\, and more! \nEvent Details:  \nDate: 12th-14th October \nLocation: ExCeL London \n  \nRegister Interest Here 
URL:https://britishbeautycouncil.com/event-details/salon-international-2024/
LOCATION:ExCel London\, 1 Western Gateway\, Royal Victoria Dock\, London\, E16 1XL
ATTACH;FMTTYPE=image/jpeg:https://britishbeautycouncil.com/wp-content/uploads/2023/12/Salon-International.jpg
END:VEVENT
BEGIN:VEVENT
DTSTART;VALUE=DATE:20241013
DTEND;VALUE=DATE:20241015
DTSTAMP:20260424T121810
CREATED:20231214T141016Z
LAST-MODIFIED:20240709T102112Z
UID:10000347-1728777600-1728950399@britishbeautycouncil.com
SUMMARY:Salon Beauty
DESCRIPTION:This Autumn\, Salon Beauty (formerly known as Olympia Beauty) will return to London with one of the season’s biggest events for beauty and nail professionals. Offering networking opportunities\, competitions\, education and treatments- there is something for every beauty lover. \n  \nEvent Details:  \nDate: 13th-14th October 2024 \nLocation: ExCeL London \n  \nRegister Your Interest Here 
URL:https://britishbeautycouncil.com/event-details/olympia-beauty/
LOCATION:ExCel London\, 1 Western Gateway\, Royal Victoria Dock\, London\, E16 1XL
ATTACH;FMTTYPE=image/webp:https://britishbeautycouncil.com/wp-content/uploads/2023/12/olympia-beauty.webp
END:VEVENT
BEGIN:VEVENT
DTSTART;TZID=Europe/London:20241013T100000
DTEND;TZID=Europe/London:20241013T160000
DTSTAMP:20260424T121810
CREATED:20240709T103004Z
LAST-MODIFIED:20240709T104422Z
UID:10000395-1728813600-1728835200@britishbeautycouncil.com
SUMMARY:The Bridal Beauty Festival
DESCRIPTION:The Bridal Beauty Festival returns to London this autumn with the biggest event for the bridal beauty industry. Offering workshops\, expert talks\, treatments\, masterclasses and demos. \n  \nEvent Details:  \nDate: 13th October 2024 \nLocation: Nobu\, Portman Square \n  \nRegister Interest Here 
URL:https://britishbeautycouncil.com/event-details/the-bridal-beauty-festival/
LOCATION:Nobu\, Portman Square
ATTACH;FMTTYPE=image/webp:https://britishbeautycouncil.com/wp-content/uploads/2024/07/e5766e_15f21e45250b45baa5f2cefc44c99363mv2.webp
END:VEVENT
BEGIN:VEVENT
DTSTART;TZID=Europe/London:20241016T090000
DTEND;TZID=Europe/London:20241018T180000
DTSTAMP:20260424T121810
CREATED:20240709T112314Z
LAST-MODIFIED:20240709T112434Z
UID:10000396-1729069200-1729274400@britishbeautycouncil.com
SUMMARY:Blue Earth Summit
DESCRIPTION:For the fourth year\, the Blue Earth Summit brings together industry leaders to connect\, act rapidly and create planet positive changes. The Summit gathers over 5000 innovators\, startups\, global corporations\, politicians\, adventurers\, academics\, celebrities and campaigners. \nSpeakers include Simon Hill Norton\, Sweaty Betty\, CEO\, John Lewis and Founder of House of Hackney PLUS Dragons Den’s Deborah Meaden and many more.  \n  \nEvent Details:  \nDate: 16th-18th October 2024  \nLocation: Woolwich Works\, London \n  \nRegister Interest Here 
URL:https://britishbeautycouncil.com/event-details/blue-earth-summit/
ATTACH;FMTTYPE=image/jpeg:https://britishbeautycouncil.com/wp-content/uploads/2024/07/blue-earth-pitch-tent-hero2-2023-scaled-1.jpg
END:VEVENT
BEGIN:VEVENT
DTSTART;VALUE=DATE:20241023
DTEND;VALUE=DATE:20241028
DTSTAMP:20260424T121810
CREATED:20231215T112536Z
LAST-MODIFIED:20240919T152308Z
UID:10000352-1729641600-1730073599@britishbeautycouncil.com
SUMMARY:British Beauty Week 2024
DESCRIPTION:British Beauty Week 2024 will take place from the 23-27 October\n  \nWith a reach of over 12.2 million\, 2023’s British Beauty Week celebration was record-breaking. Now\, the British Beauty Council is back with the sixth iteration of its renowned beauty celebration and is encouraging brands to get involved. \nRunning from the 23-27 October\, British Beauty Week 2024 will run under the theme of ‘A Beauty Industry that Looks Like You’. Designed to highlight the importance of representation and inclusion in British beauty\, the theme will inspire brands to celebrate the various facets of the industry\, whilst also considering the ongoing work that needs to be done to ensure all voices are heard\, and appreciated\, in our industry. \nThe Council is excited to launch the dates of British Beauty Week 2024 and is urging brands and businesses to get in touch with the team to start plans early. \n  \nAre you interested in taking part? Download the Activity Deck here\n  \nTo stay up to date on the event\, keep an eye on our news channels\, and check the British Beauty Week website.
URL:https://britishbeautycouncil.com/event-details/british-beauty-week-2024/
CATEGORIES:BBW
ATTACH;FMTTYPE=image/png:https://britishbeautycouncil.com/wp-content/uploads/2023/12/Event-page-header-52.png
ORGANIZER;CN="British Beauty Council":MAILTO:joinus@britishbeautycouncil.com
END:VEVENT
BEGIN:VEVENT
DTSTART;TZID=Europe/London:20241023T090000
DTEND;TZID=Europe/London:20241023T113000
DTSTAMP:20260424T121810
CREATED:20240122T112018Z
LAST-MODIFIED:20240807T105829Z
UID:10000360-1729674000-1729683000@britishbeautycouncil.com
SUMMARY:Plastic Solutions Summit III
DESCRIPTION:In its third year\, the Plastic Solutions Summit brings together leaders in industry to set out new\, scalable\, strategies to solve beauty’s waste problem. With presentations from sustainable innovators across the sector\, as well as key opinion leaders from across industry and Government\, the event will showcase possible alternatives to age old systems. \nKey Details: \nDate and time: 23rd October 2024\, 09:00am – 11:30amLocation: BDB Pitmans\, One Bartholomew Cl\, London EC1A 7BL \n  \nThis event is by invitation only
URL:https://britishbeautycouncil.com/event-details/plastic-solutions-summit-iii/
LOCATION:BDB Pitmans\, EC1A 7BL 
ATTACH;FMTTYPE=image/png:https://britishbeautycouncil.com/wp-content/uploads/2024/01/Event-page-header-2024-01-22T111951.743.png
ORGANIZER;CN="British Beauty Council":MAILTO:joinus@britishbeautycouncil.com
END:VEVENT
BEGIN:VEVENT
DTSTART;VALUE=DATE:20241024
DTEND;VALUE=DATE:20241025
DTSTAMP:20260424T121810
CREATED:20240529T103302Z
LAST-MODIFIED:20250511T121927Z
UID:10000390-1729728000-1729814399@britishbeautycouncil.com
SUMMARY:British Beauty Week 2024 - Trade Hub Activity
DESCRIPTION:This British Beauty Week\, the Council’s Trade Hub is returning with a range of panel discussions. These are free to attend for Events Plus Members\, with remaining annual ticket allocation. \nBelow are the confirmed debates and conversations: \nSkincare Visionaries: The future of formulations \nThe UK’s premium skincare market is the fastest growing in the EU5\, but what makes British products stand out?  \nLearn from industry’s most esteemed product innovators who will uncover what really makes a sought-after formulation and what products will grab the attention of your consumers. \nYou will have the opportunity to ask questions of industry science and skin specialists and learn about what’s in store for the future of the category. \nTime: 09:30 – 10:15 \nCreating a Beauty Industry That Looks Like You\nBeauty employs well over half a million people in the UK and\, but do they really feel like the industry reflects who they are?  \nBe the first to hear the findings from the British Beauty Council’s highly anticipated Beauty Census\, uncovering the true make-up of the Beauty industry.  \nSupported by Sephora\, this forum will bring together leading voices from across hair\, makeup and retail to explore how we can all work to ignite systemic change to make beauty more diverse.  \nDate: Thursday 24 October\, 2024\nTime: 10:30 – 11:15 \nThe Big Beauty Debate: Teen beauty and influencer culture \nThe ethics of teen skincare has been beauty’s biggest debate this year. So\, we’re tackling it head on.  \nNo7 Beauty Company and the British Beauty Council are hosting an exclusive debate to get to the bottom of what everyone really thinks. Hear from a brand expert\, teen\, guardian and moderated by a well-known beauty journalist at The Big Beauty Debate. \nJoin this live debate about beauty’s most contentious topics and have your say.  \nTime: 11:30 – 12:15 \nHow to unlock the power of social shopping with TikTok\nMore and more beauty brands are making their millions in minutes thanks to social shopping. We’re here to show you how to cut through the noise and crack TikTok Shop.  \nThis educational session will bring together tech experts\, beauty success stories and emerging brands to show you how to make TikTok ‘tick’ for your brand.  \nUncovering actionable advice and easy strategies for success\, you’ll leave this discussion with the tools to make social shopping work like clockwork. \nTime: 14:15 – 14:45 \nDetails: \nDate: 24th October 2023\, all day\nLocation: BAFTA\, Piccadilly – Central London \nIf you are an Event Plus member\, Patron or stakeholder of the Council\, we are pleased to offer you a complimentary all-day pass to the Trade Hub. If you would prefer to purchase a ticket for each panel\, please do so via the British Beauty Week schedule.  \n \n			\n				\n				\n				\n				\n				Sign up for your complimentary British Beauty Week 2024 day pass\n			\n			\n				\n				\n				\n				\n			\n				\n				\n			\n				\n				\n				\n				\n				\n				\n				\n				\n				\n				\n				\n				\n				\n				\n				\n				\n				\n				We are pleased to offer Patrons\, Events Plus Members and stakeholders of the British Beauty Council a 10% discount for tickets to this event. Sign in to access. \n				\n				\n					\n						\n							Username\n							\n						 \n						\n							Password\n							\n						 \n						Forgot your password? \n						\n							Login
URL:https://britishbeautycouncil.com/event-details/trade-hub-panel-discussions/
LOCATION:BAFTA\, 195 Piccadilly\, London
ATTACH;FMTTYPE=image/png:https://britishbeautycouncil.com/wp-content/uploads/2024/05/think-tank-5.png
ORGANIZER;CN="British Beauty Council":MAILTO:joinus@britishbeautycouncil.com
END:VEVENT
BEGIN:VEVENT
DTSTART;TZID=Europe/London:20241025T090000
DTEND;TZID=Europe/London:20241025T230000
DTSTAMP:20260424T121810
CREATED:20240618T083740Z
LAST-MODIFIED:20241003T135113Z
UID:10000394-1729846800-1729897200@britishbeautycouncil.com
SUMMARY:British Beauty Week: Trade and Export Breakfast with Department for Business and Trade
DESCRIPTION:As part of the British Beauty Council’s Trade activity at British Beauty Week\, we are collaborating with the Department for Business and Trade on a Trade and Export Breakfast. The event will gather brand with potential for global impact to meet buyers and representatives from countries around the globe. \nDate and time: Friday 25th October\, 08:45 – 10:45am.\nLocation: Petersham Nurseries\, 31 King St\, London\, WC2E 9DS. \n  \nThis event is invite only
URL:https://britishbeautycouncil.com/event-details/best-of-british-beauty-breakfast-dbt/
ATTACH;FMTTYPE=image/png:https://britishbeautycouncil.com/wp-content/uploads/2024/06/event-page-header-76.png
ORGANIZER;CN="British Beauty Council":MAILTO:joinus@britishbeautycouncil.com
END:VEVENT
END:VCALENDAR