BEGIN:VCALENDAR
VERSION:2.0
PRODID:-//The British Beauty Council - ECPv6.14.2//NONSGML v1.0//EN
CALSCALE:GREGORIAN
METHOD:PUBLISH
X-ORIGINAL-URL:https://britishbeautycouncil.com
X-WR-CALDESC:Events for The British Beauty Council
REFRESH-INTERVAL;VALUE=DURATION:PT1H
X-Robots-Tag:noindex
X-PUBLISHED-TTL:PT1H
BEGIN:VTIMEZONE
TZID:Europe/London
BEGIN:DAYLIGHT
TZOFFSETFROM:+0000
TZOFFSETTO:+0100
TZNAME:BST
DTSTART:20240331T010000
END:DAYLIGHT
BEGIN:STANDARD
TZOFFSETFROM:+0100
TZOFFSETTO:+0000
TZNAME:GMT
DTSTART:20241027T010000
END:STANDARD
END:VTIMEZONE
BEGIN:VEVENT
DTSTART;VALUE=DATE:20240911
DTEND;VALUE=DATE:20240913
DTSTAMP:20260425T021739
CREATED:20231214T151206Z
LAST-MODIFIED:20231214T151206Z
UID:10000348-1726012800-1726185599@britishbeautycouncil.com
SUMMARY:London Packaging Week
DESCRIPTION:London Packaging Week returns in September 2024\, bigger and better than ever! The week will see four different events take place\, offering brands a clear space to determine packaging challenges and their innovative solutions\, as well as connect brands and suppliers through networking opportunities. \nPackaging Première and PCD will particularly enlighten attendees on the subject of luxury packaging and packaging in the beauty industry\, helping businesses stay ahead of the curve. \n  \nEvent Details:  \nDate: 11th-12th September 2024 \nLocation: ExCeL London \n  \nRegister Interest Here
URL:https://britishbeautycouncil.com/event-details/london-packaging-week/
LOCATION:ExCel London\, 1 Western Gateway\, Royal Victoria Dock\, London\, E16 1XL
ATTACH;FMTTYPE=image/jpeg:https://britishbeautycouncil.com/wp-content/uploads/2023/12/london-packaging-week.jpg
END:VEVENT
BEGIN:VEVENT
DTSTART;VALUE=DATE:20240920
DTEND;VALUE=DATE:20240922
DTSTAMP:20260425T021739
CREATED:20240111T113830Z
LAST-MODIFIED:20240709T125220Z
UID:10000356-1726790400-1726963199@britishbeautycouncil.com
SUMMARY:The Beauty Show 2024
DESCRIPTION:The British Beauty Council is working with Future – publisher of titles including Marie Claire\, Who What Wear\, and Woman & Home – on its brand new event\, The Beauty Show. \nCelebrating the essence of beauty in all its forms\, The Beauty Show showcases the entire spectrum of the beauty industry in a brand new festival-style consumer exhibition. Encompassing everything from skincare\, fragrance\, innovation and tech\, wellbeing\, makeup\, hair and nails all under one roof\, this event is set to be a game-changer in beauty. \nThis event is perfect for beauty lovers to shop\, learn\, experience and sample their favourite brands as well as discovering new products – all whilst enjoying time with friends and family in a relaxed environment. \nTaking place on the 20 – 21 September at London’s Business Design Centre\, the event will deliver a day out with a feel-good-factor including: \n\nIndulgent self care\nComplimentary treatments and make overs\nExpert advice from our brand experts and industry experts\nCelebrity brand ambassadors\nPop up bars and relaxation areas\n\nFind out more about the event here. \nThe organisers are offering an exclusive discounted rate of 20% off for subscribers and members of the British Beauty Council.\nIf you would like to take advantage of this offer\, use code BEAUTYCOUNCIL20 at checkout.
URL:https://britishbeautycouncil.com/event-details/the-beauty-show-2024/
LOCATION:Business Design Centre\, 52 Upper Street\, London\, London\, N1 0QH\, United Kingdom
CATEGORIES:public
ATTACH;FMTTYPE=image/png:https://britishbeautycouncil.com/wp-content/uploads/2024/01/event-page-header-2.png
ORGANIZER;CN="British Beauty Council":MAILTO:joinus@britishbeautycouncil.com
END:VEVENT
BEGIN:VEVENT
DTSTART;VALUE=DATE:20240922
DTEND;VALUE=DATE:20240924
DTSTAMP:20260425T021739
CREATED:20240709T141629Z
LAST-MODIFIED:20240709T141813Z
UID:10000397-1726963200-1727135999@britishbeautycouncil.com
SUMMARY:The UN Summit of the Future
DESCRIPTION:The Summit is a prestigious event that gathers world leaders to build a new international consensus on how to improve the present and protect the future. \nThe Summit of the Future seeks to strengthen collaboration on pressing issues\, address gaps in global governance\, reaffirm commitments to the Sustainable Development Goals (SDGs) and the United Nations Charter\, and progress towards a revitalized multilateral system. \n \nEvent Details:  \nDate: 22-23 September 2024 \nLocation: United States\, New York
URL:https://britishbeautycouncil.com/event-details/the-un-summit-of-the-future/
ATTACH;FMTTYPE=image/png:https://britishbeautycouncil.com/wp-content/uploads/2024/07/summit-of-the-future.png
END:VEVENT
BEGIN:VEVENT
DTSTART;VALUE=DATE:20240926
DTEND;VALUE=DATE:20240927
DTSTAMP:20260425T021739
CREATED:20240402T084510Z
LAST-MODIFIED:20240402T084510Z
UID:10000372-1727308800-1727395199@britishbeautycouncil.com
SUMMARY:Beauty Bulb Live: Meet the British Beauty Council
DESCRIPTION:Beauty Bulb\, experts in global sales growth for beauty and wellness brands\, are illuminating the tradeshow landscape with their inaugural Live 24-hour Virtual Tradeshow\, Beauty Bulb Live. \nTaking place from 9am BST September 26th 2024\, this innovate virtual event is designed to supercharge growth for brands\, retailers\, distributors\, service providers and investors. \nThe British Beauty Council will be activating at the digital event\, answering any questions you might have about our organisation and how we support the industry. \nWho should attend? \nRetailers & Distributors: Meet exciting new global brands. We are partnering with indie brands through to well-established brands across multiple beauty and wellness categories. \nService Providers\, Investors\, Media & Beauty Associations: Meet with brands and share how you can support their growth. \nWhy Attend Beauty Bulb Live? \nIn response to the evolving landscape of the beauty industry and the challenges posed by travel restrictions and limited funds and resources\, Beauty Bulb Live offers a dynamic and digital discovery space to save everyone thousands of dollars\, air miles and hours. \nBeauty and wellness brands and all attendees can connect from anywhere in the world from the comfort of their home or office. Ticketholders can explore the virtual show floor and connect with virtual booths directly live during the show\, as well as after the show has closed. \n  \nSign up for tickets\, or find out more about booth opportunities here
URL:https://britishbeautycouncil.com/event-details/beauty-bulb-live/
CATEGORIES:business,public
ATTACH;FMTTYPE=image/png:https://britishbeautycouncil.com/wp-content/uploads/2024/04/event-page-header-59.png
END:VEVENT
END:VCALENDAR