BEGIN:VCALENDAR
VERSION:2.0
PRODID:-//The British Beauty Council - ECPv6.14.2//NONSGML v1.0//EN
CALSCALE:GREGORIAN
METHOD:PUBLISH
X-WR-CALNAME:The British Beauty Council
X-ORIGINAL-URL:https://britishbeautycouncil.com
X-WR-CALDESC:Events for The British Beauty Council
REFRESH-INTERVAL;VALUE=DURATION:PT1H
X-Robots-Tag:noindex
X-PUBLISHED-TTL:PT1H
BEGIN:VTIMEZONE
TZID:Europe/London
BEGIN:DAYLIGHT
TZOFFSETFROM:+0000
TZOFFSETTO:+0100
TZNAME:BST
DTSTART:20240331T010000
END:DAYLIGHT
BEGIN:STANDARD
TZOFFSETFROM:+0100
TZOFFSETTO:+0000
TZNAME:GMT
DTSTART:20241027T010000
END:STANDARD
END:VTIMEZONE
BEGIN:VEVENT
DTSTART;TZID=Europe/London:20240509T150000
DTEND;TZID=Europe/London:20240509T160000
DTSTAMP:20260425T220309
CREATED:20240411T085508Z
LAST-MODIFIED:20240411T085508Z
UID:10000377-1715266800-1715270400@britishbeautycouncil.com
SUMMARY:Department for Business and Trade: Discover the opportunities to grow your beauty business in the US
DESCRIPTION:The demand for beauty products in the United States is growing. Selling your beauty products to overseas customers can help you increase your profits and also grow your brand on a global platform. \nJoin the Department for Business and Trade for this session to hear about opportunities to sell your beauty and cosmetics products in the US market\, along with a guide to how to demystify the new US cosmetics regulations that are coming into force in July 2024. \nExpert speaker Gary Baylis of Registrar Corp will provide an overview of the new Modernisation of Cosmetics Regulations Act (MoCRA) and top tips on accessing support to ensure you and your business are ready for not only exporting to the US\, but also to be compliant with the necessary regulations. \nWhen \nMay 9\, 15:00 \nSpeakers \n\n\nGary Baylis MIEx – Regulatory Advisor\, Representative Office for UK & Ireland for REGISTRAR CORP\, USA\nElena Schmidt – International Markets Advisor for the North America International Markets Hub\, OCO Global\, San Diego\, California\n\n\n\n\nJoin the UK Export Academy here\, to sign up
URL:https://britishbeautycouncil.com/event-details/department-for-business-and-trade-us-webinar/
CATEGORIES:business,trade
ATTACH;FMTTYPE=image/png:https://britishbeautycouncil.com/wp-content/uploads/2024/04/event-page-header-88.png
END:VEVENT
BEGIN:VEVENT
DTSTART;TZID=Europe/London:20240513T093000
DTEND;TZID=Europe/London:20240513T123000
DTSTAMP:20260425T220309
CREATED:20240424T132502Z
LAST-MODIFIED:20240424T194732Z
UID:10000380-1715592600-1715603400@britishbeautycouncil.com
SUMMARY:British Beauty Council Think Tank 2024
DESCRIPTION:As the Council reaches the end of its three year roadmap\, the British Beauty Council welcomes its stakeholders to collaborate on its upcoming activity. \nOn May 13\, following a presentation from leading data insight organisations\, we invite our stakeholders to collaborate and share expertise to propel the Council’s future initiatives. \nKey Details:Date: May 13\, 2024Time: 09:30 – 12:30Location: The Savoy\, River Entrance\, Savoy Place\, WC2H 0BP \nLog in to your account and return to this page to sign up.
URL:https://britishbeautycouncil.com/event-details/british-beauty-council-think-tank-2024/
LOCATION:The Savoy\, River Entrance\, Savoy Place\, WC2H 0BP
CATEGORIES:business
ATTACH;FMTTYPE=image/png:https://britishbeautycouncil.com/wp-content/uploads/2024/04/think-tank-1.png
ORGANIZER;CN="British Beauty Council":MAILTO:joinus@britishbeautycouncil.com
END:VEVENT
BEGIN:VEVENT
DTSTART;TZID=Europe/London:20240516T140000
DTEND;TZID=Europe/London:20240516T150000
DTSTAMP:20260425T220309
CREATED:20240426T155625Z
LAST-MODIFIED:20240515T132054Z
UID:10000381-1715868000-1715871600@britishbeautycouncil.com
SUMMARY:Beauty Personas 2026
DESCRIPTION:The British Beauty Council and WGSN invite you to meet the Beauty Personas of 2026 \nThe UK beauty market is expected to grown by 6% be 2026\, equal to fashion and double that of hospitality. So\, it’s vital you stay ahead of the game when it comes to the beauty consumer of tomorrow. \nIn this webinar\, Director of Beauty at WGSN\, Clare Varga\, will uncover the 2026 Beauty Personas. \nFrom the level-headed Impartialists to the fulfilment-seeking Gleamers\, the event will dive into the unique needs\, desires and personalities of your future customer. \nDetails:\nDate: 16th May 2024\nTime: 2:00 PM London\nLocation: Virtual \n  \nREGISTER HERE
URL:https://britishbeautycouncil.com/event-details/beauty-personas-2026/
ATTACH;FMTTYPE=image/png:https://britishbeautycouncil.com/wp-content/uploads/2024/04/event-page-header-1.png
ORGANIZER;CN="British Beauty Council":MAILTO:joinus@britishbeautycouncil.com
END:VEVENT
BEGIN:VEVENT
DTSTART;TZID=Europe/London:20240517T103000
DTEND;TZID=Europe/London:20240517T113000
DTSTAMP:20260425T220309
CREATED:20240411T090515Z
LAST-MODIFIED:20240411T090515Z
UID:10000378-1715941800-1715945400@britishbeautycouncil.com
SUMMARY:Department for Business and Trade: Explore new markets through getting your beauty and cosmetics products Halal certified
DESCRIPTION:Are you considering expanding your beauty or cosmetics company to Muslim countries around the world – such as Turkey or countries in South Asia\, Africa or the Middle East? \nThe global halal cosmetics market reached $74.7 Billion in 2020. With a worldwide population of over 1.8 billion Muslims\, the international halal cosmetics industry is growing at a rapid pace. \nNow is the perfect time to consider whether your products can be Halal Certified and the business benefits of being so\, in order to further your business’ worldwide growth. In this session the Department for Business and Trade will cover how to expand the reach of cosmetics or beauty products in different global markets; what Halal certification involves and the available support and resources that you can tap into to assist you in your business’ international growth. \nWhen \nMay 17\, 10:30AM \nSpeakers \n\nDr Amer Rashid – Technical Director\, Halal Certification Organisation Ltd\nDr Mah Hussain-Gambles – Quality Lead and Chartered Chemist\, Halal Certification Organisation Ltd\nRimante Bang – UK Export Academy Adviser\, Department for Business and Trade\n\n  \nJoin the UK Export Academy here\, to sign up
URL:https://britishbeautycouncil.com/event-details/department-for-business-and-trade-halal-certified/
CATEGORIES:business,trade
ATTACH;FMTTYPE=image/png:https://britishbeautycouncil.com/wp-content/uploads/2024/04/event-page-header-89.png
END:VEVENT
BEGIN:VEVENT
DTSTART;TZID=Europe/London:20240526T103000
DTEND;TZID=Europe/London:20240527T180000
DTSTAMP:20260425T220309
CREATED:20240430T131311Z
LAST-MODIFIED:20240430T132101Z
UID:10000382-1716719400-1716832800@britishbeautycouncil.com
SUMMARY:Afro Hair & Beauty Live
DESCRIPTION:Afro Hair & Beauty Live\, Europe’s largest beauty show is back on 26-27 May 2024. Taking place at the Business Design Centre in Islington\, this event will celebrate everything hair\, beauty\, fashion and lifestyle. \nDiscover the latest trends in hair (of every texture\, colour\, and style)\, beauty\, and fashion through free seminars and workshops with a selection of specialists. Seek out tips and guidance from award-winning professionals\, check out the latest fashion offerings from lifestyle designers\, and attend on-the-spot makeovers\, hair competitions\, and eco-friendly and sustainable fashion shows. \nEvent Details: \nDate: 26-27 May 2024 \nShow Opening Hours: 10.30am–6.00pm \nTickets: £15 on the door or £12 in advance through Eventbrite. \n  \nRegister Here
URL:https://britishbeautycouncil.com/event-details/afro-hair-beauty-live/
ATTACH;FMTTYPE=image/png:https://britishbeautycouncil.com/wp-content/uploads/2024/04/event-page-header-2.png
END:VEVENT
END:VCALENDAR