BEGIN:VCALENDAR
VERSION:2.0
PRODID:-//The British Beauty Council - ECPv6.14.2//NONSGML v1.0//EN
CALSCALE:GREGORIAN
METHOD:PUBLISH
X-WR-CALNAME:The British Beauty Council
X-ORIGINAL-URL:https://britishbeautycouncil.com
X-WR-CALDESC:Events for The British Beauty Council
REFRESH-INTERVAL;VALUE=DURATION:PT1H
X-Robots-Tag:noindex
X-PUBLISHED-TTL:PT1H
BEGIN:VTIMEZONE
TZID:Europe/London
BEGIN:DAYLIGHT
TZOFFSETFROM:+0000
TZOFFSETTO:+0100
TZNAME:BST
DTSTART:20260329T010000
END:DAYLIGHT
BEGIN:STANDARD
TZOFFSETFROM:+0100
TZOFFSETTO:+0000
TZNAME:GMT
DTSTART:20261025T010000
END:STANDARD
END:VTIMEZONE
BEGIN:VEVENT
DTSTART;VALUE=DATE:20261004
DTEND;VALUE=DATE:20261006
DTSTAMP:20260423T115409
CREATED:20251120T123553Z
LAST-MODIFIED:20251120T125736Z
UID:10000540-1791072000-1791244799@britishbeautycouncil.com
SUMMARY:Professional Beauty Autumn
DESCRIPTION:Join thousands of beauty professionals at Professional Beauty Autumn 2026\, taking place on 4th-5th October 2026 at ExCeL London. Formerly known as Salon Beauty\, this dynamic beauty trade show is the ultimate destination for salon owners\, spa professionals\, aestheticians\, nail techs and beauty therapists looking to discover the latest trends\, technologies and treatments in the industry. Explore hundreds of top beauty brands\, attend expert-led education sessions and network with industry leaders all under one roof. Whether you’re looking to grow your salon business\, introduce new services\, or upskill your team\, Professional Beauty Autumn delivers everything you need to stay ahead of the curve. \nRunning alongside Salon International\, the UK’s biggest hairdressing trade show\, this event also offers a fantastic opportunity to explore professional hair brands\, see celebrity stylists in action and discover how to successfully add hair treatments to your beauty business. \nFind out more here.
URL:https://britishbeautycouncil.com/event-details/professional-beauty-autumn/
CATEGORIES:trade
ATTACH;FMTTYPE=image/png:https://britishbeautycouncil.com/wp-content/uploads/2025/11/Event-page-header-6.png
ORGANIZER;CN="British Beauty Council":MAILTO:joinus@britishbeautycouncil.com
END:VEVENT
BEGIN:VEVENT
DTSTART;VALUE=DATE:20261004
DTEND;VALUE=DATE:20261006
DTSTAMP:20260423T115410
CREATED:20251120T124102Z
LAST-MODIFIED:20251120T124102Z
UID:10000541-1791072000-1791244799@britishbeautycouncil.com
SUMMARY:Salon International
DESCRIPTION:Salon International the UK’s leading event for hair professionals. \nTaking place on 4-5 October 2026\, at ExCel London. \nCome back for more information.
URL:https://britishbeautycouncil.com/event-details/salon-international-2/
ATTACH;FMTTYPE=image/png:https://britishbeautycouncil.com/wp-content/uploads/2025/11/Event-page-header-5.png
ORGANIZER;CN="British Beauty Council":MAILTO:joinus@britishbeautycouncil.com
END:VEVENT
BEGIN:VEVENT
DTSTART;VALUE=DATE:20261006
DTEND;VALUE=DATE:20261009
DTSTAMP:20260423T115410
CREATED:20241204T125435Z
LAST-MODIFIED:20260122T144024Z
UID:10000433-1791244800-1791503999@britishbeautycouncil.com
SUMMARY:Beautyworld Middle East 2026
DESCRIPTION:Beautyworld Middle East is the biggest international fair for beauty and wellness products\, fragrances and beauty accessories in the Middle East and one of the leading beauty trade shows worldwide. Beautyworld Middle East has been the most important platform for the sector in one of the world’s fastest growing markets for more than 25 years and a venue at which trade visitors can be sure of finding global products and brands. \nAll events are aimed at the operators and staff of beauty salons\, hairdressing salons\, nail studios\, hotels\, spas\, the retail and wholesale trades\, and students of professional beauty academies. \nWith eight events\, in Dubai\, Tokyo\, Osaka\, Fukuoka\, Nagoya\, Riyadh\, Tashkent\, and Taipei\, Messe Frankfurt’s Beautyworld network enables exhibitors and visitors to make new business contacts and conclude valuable deals. \n\n  \nFind out more
URL:https://britishbeautycouncil.com/event-details/beautyworld-middle-east-2025/
ATTACH;FMTTYPE=image/png:https://britishbeautycouncil.com/wp-content/uploads/2024/12/event-page-header-2024-12-04t125223.040.png
ORGANIZER;CN="British Beauty Council":MAILTO:joinus@britishbeautycouncil.com
END:VEVENT
BEGIN:VEVENT
DTSTART;VALUE=DATE:20261006
DTEND;VALUE=DATE:20261009
DTSTAMP:20260423T115410
CREATED:20251120T115500Z
LAST-MODIFIED:20251120T120142Z
UID:10000538-1791244800-1791503999@britishbeautycouncil.com
SUMMARY:Beautyworld Middle East
DESCRIPTION:Beautyworld Middle East is the biggest international fair for beauty and wellness products\, fragrances and beauty accessories in the Middle East and one of the leading beauty trade shows worldwide. Beautyworld Middle East has been the most important platform for the sector in one of the world’s fastest growing markets for more than 25 years and a venue at which trade visitors can be sure of finding global products and brands. \nEvent Details: \n\n6 – 8 October\, 2026\n10am – 6pm daily\nDubai World Trade Centre\n\nFind out more.
URL:https://britishbeautycouncil.com/event-details/beautyworld-middle-east/
ATTACH;FMTTYPE=image/png:https://britishbeautycouncil.com/wp-content/uploads/2025/11/Event-page-header-2-2.png
ORGANIZER;CN="British Beauty Council":MAILTO:joinus@britishbeautycouncil.com
END:VEVENT
BEGIN:VEVENT
DTSTART;VALUE=DATE:20261012
DTEND;VALUE=DATE:20261026
DTSTAMP:20260423T115410
CREATED:20260414T154530Z
LAST-MODIFIED:20260414T154531Z
UID:10000571-1791763200-1792972799@britishbeautycouncil.com
SUMMARY:British Beauty Week 2026
DESCRIPTION:British Beauty Week will return this October.  \nBritish Beauty Week is a nationwide celebration uniting industry leaders\, innovators\, policymakers\, brands and consumers to champion the power of beauty. This year\, we shine a light on The Impact of Beauty. \nJoin us on Monday 12th October as the industry’s brightest voices come together for a dynamic day of panel talks and activations\, exploring beauty’s social and cultural influence\, creative energy and economic impact. Tickets launch in June. \nAcross the weeks 12th to 25th October\, brands and businesses nationwide are invited to bring The Impact of Beauty to life — from immersive pop-ups to in-store moments and exclusive experiences. \nWant to get involved in British Beauty Week 2026? Email bbw@britishbeautycouncil.com
URL:https://britishbeautycouncil.com/event-details/british-beauty-week-2026/
CATEGORIES:BBW
ATTACH;FMTTYPE=image/png:https://britishbeautycouncil.com/wp-content/uploads/2026/04/Event-page-header-1.png
ORGANIZER;CN="British Beauty Council":MAILTO:joinus@britishbeautycouncil.com
END:VEVENT
END:VCALENDAR