BEGIN:VCALENDAR
VERSION:2.0
PRODID:-//The British Beauty Council - ECPv6.14.2//NONSGML v1.0//EN
CALSCALE:GREGORIAN
METHOD:PUBLISH
X-ORIGINAL-URL:https://britishbeautycouncil.com
X-WR-CALDESC:Events for The British Beauty Council
REFRESH-INTERVAL;VALUE=DURATION:PT1H
X-Robots-Tag:noindex
X-PUBLISHED-TTL:PT1H
BEGIN:VTIMEZONE
TZID:Europe/London
BEGIN:DAYLIGHT
TZOFFSETFROM:+0000
TZOFFSETTO:+0100
TZNAME:BST
DTSTART:20260329T010000
END:DAYLIGHT
BEGIN:STANDARD
TZOFFSETFROM:+0100
TZOFFSETTO:+0000
TZNAME:GMT
DTSTART:20261025T010000
END:STANDARD
END:VTIMEZONE
BEGIN:VEVENT
DTSTART;VALUE=DATE:20260423
DTEND;VALUE=DATE:20260601
DTSTAMP:20260423T114552
CREATED:20260327T121746Z
LAST-MODIFIED:20260413T090010Z
UID:10000567-1776902400-1780271999@britishbeautycouncil.com
SUMMARY:The British Beauty Festival 2026
DESCRIPTION:The British Beauty Council is proud to present the inaugural British Beauty Festival in China\,  taking place in Shanghai in April 2026. \nPartnering with the UK Department for Business and Trade (DBT) and Chrysalis Beauty\, this milestone moment marks an exciting new chapter as the Festival brings the very best of British beauty and wellness to one of the world’s most dynamic and fast-evolving consumer markets. Designed to spotlight the innovation\, creativity and diversity of the UK beauty sector\, the Festival will serve as a gateway for British brands to connect with a highly engaged and sophisticated Chinese audience. As global demand for authentic\, high-quality British beauty continues to grow\, China stands at the forefront of this opportunity.  \nParticipating names include Elemis\, Neal’s Yard Remedies\, Sarah Chapman\, Skin Cycles\, Votary\, Wildsmith Skincare\, Jo Malone London\, Fortnum & Mason\, Balmonds\, Eve Lom\, Noble Isle\, Rosemary Hair Oil\, MD:Ceuticals\, Pixi\, UKLash\, Skin Cycles\, Floris\, Forest Spa Finland\, Verden\, 320MHz\, Hair Laboratory\, Nailberry and Shake Up.  \nThe event\, co-hosted by Chrysalis (Joyce Beauty’s mainland China licensee) and the UK’s Department for Business and Trade will be held across Shanghai\, and will feature: \n\nImmersive Pop-Up Store in Jiuguang Department Store Plaza.\nImmersive Pop Up at Bicester Village.\nA Pop-Up Store at Lane Crawford.\nAn Official Launch and Awards Gala Dinner.\n\nThe British Beauty Festival runs as part of the Shanghai International Beauty Festival\, and as the country of honour the Festival will benefit from strong visibility\, with inclusion in the official opening ceremony.
URL:https://britishbeautycouncil.com/event-details/the-british-beauty-festival-2026/
ATTACH;FMTTYPE=image/png:https://britishbeautycouncil.com/wp-content/uploads/2026/03/Event-page-header-6.png
END:VEVENT
BEGIN:VEVENT
DTSTART;TZID=Europe/London:20260430T100000
DTEND;TZID=Europe/London:20260430T110000
DTSTAMP:20260423T114552
CREATED:20260417T081943Z
LAST-MODIFIED:20260417T082145Z
UID:10000572-1777543200-1777546800@britishbeautycouncil.com
SUMMARY:NIQ Beauty & Personal Care State of the Nation 2026: The Path to Purchase (UK)
DESCRIPTION:Beauty & Personal Care is evolving alongside advances in technology and changing consumer needs. With a growing focus on wellness and self-care elements\, coupled with the influence of social media and omnichannel touchpoints\, consumers are redefining their path to purchase. To remain relevant\, brands and retailers must reimagine what beauty represents\, break down category boundaries and prioritise how they connect with shoppers. \n\nTo help you stay ahead of this transformation\, NielsenIQ are excited to present NIQ’s UK Beauty & Personal Care State of the Nation on April 30th at 10 am. \nIn this session\, they’ll break down the biggest forces reshaping the Beauty & Personal Care landscape\, including: \n\nHow consumers re-define Beauty & Personal Care categories by incorporating wellness and self-care elements\nWhat can brands learn from the fast-growing AI & Beauty Tech trends\nThe role of different channels in Beauty & Personal Care and how shopping experience matters\nWhat’s next after current trends including Ingredient-led Beauty and K-Beauty?\n\nRegister here.
URL:https://britishbeautycouncil.com/event-details/niq-beauty-personal-care-state-of-the-nation-2026-the-path-to-purchase-uk/
ATTACH;FMTTYPE=image/png:https://britishbeautycouncil.com/wp-content/uploads/2026/04/Event-page-header-2.png
ORGANIZER;CN="British Beauty Council":MAILTO:joinus@britishbeautycouncil.com
END:VEVENT
BEGIN:VEVENT
DTSTART;VALUE=DATE:20260501
DTEND;VALUE=DATE:20260601
DTSTAMP:20260423T114552
CREATED:20250828T124054Z
LAST-MODIFIED:20260210T094053Z
UID:10000516-1777622400-1780246800@britishbeautycouncil.com
SUMMARY:Think Tank 2026
DESCRIPTION:Following the launch of its new roadmap in 2025\, the British Beauty Council welcomes its stakeholders to collaborate on its upcoming activity at its annual Think Tank.  \nFollowing a presentation from leading insight organisations\, we invite our stakeholders to share expertise to propel the Council’s future initiatives. \nThis event is open to stakeholders and Patrons of the British Beauty Council \nIf you are interested in becoming a Patron of the organisation\, email annelies@britishbeautycouncil.com.
URL:https://britishbeautycouncil.com/event-details/think-tank-2026/
ATTACH;FMTTYPE=image/png:https://britishbeautycouncil.com/wp-content/uploads/2025/08/Think-Tank-2026-scaled.png
ORGANIZER;CN="British Beauty Council":MAILTO:joinus@britishbeautycouncil.com
END:VEVENT
BEGIN:VEVENT
DTSTART;VALUE=DATE:20260518
DTEND;VALUE=DATE:20260522
DTSTAMP:20260423T114552
CREATED:20260306T085406Z
LAST-MODIFIED:20260318T144501Z
UID:10000560-1779062400-1779407999@britishbeautycouncil.com
SUMMARY:DBT Trade Delegation to Mexico & Digital Innovation World Department Store Summit
DESCRIPTION:Join the Department for Business & Trade (DBT) delegation to Mexico City for the World Department Store Summit (WDSS)\, 18–21 May. \nUK companies in digital tech\, retail\, beauty\, food and creative industries this is a unique opportunity to access Mexico and connect with 50+ of the world’s leading department stores in one programme. Speakers include Kurt Geiger\, Nordstrom\, Mecca Beauty\, Palacio de Hiero and Liverpool. \nWho should apply?\nUK brands\, Retail/Beauty/Hospitality retail tech providers and creative businesses (store design\, architecture\, interiors) looking to scale internationally. \n Register by 20 March 2026 | 17:00 (UK time) \n Register here
URL:https://britishbeautycouncil.com/event-details/dbt-trade-delegation-to-mexico-digital-innovation-world-department-store-summit/
ATTACH;FMTTYPE=image/png:https://britishbeautycouncil.com/wp-content/uploads/2026/03/Event-page-header.png
ORGANIZER;CN="British Beauty Council":MAILTO:joinus@britishbeautycouncil.com
END:VEVENT
BEGIN:VEVENT
DTSTART;TZID=Europe/London:20260519T110000
DTEND;TZID=Europe/London:20260519T120000
DTSTAMP:20260423T114552
CREATED:20260331T135320Z
LAST-MODIFIED:20260331T135719Z
UID:10000569-1779188400-1779192000@britishbeautycouncil.com
SUMMARY:Future-Forward Retail: Strategies for 2026/27
DESCRIPTION:Are your retail strategies primed for success? \nJoin global trends intelligence business Stylus on May 19 for an unmissable webinar exploring its latest retail and brand communications insights. \nKatie Baron\, Stylus’s Content Director\, will highlight the core strategies and powerful white spaces where brands – and their fans – will thrive in 2026/27. \nThe presentation will be followed by a Q&A\, so have your retail questions ready. \n\n\nRegister here.
URL:https://britishbeautycouncil.com/event-details/future-forward-retail-strategies-for-2026-27/
ATTACH;FMTTYPE=image/png:https://britishbeautycouncil.com/wp-content/uploads/2026/03/Event-page-header-1-2.png
ORGANIZER;CN="British Beauty Council":MAILTO:joinus@britishbeautycouncil.com
END:VEVENT
BEGIN:VEVENT
DTSTART;TZID=Europe/London:20260520T080000
DTEND;TZID=Europe/London:20260520T170000
DTSTAMP:20260423T114552
CREATED:20260325T140443Z
LAST-MODIFIED:20260325T140443Z
UID:10000566-1779264000-1779296400@britishbeautycouncil.com
SUMMARY:Natural Cosmetics Industry Forum
DESCRIPTION:Join NATRUE for the inaugural Natural Cosmetics Industry Forum\, a one-day\, in-person conference taking place on 20 May at the Humboldt Carré (Berlin\, Germany.) This exciting new event brings together experts\, innovators\, and leaders to foster dialogue\, collaboration\, and knowledge-sharing within the natural and organic cosmetics sector. \nDesigned specifically for industry stakeholders\, the forum takes place as an in-person conference in Berlin\, featuring expert-led sessions and providing a space to discuss the challenges and opportunities shaping the future of the sector. \nThis year’s central theme is modernising natural and organic cosmetics — exploring how the industry can evolve while staying true to its core values of sustainability\, transparency and authenticity. \nFind out more.
URL:https://britishbeautycouncil.com/event-details/natural-cosmetics-industry-forum/
ATTACH;FMTTYPE=image/png:https://britishbeautycouncil.com/wp-content/uploads/2026/03/Event-page-header-3-1.png
ORGANIZER;CN="British Beauty Council":MAILTO:joinus@britishbeautycouncil.com
END:VEVENT
BEGIN:VEVENT
DTSTART;VALUE=DATE:20260607
DTEND;VALUE=DATE:20260610
DTSTAMP:20260423T114552
CREATED:20260306T090213Z
LAST-MODIFIED:20260306T090213Z
UID:10000561-1780790400-1781049599@britishbeautycouncil.com
SUMMARY:DFNI Cruise Conference
DESCRIPTION:Now in its ninth year\, the DFNI Cruise Conference in association with Harding+ is the only dedicated maritime retail focused event attracting the top decision makers in cruise retail in an intimate environment. \nThere’s something for everyone: Whether you are an onboard retail operator looking to enhance your cruise ship outlets\, a supplier wishing to improve the match of your products to an ever-evolving market\, or a cruise line endeavouring to find the latest research on changing shopper behaviour\, this is an essential date for your diary. \nFrom cruise tours to workshops and pitch sessions\, and networking moments at sea\, this year’s programme is designed to spark meaningful conversation and deliver practical commercial insight for cruise retail professionals. \nYou can use the discount code DBT15 at checkout to receive 15% off. If you’re booking multiple tickets\, enter the code on the final checkout page and the discount will be applied to the total amount. Please note that the code is valid for delegate tickets and delegate tickets with accommodation included. It does not apply to accommodation-only bookings. \nFor full details visit https://conference.dfnievents.com/DFNICC26/en/page/homepage
URL:https://britishbeautycouncil.com/event-details/dfni-cruise-conference/
ATTACH;FMTTYPE=image/png:https://britishbeautycouncil.com/wp-content/uploads/2026/03/Event-page-header-1.png
ORGANIZER;CN="British Beauty Council":MAILTO:joinus@britishbeautycouncil.com
END:VEVENT
BEGIN:VEVENT
DTSTART;TZID=Europe/London:20260815T080000
DTEND;TZID=Europe/London:20260815T170000
DTSTAMP:20260423T114552
CREATED:20260122T144930Z
LAST-MODIFIED:20260122T144930Z
UID:10000551-1786780800-1786813200@britishbeautycouncil.com
SUMMARY:The UK Hair and Beauty Awards (HBA)
DESCRIPTION:Now firmly established as a must-attend date in the industry calendar\, the 2026 event marks a major evolution for HBA\, expanding for the first time\, into a full day\, three part industry experience designed to bring together professionals\, brands\, media and creators like never before. \nThe day will open with an industry trade show showcasing leading and emerging brands\, followed by the UK Hair & Beauty Awards ceremony itself\, before concluding with a large scale evening festival and afterparty featuring live entertainment\, performances and networking\, bringing the entire hair and beauty community together in one landmark event. \nDetails: \n\nLocation: Manchester’s AO Arena\nDate: August 15th\, 2026.\n\n  \nFind out more here.
URL:https://britishbeautycouncil.com/event-details/the-uk-hair-and-beauty-awards-hba/
ATTACH;FMTTYPE=image/png:https://britishbeautycouncil.com/wp-content/uploads/2026/01/Event-page-header-3.png
ORGANIZER;CN="British Beauty Council":MAILTO:joinus@britishbeautycouncil.com
END:VEVENT
BEGIN:VEVENT
DTSTART;VALUE=DATE:20260902
DTEND;VALUE=DATE:20260905
DTSTAMP:20260423T114552
CREATED:20251216T152916Z
LAST-MODIFIED:20260108T123732Z
UID:10000544-1788307200-1788566399@britishbeautycouncil.com
SUMMARY:BeautyEurasia - Istanbul
DESCRIPTION:BeautyEurasia\, which offers a quality and effective exhibition experience to cosmetics\, beauty and personal care industries\, has been bringing together its exhibitors with buyers from their target markets and industry professionals for 20 years. \nAs one of the largest industry meeting points in Eurasia\, BeautyEurasia stands as the region’s leading international exhibition for beauty\, cosmetics\, and hair care products. It provides a dynamic platform for industry professionals from Türkiye and around the world to establish new business connections and partnership opportunities. \nThe show is one of the most important gateways for exporting to the huge Turkish and Eurasian markets. Manufacturers and exporters targeting the region can establish business contacts and partnerships with a large number of cosmetics chains\, wholesalers and retailers from Africa\, the Middle East\, Central Asia and the Far East.
URL:https://britishbeautycouncil.com/event-details/beautyeurasia-istanbul/
LOCATION:IFM (Istanbul Expo Center)\, Yeşilköy Istanbul\, Istanbul\, 34149\, United Kingdom
ATTACH;FMTTYPE=image/png:https://britishbeautycouncil.com/wp-content/uploads/2025/12/Event-page-header-2.png
ORGANIZER;CN="British Beauty Council":MAILTO:joinus@britishbeautycouncil.com
END:VEVENT
BEGIN:VEVENT
DTSTART;VALUE=DATE:20260916
DTEND;VALUE=DATE:20260918
DTSTAMP:20260423T114552
CREATED:20251120T120944Z
LAST-MODIFIED:20251120T121046Z
UID:10000539-1789516800-1789689599@britishbeautycouncil.com
SUMMARY:Natural & Organic Products Expo
DESCRIPTION:Since 1997\, NOPEX has been your unmissable event for everything natural and organic\, spanning food & drink\, living\, health\, nutrition\, beauty\, and beyond. \nA hub for discovery\, NOPEX attracts buyers from retail\, hospitality\, manufacturing\, import & export\, distribution and wholesale sectors. \nIf you’re seeking fresh product inspiration or want to stay ahead of the latest trends and gain insights from industry leaders\, you’ll find everything you’re looking for at NOPEX. For more information\, visit here. \nEvent Details: \n\nWednesday 16th September 2026 – Thursday 17th September 2026\nLocation: Excel London
URL:https://britishbeautycouncil.com/event-details/natural-organic-food-show/
ATTACH;FMTTYPE=image/png:https://britishbeautycouncil.com/wp-content/uploads/2025/11/Event-page-header-3.png
ORGANIZER;CN="British Beauty Council":MAILTO:joinus@britishbeautycouncil.com
END:VEVENT
BEGIN:VEVENT
DTSTART;VALUE=DATE:20260916
DTEND;VALUE=DATE:20260918
DTSTAMP:20260423T114552
CREATED:20260421T084858Z
LAST-MODIFIED:20260421T084858Z
UID:10000573-1789516800-1789689599@britishbeautycouncil.com
SUMMARY:London Packaging Week
DESCRIPTION:The London Packaging Week Innovation Awards shine a spotlight on the most forward-thinking packaging innovations across the UK industry. \nThis one-of-a-kind awards programme celebrates outstanding technical and creative excellence across luxury packaging\, beauty and personal care\, beverages\, food and consumer goods\, and sustainability – recognising the ideas that are redefining what packaging can achieve. \nJoin London Packaging Week to: \n\nLearn about the newest packaging trends\nNetwork with 210+ suppliers and 5\,572 visitors from brands including Charlotte Tilburry\, Elemis\, COTY\, Jo Malone\, and Lush.\nHear discussions between industry experts. 2025 speakers from: No.7 Beauty Company\, TikTok Shop\, Trinny London\, and Reckitt.\nDiscover packaging innovations for your products\n\nRegister here.
URL:https://britishbeautycouncil.com/event-details/london-packaging-week-2/
ATTACH;FMTTYPE=image/png:https://britishbeautycouncil.com/wp-content/uploads/2026/04/Event-page-header-1-1.png
ORGANIZER;CN="British Beauty Council":MAILTO:joinus@britishbeautycouncil.com
END:VEVENT
BEGIN:VEVENT
DTSTART;VALUE=DATE:20261004
DTEND;VALUE=DATE:20261006
DTSTAMP:20260423T114552
CREATED:20251120T123553Z
LAST-MODIFIED:20251120T125736Z
UID:10000540-1791072000-1791244799@britishbeautycouncil.com
SUMMARY:Professional Beauty Autumn
DESCRIPTION:Join thousands of beauty professionals at Professional Beauty Autumn 2026\, taking place on 4th-5th October 2026 at ExCeL London. Formerly known as Salon Beauty\, this dynamic beauty trade show is the ultimate destination for salon owners\, spa professionals\, aestheticians\, nail techs and beauty therapists looking to discover the latest trends\, technologies and treatments in the industry. Explore hundreds of top beauty brands\, attend expert-led education sessions and network with industry leaders all under one roof. Whether you’re looking to grow your salon business\, introduce new services\, or upskill your team\, Professional Beauty Autumn delivers everything you need to stay ahead of the curve. \nRunning alongside Salon International\, the UK’s biggest hairdressing trade show\, this event also offers a fantastic opportunity to explore professional hair brands\, see celebrity stylists in action and discover how to successfully add hair treatments to your beauty business. \nFind out more here.
URL:https://britishbeautycouncil.com/event-details/professional-beauty-autumn/
CATEGORIES:trade
ATTACH;FMTTYPE=image/png:https://britishbeautycouncil.com/wp-content/uploads/2025/11/Event-page-header-6.png
ORGANIZER;CN="British Beauty Council":MAILTO:joinus@britishbeautycouncil.com
END:VEVENT
BEGIN:VEVENT
DTSTART;VALUE=DATE:20261004
DTEND;VALUE=DATE:20261006
DTSTAMP:20260423T114552
CREATED:20251120T124102Z
LAST-MODIFIED:20251120T124102Z
UID:10000541-1791072000-1791244799@britishbeautycouncil.com
SUMMARY:Salon International
DESCRIPTION:Salon International the UK’s leading event for hair professionals. \nTaking place on 4-5 October 2026\, at ExCel London. \nCome back for more information.
URL:https://britishbeautycouncil.com/event-details/salon-international-2/
ATTACH;FMTTYPE=image/png:https://britishbeautycouncil.com/wp-content/uploads/2025/11/Event-page-header-5.png
ORGANIZER;CN="British Beauty Council":MAILTO:joinus@britishbeautycouncil.com
END:VEVENT
BEGIN:VEVENT
DTSTART;VALUE=DATE:20261006
DTEND;VALUE=DATE:20261009
DTSTAMP:20260423T114552
CREATED:20241204T125435Z
LAST-MODIFIED:20260122T144024Z
UID:10000433-1791244800-1791503999@britishbeautycouncil.com
SUMMARY:Beautyworld Middle East 2026
DESCRIPTION:Beautyworld Middle East is the biggest international fair for beauty and wellness products\, fragrances and beauty accessories in the Middle East and one of the leading beauty trade shows worldwide. Beautyworld Middle East has been the most important platform for the sector in one of the world’s fastest growing markets for more than 25 years and a venue at which trade visitors can be sure of finding global products and brands. \nAll events are aimed at the operators and staff of beauty salons\, hairdressing salons\, nail studios\, hotels\, spas\, the retail and wholesale trades\, and students of professional beauty academies. \nWith eight events\, in Dubai\, Tokyo\, Osaka\, Fukuoka\, Nagoya\, Riyadh\, Tashkent\, and Taipei\, Messe Frankfurt’s Beautyworld network enables exhibitors and visitors to make new business contacts and conclude valuable deals. \n\n  \nFind out more
URL:https://britishbeautycouncil.com/event-details/beautyworld-middle-east-2025/
ATTACH;FMTTYPE=image/png:https://britishbeautycouncil.com/wp-content/uploads/2024/12/event-page-header-2024-12-04t125223.040.png
ORGANIZER;CN="British Beauty Council":MAILTO:joinus@britishbeautycouncil.com
END:VEVENT
BEGIN:VEVENT
DTSTART;VALUE=DATE:20261006
DTEND;VALUE=DATE:20261009
DTSTAMP:20260423T114552
CREATED:20251120T115500Z
LAST-MODIFIED:20251120T120142Z
UID:10000538-1791244800-1791503999@britishbeautycouncil.com
SUMMARY:Beautyworld Middle East
DESCRIPTION:Beautyworld Middle East is the biggest international fair for beauty and wellness products\, fragrances and beauty accessories in the Middle East and one of the leading beauty trade shows worldwide. Beautyworld Middle East has been the most important platform for the sector in one of the world’s fastest growing markets for more than 25 years and a venue at which trade visitors can be sure of finding global products and brands. \nEvent Details: \n\n6 – 8 October\, 2026\n10am – 6pm daily\nDubai World Trade Centre\n\nFind out more.
URL:https://britishbeautycouncil.com/event-details/beautyworld-middle-east/
ATTACH;FMTTYPE=image/png:https://britishbeautycouncil.com/wp-content/uploads/2025/11/Event-page-header-2-2.png
ORGANIZER;CN="British Beauty Council":MAILTO:joinus@britishbeautycouncil.com
END:VEVENT
BEGIN:VEVENT
DTSTART;VALUE=DATE:20261012
DTEND;VALUE=DATE:20261026
DTSTAMP:20260423T114553
CREATED:20260414T154530Z
LAST-MODIFIED:20260414T154531Z
UID:10000571-1791763200-1792972799@britishbeautycouncil.com
SUMMARY:British Beauty Week 2026
DESCRIPTION:British Beauty Week will return this October.  \nBritish Beauty Week is a nationwide celebration uniting industry leaders\, innovators\, policymakers\, brands and consumers to champion the power of beauty. This year\, we shine a light on The Impact of Beauty. \nJoin us on Monday 12th October as the industry’s brightest voices come together for a dynamic day of panel talks and activations\, exploring beauty’s social and cultural influence\, creative energy and economic impact. Tickets launch in June. \nAcross the weeks 12th to 25th October\, brands and businesses nationwide are invited to bring The Impact of Beauty to life — from immersive pop-ups to in-store moments and exclusive experiences. \nWant to get involved in British Beauty Week 2026? Email bbw@britishbeautycouncil.com
URL:https://britishbeautycouncil.com/event-details/british-beauty-week-2026/
CATEGORIES:BBW
ATTACH;FMTTYPE=image/png:https://britishbeautycouncil.com/wp-content/uploads/2026/04/Event-page-header-1.png
ORGANIZER;CN="British Beauty Council":MAILTO:joinus@britishbeautycouncil.com
END:VEVENT
END:VCALENDAR