BEGIN:VCALENDAR
VERSION:2.0
PRODID:-//The British Beauty Council - ECPv6.14.2//NONSGML v1.0//EN
CALSCALE:GREGORIAN
METHOD:PUBLISH
X-WR-CALNAME:The British Beauty Council
X-ORIGINAL-URL:https://britishbeautycouncil.com
X-WR-CALDESC:Events for The British Beauty Council
REFRESH-INTERVAL;VALUE=DURATION:PT1H
X-Robots-Tag:noindex
X-PUBLISHED-TTL:PT1H
BEGIN:VTIMEZONE
TZID:Europe/London
BEGIN:DAYLIGHT
TZOFFSETFROM:+0000
TZOFFSETTO:+0100
TZNAME:BST
DTSTART:20260329T010000
END:DAYLIGHT
BEGIN:STANDARD
TZOFFSETFROM:+0100
TZOFFSETTO:+0000
TZNAME:GMT
DTSTART:20261025T010000
END:STANDARD
END:VTIMEZONE
BEGIN:VEVENT
DTSTART;VALUE=DATE:20260407
DTEND;VALUE=DATE:20260424
DTSTAMP:20260423T020545
CREATED:20260325T124648Z
LAST-MODIFIED:20260325T124648Z
UID:10000565-1775520000-1776988799@britishbeautycouncil.com
SUMMARY:Fuel your business growth: Business Skills
DESCRIPTION:Growing a successful business takes a wide range of skills and great entrepreneurs are always learning. This series of nine webinars cover a wide range of topics aimed at helping your business to grow whatever market or sector you are in. \n\nEvent page: Fuel your business growth: Business Skills\nNumber of events: Three\nDates: 7\, 9 and 23 April
URL:https://britishbeautycouncil.com/event-details/fuel-your-business-growth-business-skills/
ATTACH;FMTTYPE=image/png:https://britishbeautycouncil.com/wp-content/uploads/2026/03/Event-page-header-2-1.png
ORGANIZER;CN="British Beauty Council":MAILTO:joinus@britishbeautycouncil.com
END:VEVENT
BEGIN:VEVENT
DTSTART;VALUE=DATE:20260423
DTEND;VALUE=DATE:20260601
DTSTAMP:20260423T020545
CREATED:20260327T121746Z
LAST-MODIFIED:20260413T090010Z
UID:10000567-1776902400-1780271999@britishbeautycouncil.com
SUMMARY:The British Beauty Festival 2026
DESCRIPTION:The British Beauty Council is proud to present the inaugural British Beauty Festival in China\,  taking place in Shanghai in April 2026. \nPartnering with the UK Department for Business and Trade (DBT) and Chrysalis Beauty\, this milestone moment marks an exciting new chapter as the Festival brings the very best of British beauty and wellness to one of the world’s most dynamic and fast-evolving consumer markets. Designed to spotlight the innovation\, creativity and diversity of the UK beauty sector\, the Festival will serve as a gateway for British brands to connect with a highly engaged and sophisticated Chinese audience. As global demand for authentic\, high-quality British beauty continues to grow\, China stands at the forefront of this opportunity.  \nParticipating names include Elemis\, Neal’s Yard Remedies\, Sarah Chapman\, Skin Cycles\, Votary\, Wildsmith Skincare\, Jo Malone London\, Fortnum & Mason\, Balmonds\, Eve Lom\, Noble Isle\, Rosemary Hair Oil\, MD:Ceuticals\, Pixi\, UKLash\, Skin Cycles\, Floris\, Forest Spa Finland\, Verden\, 320MHz\, Hair Laboratory\, Nailberry and Shake Up.  \nThe event\, co-hosted by Chrysalis (Joyce Beauty’s mainland China licensee) and the UK’s Department for Business and Trade will be held across Shanghai\, and will feature: \n\nImmersive Pop-Up Store in Jiuguang Department Store Plaza.\nImmersive Pop Up at Bicester Village.\nA Pop-Up Store at Lane Crawford.\nAn Official Launch and Awards Gala Dinner.\n\nThe British Beauty Festival runs as part of the Shanghai International Beauty Festival\, and as the country of honour the Festival will benefit from strong visibility\, with inclusion in the official opening ceremony.
URL:https://britishbeautycouncil.com/event-details/the-british-beauty-festival-2026/
ATTACH;FMTTYPE=image/png:https://britishbeautycouncil.com/wp-content/uploads/2026/03/Event-page-header-6.png
END:VEVENT
END:VCALENDAR