BEGIN:VCALENDAR
VERSION:2.0
PRODID:-//The British Beauty Council - ECPv6.14.2//NONSGML v1.0//EN
CALSCALE:GREGORIAN
METHOD:PUBLISH
X-WR-CALNAME:The British Beauty Council
X-ORIGINAL-URL:https://britishbeautycouncil.com
X-WR-CALDESC:Events for The British Beauty Council
REFRESH-INTERVAL;VALUE=DURATION:PT1H
X-Robots-Tag:noindex
X-PUBLISHED-TTL:PT1H
BEGIN:VTIMEZONE
TZID:Europe/London
BEGIN:DAYLIGHT
TZOFFSETFROM:+0000
TZOFFSETTO:+0100
TZNAME:BST
DTSTART:20250330T010000
END:DAYLIGHT
BEGIN:STANDARD
TZOFFSETFROM:+0100
TZOFFSETTO:+0000
TZNAME:GMT
DTSTART:20251026T010000
END:STANDARD
END:VTIMEZONE
BEGIN:VEVENT
DTSTART;TZID=Europe/London:20250723T080000
DTEND;TZID=Europe/London:20250928T170000
DTSTAMP:20260423T220020
CREATED:20250613T140716Z
LAST-MODIFIED:20250613T140716Z
UID:10000487-1753257600-1759078800@britishbeautycouncil.com
SUMMARY:Virtual Beauty at Somerset House
DESCRIPTION:Featuring over 20 international artists\, Virtual Beauty will delve into the influence of artificial intelligence\, social media\, and virtual identities on self-image. \nThe exhibition will feature interactive installations and pioneering works that challenge traditional beauty standards. Highlights include ORLAN’s Omniprésence (1993)\, a groundbreaking performance in which the artist live-streamed her own facial aesthetic surgery to critique Western beauty ideals\, and Amalia Ulman’s Excellences & Perfections\, a powerful commentary on the authenticity of social media personas. Artificial intelligence’s perception of beauty will be examined through AI-generated portraits by Minnie Atairu\, Ben Cullen Williams\, and Isamaya Ffrench\, while Harriet Davey\, Frederik Heyman\, and Andrew Thomas Huang explore digital self-expression and the creation of avatars beyond human boundaries. \nDates: 23rd July – 28th September 2025.  \nFind out more
URL:https://britishbeautycouncil.com/event-details/virtual-beauty-at-somerset-house/
LOCATION:Somerset House\, London\, WC2R 1LA
ATTACH;FMTTYPE=image/png:https://britishbeautycouncil.com/wp-content/uploads/2025/06/Event-page-header-2025-06-13T150603.972.png
END:VEVENT
BEGIN:VEVENT
DTSTART;TZID=Europe/London:20250724T120000
DTEND;TZID=Europe/London:20250826T110000
DTSTAMP:20260423T220020
CREATED:20250703T134516Z
LAST-MODIFIED:20250703T134814Z
UID:10000492-1753358400-1756206000@britishbeautycouncil.com
SUMMARY:Fuel your business growth: Start your business
DESCRIPTION:Are you ready to transform your passion into a thriving business? This six-part series will explore the fundamentals businesses need to consider\, and equip them with the tools and knowledge to kick-start their entrepreneurial journey. \n\n  \nEvents in this series\nThis six-part series will provide budding entrepreneurs with the basics of how to successfully start a business. \n  \n\n\n\n1. Ideas to reality: Understanding the viability of your business: 24 July at 12PM \n2. Introduction to financial terminology: Some definitions to grasp! 29 July at 2:00pm \n3. Customer profiling: Customers and competitors: 5 August at 2:00pm \n4. Planning for success: How to action plan by adopting SMART objectives: 13 August at 12:00pm \n5. Four steps to kick-start your venture: 19 August at 11:00am \n6. From the kitchen table to the world: 26 August at 10:00am \n\n\n\n  \n  \nRegister here
URL:https://britishbeautycouncil.com/event-details/fuel-your-business-growth-start-your-business/
ATTACH;FMTTYPE=image/png:https://britishbeautycouncil.com/wp-content/uploads/2025/07/Event-page-header.png
ORGANIZER;CN="British Beauty Council":MAILTO:joinus@britishbeautycouncil.com
END:VEVENT
BEGIN:VEVENT
DTSTART;TZID=Europe/London:20250812T100000
DTEND;TZID=Europe/London:20250812T110000
DTSTAMP:20260423T220020
CREATED:20250728T111551Z
LAST-MODIFIED:20250728T111551Z
UID:10000506-1754992800-1754996400@britishbeautycouncil.com
SUMMARY:A beginner's guide to digital payment solutions when selling overseas
DESCRIPTION:This webinar is part of the Strategic Horizons in Export: Expanding the female digital frontier series\, helping women entrepreneurs and leaders of small businesses in the digital economy learn how to scale digital businesses globally. It is delivered in partnership with the Department for Business and Trade’s Digital Commerce Team. \nIn the digital economy\, digital payments play a crucial role in facilitating cross-border sales and scaling businesses internationally. In this session\, the UK Export Academy will explore the various digital payment solutions available and how they can be utilised to enhance business operations and customer experiences. \nWhether you’re looking to expand your business globally or optimise your existing payment processes\, this session will provide valuable insights and practical strategies. \nIn this session you will: \n\nLearn about the different digital payment methods and platforms available for international transactions\nDiscover how digital payments can improve customer satisfaction and streamline business operations\nUnderstand how to use exchange rates to take payments\, minimise payment for commission and paying suppliers in their currency\n\nRegister here
URL:https://britishbeautycouncil.com/event-details/a-beginners-guide-to-digital-payment-solutions-when-selling-overseas/
CATEGORIES:business,Insight webinar
ATTACH;FMTTYPE=image/png:https://britishbeautycouncil.com/wp-content/uploads/2025/07/Event-page-header-5.png
ORGANIZER;CN="British Beauty Council":MAILTO:joinus@britishbeautycouncil.com
END:VEVENT
END:VCALENDAR