BEGIN:VCALENDAR
VERSION:2.0
PRODID:-//The British Beauty Council - ECPv6.14.2//NONSGML v1.0//EN
CALSCALE:GREGORIAN
METHOD:PUBLISH
X-ORIGINAL-URL:https://britishbeautycouncil.com
X-WR-CALDESC:Events for The British Beauty Council
REFRESH-INTERVAL;VALUE=DURATION:PT1H
X-Robots-Tag:noindex
X-PUBLISHED-TTL:PT1H
BEGIN:VTIMEZONE
TZID:Europe/London
BEGIN:DAYLIGHT
TZOFFSETFROM:+0000
TZOFFSETTO:+0100
TZNAME:BST
DTSTART:20250330T010000
END:DAYLIGHT
BEGIN:STANDARD
TZOFFSETFROM:+0100
TZOFFSETTO:+0000
TZNAME:GMT
DTSTART:20251026T010000
END:STANDARD
END:VTIMEZONE
BEGIN:VEVENT
DTSTART;TZID=Europe/London:20250716T120000
DTEND;TZID=Europe/London:20250716T130000
DTSTAMP:20260423T080447
CREATED:20250703T140231Z
LAST-MODIFIED:20250703T140323Z
UID:10000494-1752667200-1752670800@britishbeautycouncil.com
SUMMARY:B2B marketplaces: Do they really work and how can I best use them? 
DESCRIPTION:Did you know that businesses that utilize B2B marketplaces report an average increase of 30% in their sales revenue? Are you thinking of selling via B2B marketplaces\, and want to know more? \nThis session\, in partnership with the Department for Business and Trade‘s Digital Commerce Team\, will provide you with a comprehensive understanding of the dynamics of B2B marketplaces\, including their benefits and potential challenges\, and how they can be utilised to enhance the operations of your business. \n\n  \n\nWhat you’ll learn\n\n\nUnderstand how to use B2B marketplaces and how they can help you increase your sales\nStrategies for success when using B2B marketplaces\, including best practices for navigating them\nHow B2B marketplaces can offer you an effective way to increase your cross-border sales\n\n\n\n\n\n\nRegister here
URL:https://britishbeautycouncil.com/event-details/b2b-marketplaces-do-they-really-work-and-how-can-i-best-use-them/
CATEGORIES:trade
ATTACH;FMTTYPE=image/png:https://britishbeautycouncil.com/wp-content/uploads/2025/07/Event-page-header-2.png
ORGANIZER;CN="British Beauty Council":MAILTO:joinus@britishbeautycouncil.com
END:VEVENT
BEGIN:VEVENT
DTSTART;TZID=Europe/London:20250716T183000
DTEND;TZID=Europe/London:20250716T203000
DTSTAMP:20260423T080447
CREATED:20250627T132132Z
LAST-MODIFIED:20250627T132432Z
UID:10000491-1752690600-1752697800@britishbeautycouncil.com
SUMMARY:Skin & Hair: The Summer Session
DESCRIPTION:Join Caroline and Sam for a live\, no-filter summer beauty masterclass. Expect expert hacks\, honest advice\, and an effortless routine… \nTwo beauty icons. One summer-ready routine. Join Caroline Hirons and Sam McKnight in Studio 53\, London for a live\, unfiltered masterclass in summer skin and effortless Cool Girl hair that actually works – complete with product hacks\, insider secrets and your chance to ask the experts. Expect glow\, ease\, laughs – and plenty of summer-ready skin and hair tips. Obviously. \nBonus: Shop Sam and Caroline’s picks — plus a glass (or two) of fizz on us. \nWhat’s on the agenda \n\nReal talk on humidity\, hair volume\, SPF overload\, frizz & more\nLive model demos from Caroline & Sam\nQuick-fire Q&A with pro tips you can actually use\nExclusive access to both founders and educational teams\nFizz\, selfies\, and time to mingle\n\nEvent Details: \n\nDate: Wednesday 16 July\, 6.30 PM – 8.30 PM\nLocation: Studio 53\, 124-128 Barlby Road London W10 6BL\n\n\nRegister here
URL:https://britishbeautycouncil.com/event-details/skin-hair-the-summer-session/
ATTACH;FMTTYPE=image/png:https://britishbeautycouncil.com/wp-content/uploads/2025/06/Event-page-header-4.png
ORGANIZER;CN="British Beauty Council":MAILTO:joinus@britishbeautycouncil.com
END:VEVENT
END:VCALENDAR