BEGIN:VCALENDAR
VERSION:2.0
PRODID:-//The British Beauty Council - ECPv6.14.2//NONSGML v1.0//EN
CALSCALE:GREGORIAN
METHOD:PUBLISH
X-ORIGINAL-URL:https://britishbeautycouncil.com
X-WR-CALDESC:Events for The British Beauty Council
REFRESH-INTERVAL;VALUE=DURATION:PT1H
X-Robots-Tag:noindex
X-PUBLISHED-TTL:PT1H
BEGIN:VTIMEZONE
TZID:Europe/London
BEGIN:DAYLIGHT
TZOFFSETFROM:+0000
TZOFFSETTO:+0100
TZNAME:BST
DTSTART:20250330T010000
END:DAYLIGHT
BEGIN:STANDARD
TZOFFSETFROM:+0100
TZOFFSETTO:+0000
TZNAME:GMT
DTSTART:20251026T010000
END:STANDARD
END:VTIMEZONE
BEGIN:VEVENT
DTSTART;TZID=Europe/London:20250710T183000
DTEND;TZID=Europe/London:20250710T203000
DTSTAMP:20260423T031100
CREATED:20250623T102629Z
LAST-MODIFIED:20250623T102850Z
UID:10000489-1752172200-1752179400@britishbeautycouncil.com
SUMMARY:LUSH Presents: Scent as Story - The Emotional Power Behind The Fragrances We Wear
DESCRIPTION:Join LUSH for an exclusive evening exploring the deep connection between scent\, memory\, and narrative. This panel discussion will feature LUSH in-house perfumers Emma Vincent and Alina Gliwinska\, with conversation led by beauty journalist and founder of Smart Beauty Creative\, Viola Levy. \n\n🗓 Wednesday 10th July\n🕡 Doors open at 6:30pm | Panel begins at 7:30pm\n📍 Cocktails\, scent pairings\, and fragrant surprises \nPlease note: This is a press & industry-only event.To request a place on the guestlist\, contact: viola.levy@gmail.com
URL:https://britishbeautycouncil.com/event-details/lush-presents-scent-as-story-the-emotional-power-behind-the-fragrances-we-wear/
ATTACH;FMTTYPE=image/png:https://britishbeautycouncil.com/wp-content/uploads/2025/06/Event-page-header-1-2.png
ORGANIZER;CN="British Beauty Council":MAILTO:joinus@britishbeautycouncil.com
END:VEVENT
END:VCALENDAR