BEGIN:VCALENDAR
VERSION:2.0
PRODID:-//The British Beauty Council - ECPv6.14.2//NONSGML v1.0//EN
CALSCALE:GREGORIAN
METHOD:PUBLISH
X-ORIGINAL-URL:https://britishbeautycouncil.com
X-WR-CALDESC:Events for The British Beauty Council
REFRESH-INTERVAL;VALUE=DURATION:PT1H
X-Robots-Tag:noindex
X-PUBLISHED-TTL:PT1H
BEGIN:VTIMEZONE
TZID:Europe/London
BEGIN:DAYLIGHT
TZOFFSETFROM:+0000
TZOFFSETTO:+0100
TZNAME:BST
DTSTART:20250330T010000
END:DAYLIGHT
BEGIN:STANDARD
TZOFFSETFROM:+0100
TZOFFSETTO:+0000
TZNAME:GMT
DTSTART:20251026T010000
END:STANDARD
END:VTIMEZONE
BEGIN:VEVENT
DTSTART;VALUE=DATE:20250623
DTEND;VALUE=DATE:20250630
DTSTAMP:20260422T204656
CREATED:20241204T114644Z
LAST-MODIFIED:20241204T154711Z
UID:10000427-1750636800-1751241599@britishbeautycouncil.com
SUMMARY:CEW Beauty Awards 2025 Winners Announcement Lunch
DESCRIPTION:Join CEW as they announce the winners of the 2025 CEW Beauty Awards\, including the member voted CEW Awards\, the Responsible Beauty Awards\, the Consumer Choice Awards and the Amazon Beauty Breakthrough Award. \nDate to be confirmed. \n\n  \nFind out more
URL:https://britishbeautycouncil.com/event-details/cew-beauty-awards-2025-winners-announcement-lunch/
ATTACH;FMTTYPE=image/png:https://britishbeautycouncil.com/wp-content/uploads/2024/12/event-page-header-2024-12-04t154619.030.png
ORGANIZER;CN="British Beauty Council":MAILTO:joinus@britishbeautycouncil.com
END:VEVENT
END:VCALENDAR