BEGIN:VCALENDAR
VERSION:2.0
PRODID:-//The British Beauty Council - ECPv6.14.2//NONSGML v1.0//EN
CALSCALE:GREGORIAN
METHOD:PUBLISH
X-ORIGINAL-URL:https://britishbeautycouncil.com
X-WR-CALDESC:Events for The British Beauty Council
REFRESH-INTERVAL;VALUE=DURATION:PT1H
X-Robots-Tag:noindex
X-PUBLISHED-TTL:PT1H
BEGIN:VTIMEZONE
TZID:Europe/London
BEGIN:DAYLIGHT
TZOFFSETFROM:+0000
TZOFFSETTO:+0100
TZNAME:BST
DTSTART:20250330T010000
END:DAYLIGHT
BEGIN:STANDARD
TZOFFSETFROM:+0100
TZOFFSETTO:+0000
TZNAME:GMT
DTSTART:20251026T010000
END:STANDARD
END:VTIMEZONE
BEGIN:VEVENT
DTSTART;VALUE=DATE:20250623
DTEND;VALUE=DATE:20250630
DTSTAMP:20260422T235555
CREATED:20241204T114644Z
LAST-MODIFIED:20241204T154711Z
UID:10000427-1750636800-1751241599@britishbeautycouncil.com
SUMMARY:CEW Beauty Awards 2025 Winners Announcement Lunch
DESCRIPTION:Join CEW as they announce the winners of the 2025 CEW Beauty Awards\, including the member voted CEW Awards\, the Responsible Beauty Awards\, the Consumer Choice Awards and the Amazon Beauty Breakthrough Award. \nDate to be confirmed. \n\n  \nFind out more
URL:https://britishbeautycouncil.com/event-details/cew-beauty-awards-2025-winners-announcement-lunch/
ATTACH;FMTTYPE=image/png:https://britishbeautycouncil.com/wp-content/uploads/2024/12/event-page-header-2024-12-04t154619.030.png
ORGANIZER;CN="British Beauty Council":MAILTO:joinus@britishbeautycouncil.com
END:VEVENT
BEGIN:VEVENT
DTSTART;TZID=Europe/London:20250624T100000
DTEND;TZID=Europe/London:20250627T160000
DTSTAMP:20260422T235555
CREATED:20250619T141252Z
LAST-MODIFIED:20250619T141501Z
UID:10000488-1750759200-1751040000@britishbeautycouncil.com
SUMMARY:Global Axis: B2B E-Commerce Unpacked Webinar Series
DESCRIPTION:In today’s digital era\, B2B eCommerce has emerged as a powerful engine for growth\, providing UK businesses with vast opportunities to expand overseas through digital commerce. \nThis series is delivered in partnership with the Department for Business and Trade’s Digital Commerce Team and the Digital Exporting Programme; experts from the B2B eCommerce Trade Association; and other digital eCommerce experts. Learn how to embrace and unlock the potential of eCommerce for your business in the following series of webinars: \n  \nWhy B2B eCommerce will help you reach your sales targets – Tuesday 24 June at 3:00PM \nDid you know that businesses adopting B2B eCommerce report average revenue increases of up to 20% within the first year post-implementation? \nJoin us for top tips on how to unlock B2B success with eCommerce\, as we take you through how to build an effective digital strategy for using this business model in your own operations. \nWe’ll also be debunking myths around the world of B2B eCommerce and showing you how it is isn’t the enemy\, but can be used in a positive way to help you uncover revenue driving opportunities. \nSign up here \n  \nStrategic Horizons in Export: Expanding the female digital frontier \nChoosing the right tech for global growth – Wednesday 25 June at 10:00AM \nThis webinar is part of the Strategic Horizons in Export: Expanding the female digital frontier series\, designed to empower female led and owned business\, and helping women entrepreneurs and leaders of small businesses in the digital economy learn how to scale digital businesses globally. This session will help female business founders and digital entrepreneurs cut through the noise when it comes to choosing the right tech for global growth. With a myriad of platforms and tools available\, it can be difficult to know where to start with using tech to grow your business. \nSign up here \n\nNew: How to successfully sell overseas with eBay – Wednesday 25 June at 12:00PM \nWorking out how to take the first step to grow your business internationally can be tough at times. One option for growing your business is through using an online marketplace. \nThe eBay team will show how selling via online marketplaces can help you reach new customers overseas and make exporting simpler from a tax and customs perspective. In this webinar\, eBay will talk about their global shipping programme on how to make digital commerce super straight forward and hassle free. \nSign up here \n\nTop Tips for Growing B2C Sales Internationally through eCommerce – Thursday 26 June at 2:00 PM \nA London Chamber of Commerce & Industry webinar in partnership with UPS. Join this webinar on how to increase your B2C sales internationally. You will gain an understanding of the requirements for B2C trade\, such as brokerage and compliance\,  different countries payment and delivery preferences\, and the essential tips for exporting and shipping. \nSign up here
URL:https://britishbeautycouncil.com/event-details/global-axis-b2b-e-commerce-unpacked-webinar-series/
ATTACH;FMTTYPE=image/png:https://britishbeautycouncil.com/wp-content/uploads/2025/06/Event-page-header-2.png
ORGANIZER;CN="British Beauty Council":MAILTO:joinus@britishbeautycouncil.com
END:VEVENT
BEGIN:VEVENT
DTSTART;TZID=Europe/London:20250626T180000
DTEND;TZID=Europe/London:20250626T203000
DTSTAMP:20260422T235555
CREATED:20250605T110825Z
LAST-MODIFIED:20250605T111500Z
UID:10000482-1750960800-1750969800@britishbeautycouncil.com
SUMMARY:British Beauty Council X Dija Ayodele Founders Supper Club
DESCRIPTION:The British Beauty Council and Dija Ayodele are welcoming founders to an intimate dinner dedicated to uncovering the work of the organisation. This event is invitation only. \n 
URL:https://britishbeautycouncil.com/event-details/british-beauty-council-x-dija-ayodele-founders-supper-club/
ATTACH;FMTTYPE=image/png:https://britishbeautycouncil.com/wp-content/uploads/2025/06/Event-page-header-2025-06-05T121440.408.png
ORGANIZER;CN="British Beauty Council":MAILTO:joinus@britishbeautycouncil.com
END:VEVENT
END:VCALENDAR