BEGIN:VCALENDAR
VERSION:2.0
PRODID:-//The British Beauty Council - ECPv6.14.2//NONSGML v1.0//EN
CALSCALE:GREGORIAN
METHOD:PUBLISH
X-ORIGINAL-URL:https://britishbeautycouncil.com
X-WR-CALDESC:Events for The British Beauty Council
REFRESH-INTERVAL;VALUE=DURATION:PT1H
X-Robots-Tag:noindex
X-PUBLISHED-TTL:PT1H
BEGIN:VTIMEZONE
TZID:Europe/London
BEGIN:DAYLIGHT
TZOFFSETFROM:+0000
TZOFFSETTO:+0100
TZNAME:BST
DTSTART:20250330T010000
END:DAYLIGHT
BEGIN:STANDARD
TZOFFSETFROM:+0100
TZOFFSETTO:+0000
TZNAME:GMT
DTSTART:20251026T010000
END:STANDARD
END:VTIMEZONE
BEGIN:VEVENT
DTSTART;VALUE=DATE:20250602
DTEND;VALUE=DATE:20250606
DTSTAMP:20260422T223205
CREATED:20241204T112423Z
LAST-MODIFIED:20241204T112423Z
UID:10000425-1748822400-1749167999@britishbeautycouncil.com
SUMMARY:The Global Fashion Summit: Copenhagen Edition 2025
DESCRIPTION:Global Fashion Summit is presented by Global Fashion Agenda (GFA) – a non-profit organisation that fosters industry collaboration on sustainability in fashion to accelerate impact. With a 15-year foundation as the leading forum for sustainability in fashion\, Global Fashion Summit is synonymous with the sustainability zeitgeist.   \nThe fashion industry is facing immense pressure to adapt and innovate while complying with an increasingly complex regulatory environment. The 2025 theme for Global Fashion Summit\, ‘Barriers and Bridges’\, highlights the dualities of this moment\, where traditional barriers have the possibility to transform into bridges for tangible change. \nThe Global Fashion Summit: Copenhagen Edition 2025 will be held from 3-5 June 2025\, with pre-Summit activities on 3 June\, followed by the main Summit events on 4-5 June. \n  \nFind out more
URL:https://britishbeautycouncil.com/event-details/the-global-fashion-summit-copenhagen-edition-2025/
LOCATION:Copenhagen
ATTACH;FMTTYPE=image/png:https://britishbeautycouncil.com/wp-content/uploads/2024/12/event-page-header-98.png
ORGANIZER;CN="British Beauty Council":MAILTO:joinus@britishbeautycouncil.com
END:VEVENT
BEGIN:VEVENT
DTSTART;TZID=Europe/London:20250604T150000
DTEND;TZID=Europe/London:20250604T160000
DTSTAMP:20260422T223205
CREATED:20250506T113017Z
LAST-MODIFIED:20250506T113609Z
UID:10000477-1749049200-1749052800@britishbeautycouncil.com
SUMMARY:Positive Luxury Presents: The Future of Wellness and Longevity
DESCRIPTION:The Future of Wellness and Longevity: How nature-inspired experiences\, longevity science\, and collective action are redefining luxury beauty and hospitality  \nJoin Positive Luxury on 4th June at 3:00pm BST for an exclusive webinar exploring how the world’s leading luxury brands in beauty and hospitality are redefining longevity and holistic wellness. As consumer demand for increased healthspan and wellbeing soars\, discover why nature is at the heart of the industry’s evolution. Positive Luxury experts – together with industry pioneers\, the British Beauty Council\, Westerlands\, and Hooke – will explore: \n\nActionable insights on nature-inspired design\, social wellness and sustainability\nHow to foster guest engagement and talent retention for collective action\nAligning with longevity and wellness trends to future-proof your business\n\nSpeakers: \n\nWesterlands (Antonia Jamison\, Owner)\nBritish Beauty Council (Millie Kendall\, CEO)\nHooke (Kate Woolhouse\, CEO)\n\n  \n  \nSign up here
URL:https://britishbeautycouncil.com/event-details/positive-luxury-presents-the-future-of-wellness-and-longevity/
ATTACH;FMTTYPE=image/png:https://britishbeautycouncil.com/wp-content/uploads/2025/05/Event-page-header-1.png
ORGANIZER;CN="British Beauty Council":MAILTO:joinus@britishbeautycouncil.com
END:VEVENT
END:VCALENDAR