BEGIN:VCALENDAR
VERSION:2.0
PRODID:-//The British Beauty Council - ECPv6.14.2//NONSGML v1.0//EN
CALSCALE:GREGORIAN
METHOD:PUBLISH
X-ORIGINAL-URL:https://britishbeautycouncil.com
X-WR-CALDESC:Events for The British Beauty Council
REFRESH-INTERVAL;VALUE=DURATION:PT1H
X-Robots-Tag:noindex
X-PUBLISHED-TTL:PT1H
BEGIN:VTIMEZONE
TZID:Europe/London
BEGIN:DAYLIGHT
TZOFFSETFROM:+0000
TZOFFSETTO:+0100
TZNAME:BST
DTSTART:20250330T010000
END:DAYLIGHT
BEGIN:STANDARD
TZOFFSETFROM:+0100
TZOFFSETTO:+0000
TZNAME:GMT
DTSTART:20251026T010000
END:STANDARD
END:VTIMEZONE
BEGIN:VEVENT
DTSTART;TZID=Europe/London:20250402T140000
DTEND;TZID=Europe/London:20250514T150000
DTSTAMP:20260422T235503
CREATED:20250425T120444Z
LAST-MODIFIED:20250425T120746Z
UID:10000476-1743602400-1747234800@britishbeautycouncil.com
SUMMARY:Gateway USA: Your Gateway to US Market Success
DESCRIPTION:Gateway USA is a UK Export Academy webinar series designed to help businesses gain the knowledge and tools to succeed in the US market. Whether expanding for the first time or looking to optimise US operations\, Gateway USA provides expert insights. \nAccess the full series here: Gateway USA  \n \n  \nCurious about US Tariffs? \nJoin them on Monday 28 April\, at 2pm for a focused session designed to help businesses understand and navigate the evolving landscape of US tariffs – and what it means for trading with the United States. \nIn this session\, they’ll cover: \n\nThe latest developments in US tariff policies\nHow these changes could affect UK businesses\nThe impact of Rules of Origin on tariff rates and compliance\n\nSign up here: US Tariffs
URL:https://britishbeautycouncil.com/event-details/gateway-usa-your-gateway-to-us-market-success/
ATTACH;FMTTYPE=image/png:https://britishbeautycouncil.com/wp-content/uploads/2025/04/6.png
ORGANIZER;CN="British Beauty Council":MAILTO:joinus@britishbeautycouncil.com
END:VEVENT
BEGIN:VEVENT
DTSTART;VALUE=DATE:20250408
DTEND;VALUE=DATE:20250411
DTSTAMP:20260422T235503
CREATED:20241204T105020Z
LAST-MODIFIED:20241204T143411Z
UID:10000421-1744070400-1744329599@britishbeautycouncil.com
SUMMARY:Cosmetics Global: Cosmetic Ingredients Trade Show
DESCRIPTION:in-cosmetics Global unites the global cosmetics industry to connect\, inspire\, share insights\, and spark new collaborations. \nAs the world’s premier launchpad for new ingredient innovations\, in-cosmetics Global brings together beauty creators from around the globe to drive the personal care industry forward with products that captivate consumers. Celebrating excellence in ingredient innovation\, the event offers top-tier education on cutting-edge science and trends. \nWhether you’re a personal care creator or an exhibiting supplier of ingredients\, fragrances\, lab equipment\, testing\, or regulatory solutions\, in-cosmetics Global has something for everyone. Join us to discover fresh ideas and developments\, unlocking new consumer experiences in an ever-evolving world. \n\n  \nFind out more
URL:https://britishbeautycouncil.com/event-details/cosmetics-global-cosmetic-ingredients-trade-show/
LOCATION:RAI Amsterdam\, Europaplein 24\, Amsterdam\, 1078 GZ\, Netherlands
ATTACH;FMTTYPE=image/png:https://britishbeautycouncil.com/wp-content/uploads/2024/12/event-page-header-93.png
ORGANIZER;CN="British Beauty Council":MAILTO:joinus@britishbeautycouncil.com
END:VEVENT
END:VCALENDAR