BEGIN:VCALENDAR
VERSION:2.0
PRODID:-//The British Beauty Council - ECPv6.14.2//NONSGML v1.0//EN
CALSCALE:GREGORIAN
METHOD:PUBLISH
X-ORIGINAL-URL:https://britishbeautycouncil.com
X-WR-CALDESC:Events for The British Beauty Council
REFRESH-INTERVAL;VALUE=DURATION:PT1H
X-Robots-Tag:noindex
X-PUBLISHED-TTL:PT1H
BEGIN:VTIMEZONE
TZID:Europe/London
BEGIN:DAYLIGHT
TZOFFSETFROM:+0000
TZOFFSETTO:+0100
TZNAME:BST
DTSTART:20250330T010000
END:DAYLIGHT
BEGIN:STANDARD
TZOFFSETFROM:+0100
TZOFFSETTO:+0000
TZNAME:GMT
DTSTART:20251026T010000
END:STANDARD
END:VTIMEZONE
BEGIN:VEVENT
DTSTART;TZID=Europe/London:20250324T090000
DTEND;TZID=Europe/London:20250324T160000
DTSTAMP:20260423T001823
CREATED:20250304T144135Z
LAST-MODIFIED:20250304T144135Z
UID:10000466-1742806800-1742832000@britishbeautycouncil.com
SUMMARY:Tackling the Cosmetic Industry: Training for Local Authority Officers
DESCRIPTION:Local authority officers are at the forefront of protecting public health\, but with high-risk cosmetic procedures on the rise – and no licensing regime in place – enforcement can be a real challenge. \n  \nThis event brings together leading experts in environmental health\, aesthetics\, and enforcement to provide vital updates and practical guidance on: \n– The latest on licensing non-surgical cosmetic procedures\n– Infection prevention and enforcement action for high-risk treatments\n– The link between mental health and aesthetics\n– Misuse of medicines and tackling illegal cosmetic practices \n  \nHear from a fantastic line-up of speakers\, including:\n– Professor David Sines (Joint Council for Cosmetic Practitioners)\n– Andrew Rankin (JCCP trustee & cosmetic medicine expert)\n– Charlotte Rose & Brian Stalabrass (Environmental Health Officers tackling real cases)\n– Dalvi Humzah (Consultant Plastic Surgeon)\n– Barbra Carter (MHRA Criminal Enforcement Officer) \nThis is a must-attend event for environmental health\, licensing\, and regulatory officers working in this challenging field. \n  \nFind out more and get tickets
URL:https://britishbeautycouncil.com/event-details/tackling-the-cosmetic-industry-training-for-local-authority-officers/
ATTACH;FMTTYPE=image/png:https://britishbeautycouncil.com/wp-content/uploads/2025/03/Event-page-header-7.png
ORGANIZER;CN="British Beauty Council":MAILTO:joinus@britishbeautycouncil.com
END:VEVENT
END:VCALENDAR