BEGIN:VCALENDAR
VERSION:2.0
PRODID:-//The British Beauty Council - ECPv6.14.2//NONSGML v1.0//EN
CALSCALE:GREGORIAN
METHOD:PUBLISH
X-WR-CALNAME:The British Beauty Council
X-ORIGINAL-URL:https://britishbeautycouncil.com
X-WR-CALDESC:Events for The British Beauty Council
REFRESH-INTERVAL;VALUE=DURATION:PT1H
X-Robots-Tag:noindex
X-PUBLISHED-TTL:PT1H
BEGIN:VTIMEZONE
TZID:Europe/London
BEGIN:DAYLIGHT
TZOFFSETFROM:+0000
TZOFFSETTO:+0100
TZNAME:BST
DTSTART:20250330T010000
END:DAYLIGHT
BEGIN:STANDARD
TZOFFSETFROM:+0100
TZOFFSETTO:+0000
TZNAME:GMT
DTSTART:20251026T010000
END:STANDARD
END:VTIMEZONE
BEGIN:VEVENT
DTSTART;VALUE=DATE:20250321
DTEND;VALUE=DATE:20250324
DTSTAMP:20260423T020539
CREATED:20241204T143110Z
LAST-MODIFIED:20241205T101540Z
UID:10000437-1742515200-1742774399@britishbeautycouncil.com
SUMMARY:COSMOPROF - UK Pavilion
DESCRIPTION:As the most influential global event dedicated to all facets of the beauty industry\, Cosmoprof Worldwide Bologna has been a landmark event for more than 50 years. \nCosmoprof is where companies do business and the perfect stage for the beauty trend-setters to present breakthrough product launches and innovative solutions. \nThe UK cosmetics industry has always been a familiar presence at Cosmoprof Worldwide Bologna and it’s a dynamic and fast-evolving market characterized by thousands of highly specialized small and medium-sized companies. \n  \nFind out more
URL:https://britishbeautycouncil.com/event-details/cosmoprof-uk-pavilion/
ATTACH;FMTTYPE=image/png:https://britishbeautycouncil.com/wp-content/uploads/2024/11/event-page-header-90.png
END:VEVENT
BEGIN:VEVENT
DTSTART;TZID=Europe/London:20250321T100000
DTEND;TZID=Europe/London:20250323T180000
DTSTAMP:20260423T020539
CREATED:20250310T143356Z
LAST-MODIFIED:20250310T143356Z
UID:10000468-1742551200-1742752800@britishbeautycouncil.com
SUMMARY:The Fragrance Library Presented by Space NK
DESCRIPTION:Space NK Presents The Fragrance Library. Join Space NK for a one-of-a-kind pop-up where you’ll find a collection of the world’s finest fragrances and all-new scents\, each with a unique tale that will be told through an immersive experience. Let your senses roam free as you set off on a scent adventure like no other\, on a quest to find your very own happily ever after scent story. Entry is free and there will be samples for all. \n  \n21st – 23rd March\, 10am – 6pm \nThe Vinyl Factory\, 18 Marshall Street\, W1F 7BE \n  \nFind out more
URL:https://britishbeautycouncil.com/event-details/the-fragrance-library-presented-by-space-nk/
LOCATION:The Vinyl Factory\, 18 Marshall St\, W1F 7BE\, United Kingdom
ATTACH;FMTTYPE=image/png:https://britishbeautycouncil.com/wp-content/uploads/2025/03/Event-page-header.png
ORGANIZER;CN="British Beauty Council":MAILTO:joinus@britishbeautycouncil.com
END:VEVENT
BEGIN:VEVENT
DTSTART;TZID=Europe/London:20250323T180000
DTEND;TZID=Europe/London:20250323T223000
DTSTAMP:20260423T020539
CREATED:20241205T100758Z
LAST-MODIFIED:20241205T101345Z
UID:10000444-1742752800-1742769000@britishbeautycouncil.com
SUMMARY:COSMOPROF On Hair Award
DESCRIPTION:On Hair\, the event entirely dedicated to hairstylists\, returns with the second edition of ONE DAY EVENT. Cosmoprof Worldwide Bologna’s most anticipated hair shows will be concentrated in a Sunday dedicated to talent and creativity. \nOn Hair is an event tailor-made for hairstylists and hair-care professionals who want to anticipate trends\, improve their skills and connect with industry leaders. Artistic teams and internationally renowned brands presented their collections during On Hair. \nSome of the exhibiting brands: L’Oréal Professionnel\, Matrix by Urban\, Redken\, Gamma Più\, My.Organics\, Farmaca with Genny D’Auria and Mimmo Laserra\, Gea Academy x Shot\, Fashion Mix/Xenon Group\, Revlon Professional and American Crew and many more. \n  \nFind out more
URL:https://britishbeautycouncil.com/event-details/44758/
ATTACH;FMTTYPE=image/png:https://britishbeautycouncil.com/wp-content/uploads/2024/12/event-page-header-2024-12-05t100707.213.png
ORGANIZER;CN="British Beauty Council":MAILTO:joinus@britishbeautycouncil.com
END:VEVENT
END:VCALENDAR