BEGIN:VCALENDAR
VERSION:2.0
PRODID:-//The British Beauty Council - ECPv6.14.2//NONSGML v1.0//EN
CALSCALE:GREGORIAN
METHOD:PUBLISH
X-ORIGINAL-URL:https://britishbeautycouncil.com
X-WR-CALDESC:Events for The British Beauty Council
REFRESH-INTERVAL;VALUE=DURATION:PT1H
X-Robots-Tag:noindex
X-PUBLISHED-TTL:PT1H
BEGIN:VTIMEZONE
TZID:Europe/London
BEGIN:DAYLIGHT
TZOFFSETFROM:+0000
TZOFFSETTO:+0100
TZNAME:BST
DTSTART:20250330T010000
END:DAYLIGHT
BEGIN:STANDARD
TZOFFSETFROM:+0100
TZOFFSETTO:+0000
TZNAME:GMT
DTSTART:20251026T010000
END:STANDARD
END:VTIMEZONE
BEGIN:VEVENT
DTSTART;VALUE=DATE:20250314
DTEND;VALUE=DATE:20250316
DTSTAMP:20260423T001756
CREATED:20241205T093111Z
LAST-MODIFIED:20241205T094514Z
UID:10000443-1741910400-1742083199@britishbeautycouncil.com
SUMMARY:Aesthetics Conference & Exhibition (ACE)
DESCRIPTION:Aesthetics Conference & Exhibition (ACE) is renowned for its exceptional educational programs\, cutting-edge demonstrations\, and exclusive networking opportunities. ACE empowers practitioners to remain at the forefront of the ever-evolving aesthetics field. \nBrought to you by Aesthetics\, the brand behind the Aesthetics Journal\, CCR\, and The Aesthetics Awards\, ACE helps medical professionals achieve clinical and business excellence. \n  \n  \nFind out more
URL:https://britishbeautycouncil.com/event-details/aesthetics-conference-exhibition-ace/
LOCATION:Business Design Center\, 52 Upper St.\, London\, N10QH
ATTACH;FMTTYPE=image/png:https://britishbeautycouncil.com/wp-content/uploads/2024/12/event-page-header-2024-12-05t092719.234.png
ORGANIZER;CN="British Beauty Council":MAILTO:joinus@britishbeautycouncil.com
END:VEVENT
END:VCALENDAR