BEGIN:VCALENDAR
VERSION:2.0
PRODID:-//The British Beauty Council - ECPv6.14.2//NONSGML v1.0//EN
CALSCALE:GREGORIAN
METHOD:PUBLISH
X-WR-CALNAME:The British Beauty Council
X-ORIGINAL-URL:https://britishbeautycouncil.com
X-WR-CALDESC:Events for The British Beauty Council
REFRESH-INTERVAL;VALUE=DURATION:PT1H
X-Robots-Tag:noindex
X-PUBLISHED-TTL:PT1H
BEGIN:VTIMEZONE
TZID:Europe/London
BEGIN:DAYLIGHT
TZOFFSETFROM:+0000
TZOFFSETTO:+0100
TZNAME:BST
DTSTART:20250330T010000
END:DAYLIGHT
BEGIN:STANDARD
TZOFFSETFROM:+0100
TZOFFSETTO:+0000
TZNAME:GMT
DTSTART:20251026T010000
END:STANDARD
END:VTIMEZONE
BEGIN:VEVENT
DTSTART;VALUE=DATE:20250304
DTEND;VALUE=DATE:20250314
DTSTAMP:20260423T020547
CREATED:20250217T120748Z
LAST-MODIFIED:20250217T120933Z
UID:10000457-1741046400-1741910399@britishbeautycouncil.com
SUMMARY:Made in the UK\, Sold to the Indo-Pacific: Meet the Experts 2025
DESCRIPTION:Interested in selling to South Asia and Asia Pacific regions? \n\nUnlock Your Business Potential for Growth in well-known markets such as India\, Singapore\, Japan\, and Australia\, as well as burgeoning economies like Indonesia\, Sri Lanka and Vietnam. \n\nReady to tap into one of the world’s fastest-growing regions? Join our free expert-led events across the UK. \n\nWhat’s in it for you? \n\nDirect insights from sector and market specialists\nHear from other UK companies about how they broke into the region\nLatest intelligence on high-demand sectors and opportunities\nPractical guidance and information about available support\nValuable networking with industry experts and peers\n\n\nWhy South Asia and Asia Pacific? \n\nOver £90 billion in UK exports to the region in the 12 months to September 2024\nRegion is set to drive around a quarter of global growth by 2050\nDynamic markets including India\, Singapore and Japan\nHuge potential for UK businesses\n\n\nThese exclusive events are free to attend\, with priority given to market-ready companies. \n\nFind out more
URL:https://britishbeautycouncil.com/event-details/made-in-the-uk-sold-to-the-indo-pacific-meet-the-experts-2025/
ATTACH;FMTTYPE=image/png:https://britishbeautycouncil.com/wp-content/uploads/2025/02/Event-page-header-3.png
ORGANIZER;CN="British Beauty Council":MAILTO:joinus@britishbeautycouncil.com
END:VEVENT
BEGIN:VEVENT
DTSTART;VALUE=DATE:20250305
DTEND;VALUE=DATE:20250307
DTSTAMP:20260423T020547
CREATED:20241128T163045Z
LAST-MODIFIED:20241204T094215Z
UID:10000415-1741132800-1741305599@britishbeautycouncil.com
SUMMARY:Sustainability LIVE: Net Zero
DESCRIPTION:Sustainability LIVE: Net Zero is the ultimate platform for executives dedicated to driving sustainability and achieving net zero targets within their organisations. Attendees will gain unparalleled insights from industry leaders\, engage in thought-provoking discussions\, and explore innovative strategies to enhance their sustainability initiatives. \n  \nUnlock unparalleled value with a single ticket that gets you full access to two industry-leading events. Sustainability LIVE: Net Zero co-located with Procurement & Supply Chain LIVE: Sustainability\, offers a comprehensive exploration of supply chain sustainability and Scope 3 emissions. This dual-event format provides a unique opportunity for executives to network and collaborate with peers across the sustainability and supply chain sectors\, fostering holistic approaches to environmental impact reduction. \n  \nFind out more and buy tickets
URL:https://britishbeautycouncil.com/event-details/sustainability-live-net-zero/
LOCATION:Private: Queen Elizabeth II Conference Centre\, Broad Sanctuary\, London\, SW1P 3EE
ATTACH;FMTTYPE=image/png:https://britishbeautycouncil.com/wp-content/uploads/2024/11/sustainability-live_-net-zero.png
ORGANIZER;CN="British Beauty Council":MAILTO:joinus@britishbeautycouncil.com
END:VEVENT
END:VCALENDAR