BEGIN:VCALENDAR
VERSION:2.0
PRODID:-//The British Beauty Council - ECPv6.14.2//NONSGML v1.0//EN
CALSCALE:GREGORIAN
METHOD:PUBLISH
X-ORIGINAL-URL:https://britishbeautycouncil.com
X-WR-CALDESC:Events for The British Beauty Council
REFRESH-INTERVAL;VALUE=DURATION:PT1H
X-Robots-Tag:noindex
X-PUBLISHED-TTL:PT1H
BEGIN:VTIMEZONE
TZID:Europe/London
BEGIN:DAYLIGHT
TZOFFSETFROM:+0000
TZOFFSETTO:+0100
TZNAME:BST
DTSTART:20250330T010000
END:DAYLIGHT
BEGIN:STANDARD
TZOFFSETFROM:+0100
TZOFFSETTO:+0000
TZNAME:GMT
DTSTART:20251026T010000
END:STANDARD
END:VTIMEZONE
BEGIN:VEVENT
DTSTART;VALUE=DATE:20250302
DTEND;VALUE=DATE:20250304
DTSTAMP:20260423T001803
CREATED:20241120T155627Z
LAST-MODIFIED:20241120T155627Z
UID:10000409-1740873600-1741046399@britishbeautycouncil.com
SUMMARY:International Manufacturers & Distributors Forum 2025
DESCRIPTION:IMF London returns as the must-attend event for beauty and hair industry leaders and their wider teams. This dedicated conference and networking platform brings together brand owners\, distributors\, manufacturers\, and suppliers to forge connections and explore practical business solutions. Held alongside Professional Beauty London\, the IMF is the place to gain insights on building a professional brand\, navigating routes to market\, and avoiding common pitfalls to success. \n  \nFind out more and buy tickets 
URL:https://britishbeautycouncil.com/event-details/international-manufacturers-distributors-forum-2025/
LOCATION:ExCel London\, 1 Western Gateway\, Royal Victoria Dock\, London\, E16 1XL
ATTACH;FMTTYPE=image/png:https://britishbeautycouncil.com/wp-content/uploads/2024/11/event-page-header-85.png
ORGANIZER;CN="British Beauty Council":MAILTO:joinus@britishbeautycouncil.com
END:VEVENT
END:VCALENDAR