BEGIN:VCALENDAR
VERSION:2.0
PRODID:-//The British Beauty Council - ECPv6.14.2//NONSGML v1.0//EN
CALSCALE:GREGORIAN
METHOD:PUBLISH
X-WR-CALNAME:The British Beauty Council
X-ORIGINAL-URL:https://britishbeautycouncil.com
X-WR-CALDESC:Events for The British Beauty Council
REFRESH-INTERVAL;VALUE=DURATION:PT1H
X-Robots-Tag:noindex
X-PUBLISHED-TTL:PT1H
BEGIN:VTIMEZONE
TZID:Europe/London
BEGIN:DAYLIGHT
TZOFFSETFROM:+0000
TZOFFSETTO:+0100
TZNAME:BST
DTSTART:20250330T010000
END:DAYLIGHT
BEGIN:STANDARD
TZOFFSETFROM:+0100
TZOFFSETTO:+0000
TZNAME:GMT
DTSTART:20251026T010000
END:STANDARD
END:VTIMEZONE
BEGIN:VEVENT
DTSTART;TZID=Europe/London:20250227T100000
DTEND;TZID=Europe/London:20250227T140000
DTSTAMP:20260423T103800
CREATED:20250212T160835Z
LAST-MODIFIED:20250212T161048Z
UID:10000454-1740650400-1740664800@britishbeautycouncil.com
SUMMARY:Together for Change: How the Beauty Industry Can Combat Skincare Misinformation
DESCRIPTION:No7 Beauty Company & the British Beauty Council are collaborating on an exclusive influencer education event focused on working together to improve the accuracy of online skincare information. Attendees will gain expert insights\, elevate their content\, and build trust with their audience. \n  \nThis event will feature expert talks and interactive sessions designed to empower you with the knowledge and resources to create best-in-class skincare content\, as well as being an opportunity to connect with fellow influencers and creators. \n  \nWe will be unveiling a thought leadership report and provide details on No7 Beauty Company Influencer Skin School. \n  \nNote: This is a closed\, invite-only event. \n  \n  \nFind out more about the Skin School
URL:https://britishbeautycouncil.com/event-details/together-for-change-how-the-beauty-industry-can-combat-skincare-misinformation/
LOCATION:The Hoxton\, Southwark\, London\, United Kingdom
ATTACH;FMTTYPE=image/png:https://britishbeautycouncil.com/wp-content/uploads/2025/02/Event-page-header.png
ORGANIZER;CN="British Beauty Council":MAILTO:joinus@britishbeautycouncil.com
END:VEVENT
BEGIN:VEVENT
DTSTART;TZID=Europe/London:20250227T180000
DTEND;TZID=Europe/London:20250227T230000
DTSTAMP:20260423T103800
CREATED:20241128T161416Z
LAST-MODIFIED:20241204T095339Z
UID:10000414-1740679200-1740697200@britishbeautycouncil.com
SUMMARY:TheIndustry.fashion Awards 2025
DESCRIPTION:TheIndustry.fashion People\, Planet & Purpose Awards is a brand new awards scheme for 2025 to recognise the fashion brands\, retailers and designers placing these essential three pillars at the centre of their strategies. \nThe necessary shift to sustainability and circularity for the fashion industry requires an entirely new approach to doing business\, and a committed\, motivated and diverse workforce will be crucial to delivering this. \n  \nFind out more
URL:https://britishbeautycouncil.com/event-details/theindustry-fashion-awards-2025/
LOCATION:Private: The Corinthia London\, Whitehall Pl\, London\, SW1A2BD
ATTACH;FMTTYPE=image/png:https://britishbeautycouncil.com/wp-content/uploads/2024/11/theindustry.fashion-awards.png
ORGANIZER;CN="British Beauty Council":MAILTO:joinus@britishbeautycouncil.com
END:VEVENT
END:VCALENDAR