BEGIN:VCALENDAR
VERSION:2.0
PRODID:-//The British Beauty Council - ECPv6.14.2//NONSGML v1.0//EN
CALSCALE:GREGORIAN
METHOD:PUBLISH
X-ORIGINAL-URL:https://britishbeautycouncil.com
X-WR-CALDESC:Events for The British Beauty Council
REFRESH-INTERVAL;VALUE=DURATION:PT1H
X-Robots-Tag:noindex
X-PUBLISHED-TTL:PT1H
BEGIN:VTIMEZONE
TZID:Europe/London
BEGIN:DAYLIGHT
TZOFFSETFROM:+0000
TZOFFSETTO:+0100
TZNAME:BST
DTSTART:20250330T010000
END:DAYLIGHT
BEGIN:STANDARD
TZOFFSETFROM:+0100
TZOFFSETTO:+0000
TZNAME:GMT
DTSTART:20251026T010000
END:STANDARD
END:VTIMEZONE
BEGIN:VEVENT
DTSTART;VALUE=DATE:20250127
DTEND;VALUE=DATE:20250131
DTSTAMP:20260423T103807
CREATED:20241128T110408Z
LAST-MODIFIED:20241204T120618Z
UID:10000411-1737936000-1738281599@britishbeautycouncil.com
SUMMARY:Paris Fashion Week Haute Couture 2025
DESCRIPTION:Paris Fashion Week Haute Couture showcases exclusive\, made-to-order collections from top designers. Held twice a year\, it highlights the finest in craftsmanship and design\, with each piece created by hand. This is where high fashion comes to life in its most refined form. \n\nMenswear Fall/Winter 2025-2026 from Tuesday\, January 21 to Sunday\, January 26\, 2025\nWomenswear Fall/Winter 2025-2026 from Monday\, March 3 to Tuesday\, March 11\, 2025\nMenswear Spring/Summer 2026 from Tuesday\, June 24 to Sunday\, June 29\, 2025\nWomenswear Spring/Summer 2026 from Monday\, September 29 to Tuesday\, October 7\, 2025\n\n  \nFind out more
URL:https://britishbeautycouncil.com/event-details/paris-fashion-week-haute-couture-2025/
ATTACH;FMTTYPE=image/png:https://britishbeautycouncil.com/wp-content/uploads/2024/11/bbw-events-header.png
ORGANIZER;CN="British Beauty Council":MAILTO:joinus@britishbeautycouncil.com
END:VEVENT
BEGIN:VEVENT
DTSTART;TZID=Europe/London:20250128T140000
DTEND;TZID=Europe/London:20250128T150000
DTSTAMP:20260423T103807
CREATED:20250107T160541Z
LAST-MODIFIED:20250108T144034Z
UID:10000447-1738072800-1738076400@britishbeautycouncil.com
SUMMARY:Pillar Webinar: Talent & Careers
DESCRIPTION:The British Beauty Council is dedicated to raising awareness of the clear and diverse career pathways available in beauty. In this webinar\, hear from a range of stakeholders from across the Council about the various initiatives designed to promote careers to young people\, ensure accessibility and enable career progression.  \nYou will hear about the various ways you can get involved in our talent initiatives including workplace safaris\, virtual work experience\, the Future Talent Programme and more. \nTogether\, we can maintain a continuous flow of new talent into the sector and ensure those working in industry are empowered to sustain unique careers.  \nDate: 28th January 2024\nTime: 2pm  \nThis event is for Patrons of the British Beauty Council. \n\nSign up for the webinar
URL:https://britishbeautycouncil.com/event-details/pillar-webinar-talent-careers/
ATTACH;FMTTYPE=image/png:https://britishbeautycouncil.com/wp-content/uploads/2025/01/Event-page-header-2025-01-07T160459.900.png
ORGANIZER;CN="British Beauty Council":MAILTO:joinus@britishbeautycouncil.com
END:VEVENT
END:VCALENDAR