BEGIN:VCALENDAR
VERSION:2.0
PRODID:-//The British Beauty Council - ECPv6.14.2//NONSGML v1.0//EN
CALSCALE:GREGORIAN
METHOD:PUBLISH
X-ORIGINAL-URL:https://britishbeautycouncil.com
X-WR-CALDESC:Events for The British Beauty Council
REFRESH-INTERVAL;VALUE=DURATION:PT1H
X-Robots-Tag:noindex
X-PUBLISHED-TTL:PT1H
BEGIN:VTIMEZONE
TZID:Europe/London
BEGIN:DAYLIGHT
TZOFFSETFROM:+0000
TZOFFSETTO:+0100
TZNAME:BST
DTSTART:20250330T010000
END:DAYLIGHT
BEGIN:STANDARD
TZOFFSETFROM:+0100
TZOFFSETTO:+0000
TZNAME:GMT
DTSTART:20251026T010000
END:STANDARD
END:VTIMEZONE
BEGIN:VEVENT
DTSTART;VALUE=DATE:20250122
DTEND;VALUE=DATE:20250125
DTSTAMP:20260423T090554
CREATED:20241204T142814Z
LAST-MODIFIED:20260127T103930Z
UID:10000436-1737504000-1737763199@britishbeautycouncil.com
SUMMARY:Skin of Colours Training Conference 2025
DESCRIPTION:SOCTUK’s aim is to ensure that no one’s dermatological care is unnecessarily delayed due to a lack of experience with managing black and brown skin. Since 2021\, they have had yearly conferences with guest speakers from all over the world teaching Dermatologists\, GPs\, nurses\, trainees and medical students how best to recognise and treat skin conditions that might look slightly different depending on the colour of one’s skin. \nLately\, professionals outside of healthcare\, such as hairdressers and aestheticians and the public are keen to in increase their own awareness of skin conditions in darker skin types. Thus\, SOCTUK has organised a ½ day pre-meeting on Wednesday\, January 22\, 2025 to do exactly that. The theme of the event is ‘Getting it right the first time’. This exciting meeting\, which focuses on hair and aesthetic concerns\, is one of the few of its kind worldwide. \nThe SOCTUK 2025 pre-meeting is sponsored by Eucerin’s Social Mission programme aimed at reducing health inequalities in the UK and beyond. They are also partnering with the British Skin Foundation to ensure that they reach the right audience – you! \n  \nFind out more and buy tickets\n 
URL:https://britishbeautycouncil.com/event-details/skin-of-colours-training-conference-2025/
ATTACH;FMTTYPE=image/png:https://britishbeautycouncil.com/wp-content/uploads/2024/12/Event-page-header-2.png
ORGANIZER;CN="British Beauty Council":MAILTO:joinus@britishbeautycouncil.com
END:VEVENT
END:VCALENDAR