BEGIN:VCALENDAR
VERSION:2.0
PRODID:-//The British Beauty Council - ECPv6.14.2//NONSGML v1.0//EN
CALSCALE:GREGORIAN
METHOD:PUBLISH
X-WR-CALNAME:The British Beauty Council
X-ORIGINAL-URL:https://britishbeautycouncil.com
X-WR-CALDESC:Events for The British Beauty Council
REFRESH-INTERVAL;VALUE=DURATION:PT1H
X-Robots-Tag:noindex
X-PUBLISHED-TTL:PT1H
BEGIN:VTIMEZONE
TZID:Europe/London
BEGIN:DAYLIGHT
TZOFFSETFROM:+0000
TZOFFSETTO:+0100
TZNAME:BST
DTSTART:20240331T010000
END:DAYLIGHT
BEGIN:STANDARD
TZOFFSETFROM:+0100
TZOFFSETTO:+0000
TZNAME:GMT
DTSTART:20241027T010000
END:STANDARD
END:VTIMEZONE
BEGIN:VEVENT
DTSTART;VALUE=DATE:20241111
DTEND;VALUE=DATE:20241125
DTSTAMP:20260424T035503
CREATED:20231215T103440Z
LAST-MODIFIED:20240219T154542Z
UID:10000350-1731283200-1732492799@britishbeautycouncil.com
SUMMARY:COP29 (2024 UN Climate Change Conference)
DESCRIPTION:Cop29 will take place in November 2024\, bringing together international delegates and stakeholders from across the globe. The 2024 summit will take place in Azerbaijan\, following Cop28 in Dubai\, with the aim to resolve how nations can attain their environmental targets in line with the Paris agreement. \nEvent Details:  \nDate: 11th-24th November 2024 (tentative)  \nLocation: Azerbaijan \n 
URL:https://britishbeautycouncil.com/event-details/cop29-2024-un-climate-change-conference/
ATTACH;FMTTYPE=image/png:https://britishbeautycouncil.com/wp-content/uploads/2023/12/Event-page-header-2024-01-09T133437.378.png
END:VEVENT
BEGIN:VEVENT
DTSTART;VALUE=DATE:20241118
DTEND;VALUE=DATE:20241120
DTSTAMP:20260424T035503
CREATED:20240709T142222Z
LAST-MODIFIED:20240709T142417Z
UID:10000398-1731888000-1732060799@britishbeautycouncil.com
SUMMARY:G20 Summit
DESCRIPTION:Brazil will host the G20 leaders’ Summit in Rio de Janeiro. The G20 is formed by the African Union\, the European Union and 19 countries: Argentina\, Australia\, Brazil\, Canada\, China\, Germany\, France\, India\, Indonesia\, Italy\, Japan\, the Republic of Korea\, Mexico\, the Russian Federation\, Saudi Arabia\, South Africa\, Turkey\, the UK\, and the US. \nThe main agenda is discussing ways of dealing with global challenges\, such as finance\, sustainable infrastructure\, and climate change. \n  \nEvent Details:  \nDate: 18-19 November 2024 \nLocation: Brazil\, Rio de Janeiro
URL:https://britishbeautycouncil.com/event-details/g20-leaders-summit/
ATTACH;FMTTYPE=image/png:https://britishbeautycouncil.com/wp-content/uploads/2024/07/g20_brazil.2e16d0ba.fill-1440x900-1.png
END:VEVENT
BEGIN:VEVENT
DTSTART;TZID=Europe/London:20241118T180000
DTEND;TZID=Europe/London:20241118T203000
DTSTAMP:20260424T035503
CREATED:20240903T102837Z
LAST-MODIFIED:20240903T103034Z
UID:10000402-1731952800-1731961800@britishbeautycouncil.com
SUMMARY:Medieval Get Ready with Me
DESCRIPTION:A fun and innovative panel event exploring the history of cosmetics\, fragrances and treatments\, along with some medieval beauty tips and trials. The journalist Anita Bhagwandas will be taking part with Professor Jill Burke and curator Amber Butchart. \nThis event accompanies the British Library exhibition Medieval Women: In Their Own Words (25 October – 2 March 2025) \nEvent Details:\nMonday 18 November 2024\nDoors Open: 18:00\nStarts: 19:00: 20:30 \nLocation: British Library Knowledge Centre Pigott Theatre\, NW1 2DB \n\n  \nGet Tickets Here
URL:https://britishbeautycouncil.com/event-details/medieval-get-ready-with-me/
ATTACH;FMTTYPE=image/png:https://britishbeautycouncil.com/wp-content/uploads/2024/09/event-page-header.png
ORGANIZER;CN="British Beauty Council":MAILTO:joinus@britishbeautycouncil.com
END:VEVENT
END:VCALENDAR