BEGIN:VCALENDAR
VERSION:2.0
PRODID:-//The British Beauty Council - ECPv6.14.2//NONSGML v1.0//EN
CALSCALE:GREGORIAN
METHOD:PUBLISH
X-WR-CALNAME:The British Beauty Council
X-ORIGINAL-URL:https://britishbeautycouncil.com
X-WR-CALDESC:Events for The British Beauty Council
REFRESH-INTERVAL;VALUE=DURATION:PT1H
X-Robots-Tag:noindex
X-PUBLISHED-TTL:PT1H
BEGIN:VTIMEZONE
TZID:Europe/London
BEGIN:DAYLIGHT
TZOFFSETFROM:+0000
TZOFFSETTO:+0100
TZNAME:BST
DTSTART:20240331T010000
END:DAYLIGHT
BEGIN:STANDARD
TZOFFSETFROM:+0100
TZOFFSETTO:+0000
TZNAME:GMT
DTSTART:20241027T010000
END:STANDARD
END:VTIMEZONE
BEGIN:VEVENT
DTSTART;TZID=Europe/London:20240730T153000
DTEND;TZID=Europe/London:20240730T163000
DTSTAMP:20260425T132115
CREATED:20240529T094425Z
LAST-MODIFIED:20240723T153127Z
UID:10000388-1722353400-1722357000@britishbeautycouncil.com
SUMMARY:My Writing Journey with Sonia Haria and Kathleen Baird-Murray
DESCRIPTION:On August 1st\, beauty journalist and self-confessed fanatic Sonia Haria will be releasing her book\, ‘South Asian Beauty’. In this webinar\, Kathleen Baird-Murray\, Contributor on British Vogue\, will pick Haria’s brains on beauty standards\, writing\, representation and more. \n\n  \nTo receive the exclusive recording\, please email nicole@britishbeautycouncil.com
URL:https://britishbeautycouncil.com/event-details/my-writing-journey-with-sonia-haria-and-anita-bhagwandas/
ATTACH;FMTTYPE=image/png:https://britishbeautycouncil.com/wp-content/uploads/2024/05/event-page-header-3.png
ORGANIZER;CN="British Beauty Council":MAILTO:joinus@britishbeautycouncil.com
END:VEVENT
END:VCALENDAR