BEGIN:VCALENDAR
VERSION:2.0
PRODID:-//The British Beauty Council - ECPv6.14.2//NONSGML v1.0//EN
CALSCALE:GREGORIAN
METHOD:PUBLISH
X-ORIGINAL-URL:https://britishbeautycouncil.com
X-WR-CALDESC:Events for The British Beauty Council
REFRESH-INTERVAL;VALUE=DURATION:PT1H
X-Robots-Tag:noindex
X-PUBLISHED-TTL:PT1H
BEGIN:VTIMEZONE
TZID:Europe/London
BEGIN:DAYLIGHT
TZOFFSETFROM:+0000
TZOFFSETTO:+0100
TZNAME:BST
DTSTART:20240331T010000
END:DAYLIGHT
BEGIN:STANDARD
TZOFFSETFROM:+0100
TZOFFSETTO:+0000
TZNAME:GMT
DTSTART:20241027T010000
END:STANDARD
END:VTIMEZONE
BEGIN:VEVENT
DTSTART;VALUE=DATE:20240622
DTEND;VALUE=DATE:20240625
DTSTAMP:20260426T023618
CREATED:20240520T104027Z
LAST-MODIFIED:20240528T142917Z
UID:10000353-1719014400-1719273599@britishbeautycouncil.com
SUMMARY:HairCon 2024
DESCRIPTION:Introducing HairCon\, a premier trade event designed to ignite creativity\, inspiration\, and innovation to shape the future of hair. \nTaking place in Manchester from the 22-24 June\, the event is brought to you by a coalition of ten industry-leading brands unite to craft an unparalleled experience. Including British Beauty Council Patrons Vagaro\, the collaborators have put together a programme of tutorials\, presentations and parties that are set to bring the hair industry together in brand new ways. \nSalon owners\, buyers\, and managers will find immense value in the event\, as it offers a unique opportunity to discover cutting-edge products and techniques\, establish connections with industry-leading brands\, and gain insights to elevate their salons. What’s more\, the event will provide emerging talent with the chance to learn from leading mentors and industry icons\, showcase their skills on a global stage\, and immerse themselves in a world of creativity and inspiration. \nKey details:Date: 22-24 June 2024Venue: O2 Apollo Manchester\, Stockport Rd\, Manchester M12 6AP \nBritish Beauty Council Members are eligible for 10% off tickets for HairCon\, use the code ‘BBC10’ at checkout.  \n  \nBuy tickets here
URL:https://britishbeautycouncil.com/event-details/haircon-2024-2/
LOCATION:O2 Apollo Manchester\, M12 6AP
ATTACH;FMTTYPE=image/png:https://britishbeautycouncil.com/wp-content/uploads/2024/01/Event-page-header-44.png
ORGANIZER;CN="British Beauty Council":MAILTO:joinus@britishbeautycouncil.com
END:VEVENT
END:VCALENDAR