BEGIN:VCALENDAR
VERSION:2.0
PRODID:-//The British Beauty Council - ECPv6.14.2//NONSGML v1.0//EN
CALSCALE:GREGORIAN
METHOD:PUBLISH
X-ORIGINAL-URL:https://britishbeautycouncil.com
X-WR-CALDESC:Events for The British Beauty Council
REFRESH-INTERVAL;VALUE=DURATION:PT1H
X-Robots-Tag:noindex
X-PUBLISHED-TTL:PT1H
BEGIN:VTIMEZONE
TZID:Europe/London
BEGIN:DAYLIGHT
TZOFFSETFROM:+0000
TZOFFSETTO:+0100
TZNAME:BST
DTSTART:20240331T010000
END:DAYLIGHT
BEGIN:STANDARD
TZOFFSETFROM:+0100
TZOFFSETTO:+0000
TZNAME:GMT
DTSTART:20241027T010000
END:STANDARD
END:VTIMEZONE
BEGIN:VEVENT
DTSTART;TZID=Europe/London:20240613T110000
DTEND;TZID=Europe/London:20240613T120000
DTSTAMP:20260425T232344
CREATED:20240524T064253Z
LAST-MODIFIED:20240529T130101Z
UID:10000386-1718276400-1718280000@britishbeautycouncil.com
SUMMARY:Circana X British Beauty Council: Prestige Beauty 2024 in Context
DESCRIPTION:As beauty and consumer behaviour evolves\, you need to understand the key themes affecting retail in 2024. \nPrice\, well-being\, and dupe culture are just a few topics our beauty industry analysts will discuss in this session. You’ll get tailored insights for a clear view of what’s happening in beauty in the UK and globally. \nSpeakers: \n\nMathilde Lion – Industry Analyst\, Europe Beauty. Circana\nEmma Fishwick – Account Director\, UK Beauty. Circana\nFrédérique Tutt – Vice President\, Industry Advisor\, Global Toys\n\nDate and Time: Jun 13\, 2024 11:00 AM BST\nLocation: Virtual \nSign up here
URL:https://britishbeautycouncil.com/event-details/circana-x-british-beauty-council/
ATTACH;FMTTYPE=image/jpeg:https://britishbeautycouncil.com/wp-content/uploads/2024/05/uk-prestige-beauty-webinar-graphic-with-bbc_900x600_v3.jpg
ORGANIZER;CN="British Beauty Council":MAILTO:joinus@britishbeautycouncil.com
END:VEVENT
END:VCALENDAR