BEGIN:VCALENDAR
VERSION:2.0
PRODID:-//The British Beauty Council - ECPv6.14.2//NONSGML v1.0//EN
CALSCALE:GREGORIAN
METHOD:PUBLISH
X-ORIGINAL-URL:https://britishbeautycouncil.com
X-WR-CALDESC:Events for The British Beauty Council
REFRESH-INTERVAL;VALUE=DURATION:PT1H
X-Robots-Tag:noindex
X-PUBLISHED-TTL:PT1H
BEGIN:VTIMEZONE
TZID:Europe/London
BEGIN:DAYLIGHT
TZOFFSETFROM:+0000
TZOFFSETTO:+0100
TZNAME:BST
DTSTART:20240331T010000
END:DAYLIGHT
BEGIN:STANDARD
TZOFFSETFROM:+0100
TZOFFSETTO:+0000
TZNAME:GMT
DTSTART:20241027T010000
END:STANDARD
END:VTIMEZONE
BEGIN:VEVENT
DTSTART;TZID=Europe/London:20240611T173000
DTEND;TZID=Europe/London:20240611T180000
DTSTAMP:20260426T023605
CREATED:20240529T091949Z
LAST-MODIFIED:20240529T142225Z
UID:10000387-1718127000-1718128800@britishbeautycouncil.com
SUMMARY:INSTAGRAM LIVE: A Beauty Industry That Looks Like You
DESCRIPTION:As we enter Pride Month\, join DEI Committee members Jack Oliver and Joseph Harwood as they uncover the Council’s new campaign designed to uncover the true makeup of the industry. The pair will share their experiences as members of the LGBTQAI+ community in the beauty industry. Committee chair\, Sharon Lloyd\, will also be joining the conversation. \nDetails:  \nDate and time: 11th June\, 5:30pm – 6:00pm\nLocation: Virtual \n  \nFollow the British Beauty Council and tune in
URL:https://britishbeautycouncil.com/event-details/instagram-live-a-beauty-industry-that-looks-like-you/
CATEGORIES:public
ATTACH;FMTTYPE=image/png:https://britishbeautycouncil.com/wp-content/uploads/2024/05/event-page-header-1.png
ORGANIZER;CN="British Beauty Council":MAILTO:joinus@britishbeautycouncil.com
END:VEVENT
END:VCALENDAR