BEGIN:VCALENDAR
VERSION:2.0
PRODID:-//The British Beauty Council - ECPv6.14.2//NONSGML v1.0//EN
CALSCALE:GREGORIAN
METHOD:PUBLISH
X-ORIGINAL-URL:https://britishbeautycouncil.com
X-WR-CALDESC:Events for The British Beauty Council
REFRESH-INTERVAL;VALUE=DURATION:PT1H
X-Robots-Tag:noindex
X-PUBLISHED-TTL:PT1H
BEGIN:VTIMEZONE
TZID:Europe/London
BEGIN:DAYLIGHT
TZOFFSETFROM:+0000
TZOFFSETTO:+0100
TZNAME:BST
DTSTART:20240331T010000
END:DAYLIGHT
BEGIN:STANDARD
TZOFFSETFROM:+0100
TZOFFSETTO:+0000
TZNAME:GMT
DTSTART:20241027T010000
END:STANDARD
END:VTIMEZONE
BEGIN:VEVENT
DTSTART;VALUE=DATE:20240605
DTEND;VALUE=DATE:20240606
DTSTAMP:20260426T023631
CREATED:20240515T132017Z
LAST-MODIFIED:20240524T064818Z
UID:10000383-1717545600-1717631999@britishbeautycouncil.com
SUMMARY:British Beauty Council X JCDecaux: Accessibility in beauty advertising
DESCRIPTION:To celebrate the launch of the British Beauty Council’s new campaign ‘A Beauty Industry That Looks Like You‘\, join brand experts and leading voices from JCDecaux – leading Out-Of-Home media owner- to learn about the accessibility of beauty advertising. \nKey Details: \nDate: Wednesday 5th June\, 2024\nTime: 09:30 – 11:30 \nLocation: JCDecaux UK\n \n  \nThis event is by invitation only
URL:https://britishbeautycouncil.com/event-details/british-beauty-council-x-jcdecaux-the-beauty-review/
LOCATION:JCDecaux\, 27 Sale Place\, London\, W2 1YR
ATTACH;FMTTYPE=image/png:https://britishbeautycouncil.com/wp-content/uploads/2024/05/event-page-header-66.png
ORGANIZER;CN="British Beauty Council":MAILTO:joinus@britishbeautycouncil.com
END:VEVENT
END:VCALENDAR