BEGIN:VCALENDAR
VERSION:2.0
PRODID:-//The British Beauty Council - ECPv6.14.2//NONSGML v1.0//EN
CALSCALE:GREGORIAN
METHOD:PUBLISH
X-WR-CALNAME:The British Beauty Council
X-ORIGINAL-URL:https://britishbeautycouncil.com
X-WR-CALDESC:Events for The British Beauty Council
REFRESH-INTERVAL;VALUE=DURATION:PT1H
X-Robots-Tag:noindex
X-PUBLISHED-TTL:PT1H
BEGIN:VTIMEZONE
TZID:Europe/London
BEGIN:DAYLIGHT
TZOFFSETFROM:+0000
TZOFFSETTO:+0100
TZNAME:BST
DTSTART:20240331T010000
END:DAYLIGHT
BEGIN:STANDARD
TZOFFSETFROM:+0100
TZOFFSETTO:+0000
TZNAME:GMT
DTSTART:20241027T010000
END:STANDARD
END:VTIMEZONE
BEGIN:VEVENT
DTSTART;TZID=Europe/London:20240526T103000
DTEND;TZID=Europe/London:20240527T180000
DTSTAMP:20260425T164005
CREATED:20240430T131311Z
LAST-MODIFIED:20240430T132101Z
UID:10000382-1716719400-1716832800@britishbeautycouncil.com
SUMMARY:Afro Hair & Beauty Live
DESCRIPTION:Afro Hair & Beauty Live\, Europe’s largest beauty show is back on 26-27 May 2024. Taking place at the Business Design Centre in Islington\, this event will celebrate everything hair\, beauty\, fashion and lifestyle. \nDiscover the latest trends in hair (of every texture\, colour\, and style)\, beauty\, and fashion through free seminars and workshops with a selection of specialists. Seek out tips and guidance from award-winning professionals\, check out the latest fashion offerings from lifestyle designers\, and attend on-the-spot makeovers\, hair competitions\, and eco-friendly and sustainable fashion shows. \nEvent Details: \nDate: 26-27 May 2024 \nShow Opening Hours: 10.30am–6.00pm \nTickets: £15 on the door or £12 in advance through Eventbrite. \n  \nRegister Here
URL:https://britishbeautycouncil.com/event-details/afro-hair-beauty-live/
ATTACH;FMTTYPE=image/png:https://britishbeautycouncil.com/wp-content/uploads/2024/04/event-page-header-2.png
END:VEVENT
END:VCALENDAR