BEGIN:VCALENDAR
VERSION:2.0
PRODID:-//The British Beauty Council - ECPv6.14.2//NONSGML v1.0//EN
CALSCALE:GREGORIAN
METHOD:PUBLISH
X-ORIGINAL-URL:https://britishbeautycouncil.com
X-WR-CALDESC:Events for The British Beauty Council
REFRESH-INTERVAL;VALUE=DURATION:PT1H
X-Robots-Tag:noindex
X-PUBLISHED-TTL:PT1H
BEGIN:VTIMEZONE
TZID:Europe/London
BEGIN:DAYLIGHT
TZOFFSETFROM:+0000
TZOFFSETTO:+0100
TZNAME:BST
DTSTART:20240331T010000
END:DAYLIGHT
BEGIN:STANDARD
TZOFFSETFROM:+0100
TZOFFSETTO:+0000
TZNAME:GMT
DTSTART:20241027T010000
END:STANDARD
END:VTIMEZONE
BEGIN:VEVENT
DTSTART;TZID=Europe/London:20240513T093000
DTEND;TZID=Europe/London:20240513T123000
DTSTAMP:20260426T005857
CREATED:20240424T132502Z
LAST-MODIFIED:20240424T194732Z
UID:10000380-1715592600-1715603400@britishbeautycouncil.com
SUMMARY:British Beauty Council Think Tank 2024
DESCRIPTION:As the Council reaches the end of its three year roadmap\, the British Beauty Council welcomes its stakeholders to collaborate on its upcoming activity. \nOn May 13\, following a presentation from leading data insight organisations\, we invite our stakeholders to collaborate and share expertise to propel the Council’s future initiatives. \nKey Details:Date: May 13\, 2024Time: 09:30 – 12:30Location: The Savoy\, River Entrance\, Savoy Place\, WC2H 0BP \nLog in to your account and return to this page to sign up.
URL:https://britishbeautycouncil.com/event-details/british-beauty-council-think-tank-2024/
LOCATION:The Savoy\, River Entrance\, Savoy Place\, WC2H 0BP
CATEGORIES:business
ATTACH;FMTTYPE=image/png:https://britishbeautycouncil.com/wp-content/uploads/2024/04/think-tank-1.png
ORGANIZER;CN="British Beauty Council":MAILTO:joinus@britishbeautycouncil.com
END:VEVENT
END:VCALENDAR