BEGIN:VCALENDAR
VERSION:2.0
PRODID:-//The British Beauty Council - ECPv6.14.2//NONSGML v1.0//EN
CALSCALE:GREGORIAN
METHOD:PUBLISH
X-ORIGINAL-URL:https://britishbeautycouncil.com
X-WR-CALDESC:Events for The British Beauty Council
REFRESH-INTERVAL;VALUE=DURATION:PT1H
X-Robots-Tag:noindex
X-PUBLISHED-TTL:PT1H
BEGIN:VTIMEZONE
TZID:Europe/London
BEGIN:DAYLIGHT
TZOFFSETFROM:+0000
TZOFFSETTO:+0100
TZNAME:BST
DTSTART:20240331T010000
END:DAYLIGHT
BEGIN:STANDARD
TZOFFSETFROM:+0100
TZOFFSETTO:+0000
TZNAME:GMT
DTSTART:20241027T010000
END:STANDARD
END:VTIMEZONE
BEGIN:VEVENT
DTSTART;TZID=Europe/London:20240425T083000
DTEND;TZID=Europe/London:20240425T100000
DTSTAMP:20260426T023117
CREATED:20240404T162816Z
LAST-MODIFIED:20240404T162920Z
UID:10000373-1714033800-1714039200@britishbeautycouncil.com
SUMMARY:British Beauty Council X Grown Alchemist: The Sharper Edge of Wellness
DESCRIPTION:Grown Alchemist and the British Beauty Council are collaborating to host a panel discussion unravelling the beauty biohacking boom. \nIndustry experts from across the wellness\, skincare and science scene will uncover the role that biology plays in our modern beauty routines. \nSpeakers:  \n\nAnna Teal – CEO of Grown Alchemist.\nDavina Taylor – Entrepreneur\, Sunday Times Number 1 best-selling author.\nDr. Vali – Co-Founder and CEO of LMS Wellness.\nLisa Payne – Head of Beauty\, Stylus.\n\nMillie Kendall OBE\, will provide an introduction at the event. \n\nThis event is for board members of the Council
URL:https://britishbeautycouncil.com/event-details/grown-alchemist-the-sharper-edge-of-wellness/
ATTACH;FMTTYPE=image/png:https://britishbeautycouncil.com/wp-content/uploads/2024/04/event-page-header-60.png
END:VEVENT
BEGIN:VEVENT
DTSTART;TZID=Europe/London:20240425T110000
DTEND;TZID=Europe/London:20240425T120000
DTSTAMP:20260426T023117
CREATED:20240405T085536Z
LAST-MODIFIED:20240405T085536Z
UID:10000374-1714042800-1714046400@britishbeautycouncil.com
SUMMARY:Department for Business and Trade: How to succeed in the Indian Beauty market
DESCRIPTION:UK & India DBT teams are hosting a webinar to discuss the opportunity\, for British Beauty in India. India is the 4th biggest market globally for beauty and personal care with significant double-digit growth forecasted to 2030. \nOn Thursday 25th April at 11am\, the team will be joined by Nykaa\, India’s number one ecommerce market place\, to find out what it takes to succeed in the world’s fastest growing Beauty market. \nBritish brands The Gel Bottle and Nature’s Spell will share their first hand experience of exhibiting at Cosmoprof India in December 2023. \nThe DBT Digital Exporting team\, and the British Embassy Trade team in India will also explain how the Department of Business and Trade can support you in exporting to this exciting Beauty market. \n\nSign up for the event here
URL:https://britishbeautycouncil.com/event-details/how-to-succeed-in-the-indian-beauty-market/
CATEGORIES:business,public,trade
ATTACH;FMTTYPE=image/png:https://britishbeautycouncil.com/wp-content/uploads/2024/04/event-page-header-61.png
END:VEVENT
END:VCALENDAR