BEGIN:VCALENDAR
VERSION:2.0
PRODID:-//The British Beauty Council - ECPv6.14.2//NONSGML v1.0//EN
CALSCALE:GREGORIAN
METHOD:PUBLISH
X-WR-CALNAME:The British Beauty Council
X-ORIGINAL-URL:https://britishbeautycouncil.com
X-WR-CALDESC:Events for The British Beauty Council
REFRESH-INTERVAL;VALUE=DURATION:PT1H
X-Robots-Tag:noindex
X-PUBLISHED-TTL:PT1H
BEGIN:VTIMEZONE
TZID:Europe/London
BEGIN:DAYLIGHT
TZOFFSETFROM:+0000
TZOFFSETTO:+0100
TZNAME:BST
DTSTART:20240331T010000
END:DAYLIGHT
BEGIN:STANDARD
TZOFFSETFROM:+0100
TZOFFSETTO:+0000
TZNAME:GMT
DTSTART:20241027T010000
END:STANDARD
END:VTIMEZONE
BEGIN:VEVENT
DTSTART;VALUE=DATE:20240303
DTEND;VALUE=DATE:20240305
DTSTAMP:20260426T041816
CREATED:20231214T100736Z
LAST-MODIFIED:20240109T125914Z
UID:10000343-1709424000-1709596799@britishbeautycouncil.com
SUMMARY:Professional Beauty London
DESCRIPTION:The UK’s leading event for beauty professionals is back in March 2024! Join a range of industry experts\, salon owners\, colleges\, and others who wish to explore a career in the beauty industry. \nThe event will be an opportunity to spot upcoming trends\, to network with other like-minded professionals\, and to learn new skills! Professional Beauty especially encourage those beginning their journey in the beauty industry to join\, offering educational competitions and forums for students. \nEvent details: \nDate: 3rd-4th March 2024 \nLocation: ExCeL London \n  \nRegister here to attend
URL:https://britishbeautycouncil.com/event-details/professional-beauty-london/
LOCATION:ExCel London\, 1 Western Gateway\, Royal Victoria Dock\, London\, E16 1XL
ATTACH;FMTTYPE=image/png:https://britishbeautycouncil.com/wp-content/uploads/2023/12/Event-page-header-2024-01-09T125711.146.png
END:VEVENT
BEGIN:VEVENT
DTSTART;VALUE=DATE:20240303
DTEND;VALUE=DATE:20240305
DTSTAMP:20260426T041816
CREATED:20231214T104323Z
LAST-MODIFIED:20240109T132417Z
UID:10000344-1709424000-1709596799@britishbeautycouncil.com
SUMMARY:IMF- International Manufacturers & Distributors Forum
DESCRIPTION:The International Manufacturers & Distributors Forum will return to Professional Beauty London in March 2024. The event provides a key opportunity for manufacturers\, distributors and brand owners to gather in order to identify and discuss the challenges facing the industry. \nThose in attendance will have a chance to find solutions to such challenges\, as well as network and find their potential next distributor. \nEvent Details: \nDate: 3rd-4th March 2024 \nLocation: ExCel London \n  \nBuy a ticket here
URL:https://britishbeautycouncil.com/event-details/imf-international-manufacturers-distributors-forum/
LOCATION:ExCel London\, 1 Western Gateway\, Royal Victoria Dock\, London\, E16 1XL
ATTACH;FMTTYPE=image/png:https://britishbeautycouncil.com/wp-content/uploads/2023/12/Event-page-header-2024-01-09T132348.018.png
END:VEVENT
END:VCALENDAR